BEGIN:VCALENDAR
VERSION:2.0
PRODID:-//Lighthouse of Hope Church - ECPv6.15.20//NONSGML v1.0//EN
CALSCALE:GREGORIAN
METHOD:PUBLISH
X-WR-CALNAME:Lighthouse of Hope Church
X-ORIGINAL-URL:https://myloh.church
X-WR-CALDESC:Events for Lighthouse of Hope Church
REFRESH-INTERVAL;VALUE=DURATION:PT1H
X-Robots-Tag:noindex
X-PUBLISHED-TTL:PT1H
BEGIN:VTIMEZONE
TZID:America/New_York
BEGIN:DAYLIGHT
TZOFFSETFROM:-0500
TZOFFSETTO:-0400
TZNAME:EDT
DTSTART:20240310T070000
END:DAYLIGHT
BEGIN:STANDARD
TZOFFSETFROM:-0400
TZOFFSETTO:-0500
TZNAME:EST
DTSTART:20241103T060000
END:STANDARD
BEGIN:DAYLIGHT
TZOFFSETFROM:-0500
TZOFFSETTO:-0400
TZNAME:EDT
DTSTART:20250309T070000
END:DAYLIGHT
BEGIN:STANDARD
TZOFFSETFROM:-0400
TZOFFSETTO:-0500
TZNAME:EST
DTSTART:20251102T060000
END:STANDARD
BEGIN:DAYLIGHT
TZOFFSETFROM:-0500
TZOFFSETTO:-0400
TZNAME:EDT
DTSTART:20260308T070000
END:DAYLIGHT
BEGIN:STANDARD
TZOFFSETFROM:-0400
TZOFFSETTO:-0500
TZNAME:EST
DTSTART:20261101T060000
END:STANDARD
END:VTIMEZONE
BEGIN:VTIMEZONE
TZID:UTC
BEGIN:STANDARD
TZOFFSETFROM:+0000
TZOFFSETTO:+0000
TZNAME:UTC
DTSTART:20240101T000000
END:STANDARD
END:VTIMEZONE
BEGIN:VEVENT
DTSTART;TZID=America/New_York:20250420T080000
DTEND;TZID=America/New_York:20250420T093000
DTSTAMP:20260426T025325
CREATED:20250401T213647Z
LAST-MODIFIED:20250401T213647Z
UID:10000746-1745136000-1745141400@myloh.church
SUMMARY:Easter @ LOH - 8 AM
DESCRIPTION:Join us this Easter to experience and celebrate the hope\, peace\, and victory of Jesus. To ensure everyone is able to attend\, please reserve your seats in advance. The service includes encouraging worship\, stories of real life change\, and an uplifting message about the hope we have in Jesus. \n– Please reserve a seat for everyone in your party (do not include children who will be sitting on an adult’s lap). \n– If your plans change\, please cancel your reservation using the confirmation email. Please do not offer seats on social media or elsewhere.
URL:https://myloh.church/event/easter-loh-8-am/
LOCATION:Lighthouse of Hope (LOH Church)\, 11507 Moss Ave.\, Cumberland\, MD\, 21502\, United States
ATTACH;FMTTYPE=image/jpeg:https://myloh.church/wp-content/uploads/2025/04/easter-hero.jpg
ORGANIZER;CN="LOH Church":MAILTO:office@myloh.church
END:VEVENT
BEGIN:VEVENT
DTSTART;TZID=America/New_York:20250420T100000
DTEND;TZID=America/New_York:20250420T113000
DTSTAMP:20260426T025325
CREATED:20250401T214137Z
LAST-MODIFIED:20250401T214137Z
UID:10000747-1745143200-1745148600@myloh.church
SUMMARY:Easter @ LOH - 10 AM
DESCRIPTION:Join us this Easter to experience and celebrate the hope\, peace\, and victory of Jesus. To ensure everyone is able to attend\, please reserve your seats in advance. The service includes encouraging worship\, stories of real life change\, and an uplifting message about the hope we have in Jesus. \n– Please reserve a seat for everyone in your party (do not include children who will be sitting on an adult’s lap). \n– If your plans change\, please cancel your reservation using the confirmation email. Please do not offer seats on social media or elsewhere.
URL:https://myloh.church/event/easter-loh-10-am/
LOCATION:Lighthouse of Hope (LOH Church)\, 11507 Moss Ave.\, Cumberland\, MD\, 21502\, United States
ATTACH;FMTTYPE=image/jpeg:https://myloh.church/wp-content/uploads/2025/04/easter-hero.jpg
ORGANIZER;CN="LOH Church":MAILTO:office@myloh.church
END:VEVENT
BEGIN:VEVENT
DTSTART;TZID=UTC:20250420T180000
DTEND;TZID=UTC:20250420T200000
DTSTAMP:20260426T025325
CREATED:20241119T190330Z
LAST-MODIFIED:20250123T171729Z
UID:10000323-1745172000-1745179200@myloh.church
SUMMARY:MOVE Students
DESCRIPTION:MOVE Home is for middle and high school students curious about faith and eager to discover how a relationship with Jesus could change their lives\, their schools and city. \nOn Sunday afternoons\, students meet up with their friends for live worship\, practical teaching\, and small group conversation guided by adult leaders who care about them.
URL:https://myloh.church/event/move-students-8/2025-04-20/
LOCATION:Lighthouse of Hope (LOH Church)\, 11507 Moss Ave.\, Cumberland\, MD\, 21502\, United States
CATEGORIES:MOVE Students
ATTACH;FMTTYPE=image/jpeg:https://myloh.church/wp-content/uploads/2024/11/Web-Compressed-5.jpg
ORGANIZER;CN="LOH Church":MAILTO:office@myloh.church
END:VEVENT
END:VCALENDAR