BEGIN:VCALENDAR
VERSION:2.0
PRODID:-//Lighthouse of Hope Church - ECPv6.15.20//NONSGML v1.0//EN
CALSCALE:GREGORIAN
METHOD:PUBLISH
X-WR-CALNAME:Lighthouse of Hope Church
X-ORIGINAL-URL:https://myloh.church
X-WR-CALDESC:Events for Lighthouse of Hope Church
REFRESH-INTERVAL;VALUE=DURATION:PT1H
X-Robots-Tag:noindex
X-PUBLISHED-TTL:PT1H
BEGIN:VTIMEZONE
TZID:UTC
BEGIN:STANDARD
TZOFFSETFROM:+0000
TZOFFSETTO:+0000
TZNAME:UTC
DTSTART:20270101T000000
END:STANDARD
END:VTIMEZONE
BEGIN:VEVENT
DTSTART;TZID=UTC:20280529T180000
DTEND;TZID=UTC:20280529T203000
DTSTAMP:20260426T002240
CREATED:20250123T171614Z
LAST-MODIFIED:20250123T171614Z
UID:10000219-1843236000-1843245000@myloh.church
SUMMARY:Celebrate Recovery
DESCRIPTION:Celebrate Recovery is a safe place for adults to find freedom from your hurts\, hang-ups\, and habits. Dinner is served from 6-7pm and large group begins promptly at 7pm while small groups go until 9pm typically. Desert is served afterwards.
URL:https://myloh.church/event/celebrate-recovery-12/2028-05-29/
LOCATION:Lighthouse of Hope (LOH Church)\, 11507 Moss Ave.\, Cumberland\, MD\, 21502\, United States
CATEGORIES:Celebrate Recovery
ATTACH;FMTTYPE=image/jpeg:https://myloh.church/wp-content/uploads/2024/11/Web-Compressed-6.jpg
END:VEVENT
BEGIN:VEVENT
DTSTART;TZID=UTC:20280605T180000
DTEND;TZID=UTC:20280605T203000
DTSTAMP:20260426T002240
CREATED:20250123T171614Z
LAST-MODIFIED:20250123T171614Z
UID:10000220-1843840800-1843849800@myloh.church
SUMMARY:Celebrate Recovery
DESCRIPTION:Celebrate Recovery is a safe place for adults to find freedom from your hurts\, hang-ups\, and habits. Dinner is served from 6-7pm and large group begins promptly at 7pm while small groups go until 9pm typically. Desert is served afterwards.
URL:https://myloh.church/event/celebrate-recovery-12/2028-06-05/
LOCATION:Lighthouse of Hope (LOH Church)\, 11507 Moss Ave.\, Cumberland\, MD\, 21502\, United States
CATEGORIES:Celebrate Recovery
ATTACH;FMTTYPE=image/jpeg:https://myloh.church/wp-content/uploads/2024/11/Web-Compressed-6.jpg
END:VEVENT
BEGIN:VEVENT
DTSTART;TZID=UTC:20280612T180000
DTEND;TZID=UTC:20280612T203000
DTSTAMP:20260426T002240
CREATED:20250123T171614Z
LAST-MODIFIED:20250123T171614Z
UID:10000221-1844445600-1844454600@myloh.church
SUMMARY:Celebrate Recovery
DESCRIPTION:Celebrate Recovery is a safe place for adults to find freedom from your hurts\, hang-ups\, and habits. Dinner is served from 6-7pm and large group begins promptly at 7pm while small groups go until 9pm typically. Desert is served afterwards.
URL:https://myloh.church/event/celebrate-recovery-12/2028-06-12/
LOCATION:Lighthouse of Hope (LOH Church)\, 11507 Moss Ave.\, Cumberland\, MD\, 21502\, United States
CATEGORIES:Celebrate Recovery
ATTACH;FMTTYPE=image/jpeg:https://myloh.church/wp-content/uploads/2024/11/Web-Compressed-6.jpg
END:VEVENT
BEGIN:VEVENT
DTSTART;TZID=UTC:20280619T180000
DTEND;TZID=UTC:20280619T203000
DTSTAMP:20260426T002240
CREATED:20250123T171614Z
LAST-MODIFIED:20250123T171614Z
UID:10000222-1845050400-1845059400@myloh.church
SUMMARY:Celebrate Recovery
DESCRIPTION:Celebrate Recovery is a safe place for adults to find freedom from your hurts\, hang-ups\, and habits. Dinner is served from 6-7pm and large group begins promptly at 7pm while small groups go until 9pm typically. Desert is served afterwards.
URL:https://myloh.church/event/celebrate-recovery-12/2028-06-19/
LOCATION:Lighthouse of Hope (LOH Church)\, 11507 Moss Ave.\, Cumberland\, MD\, 21502\, United States
CATEGORIES:Celebrate Recovery
ATTACH;FMTTYPE=image/jpeg:https://myloh.church/wp-content/uploads/2024/11/Web-Compressed-6.jpg
END:VEVENT
BEGIN:VEVENT
DTSTART;TZID=UTC:20280626T180000
DTEND;TZID=UTC:20280626T203000
DTSTAMP:20260426T002240
CREATED:20250123T171614Z
LAST-MODIFIED:20250123T171614Z
UID:10000223-1845655200-1845664200@myloh.church
SUMMARY:Celebrate Recovery
DESCRIPTION:Celebrate Recovery is a safe place for adults to find freedom from your hurts\, hang-ups\, and habits. Dinner is served from 6-7pm and large group begins promptly at 7pm while small groups go until 9pm typically. Desert is served afterwards.
URL:https://myloh.church/event/celebrate-recovery-12/2028-06-26/
LOCATION:Lighthouse of Hope (LOH Church)\, 11507 Moss Ave.\, Cumberland\, MD\, 21502\, United States
CATEGORIES:Celebrate Recovery
ATTACH;FMTTYPE=image/jpeg:https://myloh.church/wp-content/uploads/2024/11/Web-Compressed-6.jpg
END:VEVENT
BEGIN:VEVENT
DTSTART;TZID=UTC:20280703T180000
DTEND;TZID=UTC:20280703T203000
DTSTAMP:20260426T002240
CREATED:20250123T171614Z
LAST-MODIFIED:20250123T171614Z
UID:10000224-1846260000-1846269000@myloh.church
SUMMARY:Celebrate Recovery
DESCRIPTION:Celebrate Recovery is a safe place for adults to find freedom from your hurts\, hang-ups\, and habits. Dinner is served from 6-7pm and large group begins promptly at 7pm while small groups go until 9pm typically. Desert is served afterwards.
URL:https://myloh.church/event/celebrate-recovery-12/2028-07-03/
LOCATION:Lighthouse of Hope (LOH Church)\, 11507 Moss Ave.\, Cumberland\, MD\, 21502\, United States
CATEGORIES:Celebrate Recovery
ATTACH;FMTTYPE=image/jpeg:https://myloh.church/wp-content/uploads/2024/11/Web-Compressed-6.jpg
END:VEVENT
BEGIN:VEVENT
DTSTART;TZID=UTC:20280710T180000
DTEND;TZID=UTC:20280710T203000
DTSTAMP:20260426T002240
CREATED:20250123T171614Z
LAST-MODIFIED:20250123T171614Z
UID:10000225-1846864800-1846873800@myloh.church
SUMMARY:Celebrate Recovery
DESCRIPTION:Celebrate Recovery is a safe place for adults to find freedom from your hurts\, hang-ups\, and habits. Dinner is served from 6-7pm and large group begins promptly at 7pm while small groups go until 9pm typically. Desert is served afterwards.
URL:https://myloh.church/event/celebrate-recovery-12/2028-07-10/
LOCATION:Lighthouse of Hope (LOH Church)\, 11507 Moss Ave.\, Cumberland\, MD\, 21502\, United States
CATEGORIES:Celebrate Recovery
ATTACH;FMTTYPE=image/jpeg:https://myloh.church/wp-content/uploads/2024/11/Web-Compressed-6.jpg
END:VEVENT
BEGIN:VEVENT
DTSTART;TZID=UTC:20280717T180000
DTEND;TZID=UTC:20280717T203000
DTSTAMP:20260426T002240
CREATED:20250123T171614Z
LAST-MODIFIED:20250123T171614Z
UID:10000226-1847469600-1847478600@myloh.church
SUMMARY:Celebrate Recovery
DESCRIPTION:Celebrate Recovery is a safe place for adults to find freedom from your hurts\, hang-ups\, and habits. Dinner is served from 6-7pm and large group begins promptly at 7pm while small groups go until 9pm typically. Desert is served afterwards.
URL:https://myloh.church/event/celebrate-recovery-12/2028-07-17/
LOCATION:Lighthouse of Hope (LOH Church)\, 11507 Moss Ave.\, Cumberland\, MD\, 21502\, United States
CATEGORIES:Celebrate Recovery
ATTACH;FMTTYPE=image/jpeg:https://myloh.church/wp-content/uploads/2024/11/Web-Compressed-6.jpg
END:VEVENT
BEGIN:VEVENT
DTSTART;TZID=UTC:20280724T180000
DTEND;TZID=UTC:20280724T203000
DTSTAMP:20260426T002240
CREATED:20250123T171614Z
LAST-MODIFIED:20250123T171614Z
UID:10000227-1848074400-1848083400@myloh.church
SUMMARY:Celebrate Recovery
DESCRIPTION:Celebrate Recovery is a safe place for adults to find freedom from your hurts\, hang-ups\, and habits. Dinner is served from 6-7pm and large group begins promptly at 7pm while small groups go until 9pm typically. Desert is served afterwards.
URL:https://myloh.church/event/celebrate-recovery-12/2028-07-24/
LOCATION:Lighthouse of Hope (LOH Church)\, 11507 Moss Ave.\, Cumberland\, MD\, 21502\, United States
CATEGORIES:Celebrate Recovery
ATTACH;FMTTYPE=image/jpeg:https://myloh.church/wp-content/uploads/2024/11/Web-Compressed-6.jpg
END:VEVENT
BEGIN:VEVENT
DTSTART;TZID=UTC:20280731T180000
DTEND;TZID=UTC:20280731T203000
DTSTAMP:20260426T002240
CREATED:20250123T171614Z
LAST-MODIFIED:20250123T171614Z
UID:10000228-1848679200-1848688200@myloh.church
SUMMARY:Celebrate Recovery
DESCRIPTION:Celebrate Recovery is a safe place for adults to find freedom from your hurts\, hang-ups\, and habits. Dinner is served from 6-7pm and large group begins promptly at 7pm while small groups go until 9pm typically. Desert is served afterwards.
URL:https://myloh.church/event/celebrate-recovery-12/2028-07-31/
LOCATION:Lighthouse of Hope (LOH Church)\, 11507 Moss Ave.\, Cumberland\, MD\, 21502\, United States
CATEGORIES:Celebrate Recovery
ATTACH;FMTTYPE=image/jpeg:https://myloh.church/wp-content/uploads/2024/11/Web-Compressed-6.jpg
END:VEVENT
BEGIN:VEVENT
DTSTART;TZID=UTC:20280807T180000
DTEND;TZID=UTC:20280807T203000
DTSTAMP:20260426T002240
CREATED:20250123T171614Z
LAST-MODIFIED:20250123T171614Z
UID:10000229-1849284000-1849293000@myloh.church
SUMMARY:Celebrate Recovery
DESCRIPTION:Celebrate Recovery is a safe place for adults to find freedom from your hurts\, hang-ups\, and habits. Dinner is served from 6-7pm and large group begins promptly at 7pm while small groups go until 9pm typically. Desert is served afterwards.
URL:https://myloh.church/event/celebrate-recovery-12/2028-08-07/
LOCATION:Lighthouse of Hope (LOH Church)\, 11507 Moss Ave.\, Cumberland\, MD\, 21502\, United States
CATEGORIES:Celebrate Recovery
ATTACH;FMTTYPE=image/jpeg:https://myloh.church/wp-content/uploads/2024/11/Web-Compressed-6.jpg
END:VEVENT
BEGIN:VEVENT
DTSTART;TZID=UTC:20280814T180000
DTEND;TZID=UTC:20280814T203000
DTSTAMP:20260426T002240
CREATED:20250123T171614Z
LAST-MODIFIED:20250123T171614Z
UID:10000230-1849888800-1849897800@myloh.church
SUMMARY:Celebrate Recovery
DESCRIPTION:Celebrate Recovery is a safe place for adults to find freedom from your hurts\, hang-ups\, and habits. Dinner is served from 6-7pm and large group begins promptly at 7pm while small groups go until 9pm typically. Desert is served afterwards.
URL:https://myloh.church/event/celebrate-recovery-12/2028-08-14/
LOCATION:Lighthouse of Hope (LOH Church)\, 11507 Moss Ave.\, Cumberland\, MD\, 21502\, United States
CATEGORIES:Celebrate Recovery
ATTACH;FMTTYPE=image/jpeg:https://myloh.church/wp-content/uploads/2024/11/Web-Compressed-6.jpg
END:VEVENT
BEGIN:VEVENT
DTSTART;TZID=UTC:20280821T180000
DTEND;TZID=UTC:20280821T203000
DTSTAMP:20260426T002240
CREATED:20250123T171614Z
LAST-MODIFIED:20250123T171614Z
UID:10000231-1850493600-1850502600@myloh.church
SUMMARY:Celebrate Recovery
DESCRIPTION:Celebrate Recovery is a safe place for adults to find freedom from your hurts\, hang-ups\, and habits. Dinner is served from 6-7pm and large group begins promptly at 7pm while small groups go until 9pm typically. Desert is served afterwards.
URL:https://myloh.church/event/celebrate-recovery-12/2028-08-21/
LOCATION:Lighthouse of Hope (LOH Church)\, 11507 Moss Ave.\, Cumberland\, MD\, 21502\, United States
CATEGORIES:Celebrate Recovery
ATTACH;FMTTYPE=image/jpeg:https://myloh.church/wp-content/uploads/2024/11/Web-Compressed-6.jpg
END:VEVENT
BEGIN:VEVENT
DTSTART;TZID=UTC:20280828T180000
DTEND;TZID=UTC:20280828T203000
DTSTAMP:20260426T002240
CREATED:20250123T171614Z
LAST-MODIFIED:20250123T171614Z
UID:10000232-1851098400-1851107400@myloh.church
SUMMARY:Celebrate Recovery
DESCRIPTION:Celebrate Recovery is a safe place for adults to find freedom from your hurts\, hang-ups\, and habits. Dinner is served from 6-7pm and large group begins promptly at 7pm while small groups go until 9pm typically. Desert is served afterwards.
URL:https://myloh.church/event/celebrate-recovery-12/2028-08-28/
LOCATION:Lighthouse of Hope (LOH Church)\, 11507 Moss Ave.\, Cumberland\, MD\, 21502\, United States
CATEGORIES:Celebrate Recovery
ATTACH;FMTTYPE=image/jpeg:https://myloh.church/wp-content/uploads/2024/11/Web-Compressed-6.jpg
END:VEVENT
BEGIN:VEVENT
DTSTART;TZID=UTC:20280904T180000
DTEND;TZID=UTC:20280904T203000
DTSTAMP:20260426T002240
CREATED:20250123T171614Z
LAST-MODIFIED:20250123T171614Z
UID:10000233-1851703200-1851712200@myloh.church
SUMMARY:Celebrate Recovery
DESCRIPTION:Celebrate Recovery is a safe place for adults to find freedom from your hurts\, hang-ups\, and habits. Dinner is served from 6-7pm and large group begins promptly at 7pm while small groups go until 9pm typically. Desert is served afterwards.
URL:https://myloh.church/event/celebrate-recovery-12/2028-09-04/
LOCATION:Lighthouse of Hope (LOH Church)\, 11507 Moss Ave.\, Cumberland\, MD\, 21502\, United States
CATEGORIES:Celebrate Recovery
ATTACH;FMTTYPE=image/jpeg:https://myloh.church/wp-content/uploads/2024/11/Web-Compressed-6.jpg
END:VEVENT
BEGIN:VEVENT
DTSTART;TZID=UTC:20280911T180000
DTEND;TZID=UTC:20280911T203000
DTSTAMP:20260426T002240
CREATED:20250123T171614Z
LAST-MODIFIED:20250123T171614Z
UID:10000234-1852308000-1852317000@myloh.church
SUMMARY:Celebrate Recovery
DESCRIPTION:Celebrate Recovery is a safe place for adults to find freedom from your hurts\, hang-ups\, and habits. Dinner is served from 6-7pm and large group begins promptly at 7pm while small groups go until 9pm typically. Desert is served afterwards.
URL:https://myloh.church/event/celebrate-recovery-12/2028-09-11/
LOCATION:Lighthouse of Hope (LOH Church)\, 11507 Moss Ave.\, Cumberland\, MD\, 21502\, United States
CATEGORIES:Celebrate Recovery
ATTACH;FMTTYPE=image/jpeg:https://myloh.church/wp-content/uploads/2024/11/Web-Compressed-6.jpg
END:VEVENT
BEGIN:VEVENT
DTSTART;TZID=UTC:20280918T180000
DTEND;TZID=UTC:20280918T203000
DTSTAMP:20260426T002240
CREATED:20250123T171614Z
LAST-MODIFIED:20250123T171614Z
UID:10000235-1852912800-1852921800@myloh.church
SUMMARY:Celebrate Recovery
DESCRIPTION:Celebrate Recovery is a safe place for adults to find freedom from your hurts\, hang-ups\, and habits. Dinner is served from 6-7pm and large group begins promptly at 7pm while small groups go until 9pm typically. Desert is served afterwards.
URL:https://myloh.church/event/celebrate-recovery-12/2028-09-18/
LOCATION:Lighthouse of Hope (LOH Church)\, 11507 Moss Ave.\, Cumberland\, MD\, 21502\, United States
CATEGORIES:Celebrate Recovery
ATTACH;FMTTYPE=image/jpeg:https://myloh.church/wp-content/uploads/2024/11/Web-Compressed-6.jpg
END:VEVENT
BEGIN:VEVENT
DTSTART;TZID=UTC:20280925T180000
DTEND;TZID=UTC:20280925T203000
DTSTAMP:20260426T002241
CREATED:20250123T171614Z
LAST-MODIFIED:20250123T171614Z
UID:10000236-1853517600-1853526600@myloh.church
SUMMARY:Celebrate Recovery
DESCRIPTION:Celebrate Recovery is a safe place for adults to find freedom from your hurts\, hang-ups\, and habits. Dinner is served from 6-7pm and large group begins promptly at 7pm while small groups go until 9pm typically. Desert is served afterwards.
URL:https://myloh.church/event/celebrate-recovery-12/2028-09-25/
LOCATION:Lighthouse of Hope (LOH Church)\, 11507 Moss Ave.\, Cumberland\, MD\, 21502\, United States
CATEGORIES:Celebrate Recovery
ATTACH;FMTTYPE=image/jpeg:https://myloh.church/wp-content/uploads/2024/11/Web-Compressed-6.jpg
END:VEVENT
BEGIN:VEVENT
DTSTART;TZID=UTC:20281002T180000
DTEND;TZID=UTC:20281002T203000
DTSTAMP:20260426T002241
CREATED:20250123T171614Z
LAST-MODIFIED:20250123T171614Z
UID:10000237-1854122400-1854131400@myloh.church
SUMMARY:Celebrate Recovery
DESCRIPTION:Celebrate Recovery is a safe place for adults to find freedom from your hurts\, hang-ups\, and habits. Dinner is served from 6-7pm and large group begins promptly at 7pm while small groups go until 9pm typically. Desert is served afterwards.
URL:https://myloh.church/event/celebrate-recovery-12/2028-10-02/
LOCATION:Lighthouse of Hope (LOH Church)\, 11507 Moss Ave.\, Cumberland\, MD\, 21502\, United States
CATEGORIES:Celebrate Recovery
ATTACH;FMTTYPE=image/jpeg:https://myloh.church/wp-content/uploads/2024/11/Web-Compressed-6.jpg
END:VEVENT
BEGIN:VEVENT
DTSTART;TZID=UTC:20281009T180000
DTEND;TZID=UTC:20281009T203000
DTSTAMP:20260426T002241
CREATED:20250123T171614Z
LAST-MODIFIED:20250123T171614Z
UID:10000238-1854727200-1854736200@myloh.church
SUMMARY:Celebrate Recovery
DESCRIPTION:Celebrate Recovery is a safe place for adults to find freedom from your hurts\, hang-ups\, and habits. Dinner is served from 6-7pm and large group begins promptly at 7pm while small groups go until 9pm typically. Desert is served afterwards.
URL:https://myloh.church/event/celebrate-recovery-12/2028-10-09/
LOCATION:Lighthouse of Hope (LOH Church)\, 11507 Moss Ave.\, Cumberland\, MD\, 21502\, United States
CATEGORIES:Celebrate Recovery
ATTACH;FMTTYPE=image/jpeg:https://myloh.church/wp-content/uploads/2024/11/Web-Compressed-6.jpg
END:VEVENT
BEGIN:VEVENT
DTSTART;TZID=UTC:20281016T180000
DTEND;TZID=UTC:20281016T203000
DTSTAMP:20260426T002241
CREATED:20250123T171614Z
LAST-MODIFIED:20250123T171614Z
UID:10000239-1855332000-1855341000@myloh.church
SUMMARY:Celebrate Recovery
DESCRIPTION:Celebrate Recovery is a safe place for adults to find freedom from your hurts\, hang-ups\, and habits. Dinner is served from 6-7pm and large group begins promptly at 7pm while small groups go until 9pm typically. Desert is served afterwards.
URL:https://myloh.church/event/celebrate-recovery-12/2028-10-16/
LOCATION:Lighthouse of Hope (LOH Church)\, 11507 Moss Ave.\, Cumberland\, MD\, 21502\, United States
CATEGORIES:Celebrate Recovery
ATTACH;FMTTYPE=image/jpeg:https://myloh.church/wp-content/uploads/2024/11/Web-Compressed-6.jpg
END:VEVENT
BEGIN:VEVENT
DTSTART;TZID=UTC:20281023T180000
DTEND;TZID=UTC:20281023T203000
DTSTAMP:20260426T002241
CREATED:20250123T171614Z
LAST-MODIFIED:20250123T171614Z
UID:10000240-1855936800-1855945800@myloh.church
SUMMARY:Celebrate Recovery
DESCRIPTION:Celebrate Recovery is a safe place for adults to find freedom from your hurts\, hang-ups\, and habits. Dinner is served from 6-7pm and large group begins promptly at 7pm while small groups go until 9pm typically. Desert is served afterwards.
URL:https://myloh.church/event/celebrate-recovery-12/2028-10-23/
LOCATION:Lighthouse of Hope (LOH Church)\, 11507 Moss Ave.\, Cumberland\, MD\, 21502\, United States
CATEGORIES:Celebrate Recovery
ATTACH;FMTTYPE=image/jpeg:https://myloh.church/wp-content/uploads/2024/11/Web-Compressed-6.jpg
END:VEVENT
BEGIN:VEVENT
DTSTART;TZID=UTC:20281030T180000
DTEND;TZID=UTC:20281030T203000
DTSTAMP:20260426T002241
CREATED:20250123T171614Z
LAST-MODIFIED:20250123T171614Z
UID:10000241-1856541600-1856550600@myloh.church
SUMMARY:Celebrate Recovery
DESCRIPTION:Celebrate Recovery is a safe place for adults to find freedom from your hurts\, hang-ups\, and habits. Dinner is served from 6-7pm and large group begins promptly at 7pm while small groups go until 9pm typically. Desert is served afterwards.
URL:https://myloh.church/event/celebrate-recovery-12/2028-10-30/
LOCATION:Lighthouse of Hope (LOH Church)\, 11507 Moss Ave.\, Cumberland\, MD\, 21502\, United States
CATEGORIES:Celebrate Recovery
ATTACH;FMTTYPE=image/jpeg:https://myloh.church/wp-content/uploads/2024/11/Web-Compressed-6.jpg
END:VEVENT
BEGIN:VEVENT
DTSTART;TZID=UTC:20281106T180000
DTEND;TZID=UTC:20281106T203000
DTSTAMP:20260426T002241
CREATED:20250123T171614Z
LAST-MODIFIED:20250123T171614Z
UID:10000242-1857146400-1857155400@myloh.church
SUMMARY:Celebrate Recovery
DESCRIPTION:Celebrate Recovery is a safe place for adults to find freedom from your hurts\, hang-ups\, and habits. Dinner is served from 6-7pm and large group begins promptly at 7pm while small groups go until 9pm typically. Desert is served afterwards.
URL:https://myloh.church/event/celebrate-recovery-12/2028-11-06/
LOCATION:Lighthouse of Hope (LOH Church)\, 11507 Moss Ave.\, Cumberland\, MD\, 21502\, United States
CATEGORIES:Celebrate Recovery
ATTACH;FMTTYPE=image/jpeg:https://myloh.church/wp-content/uploads/2024/11/Web-Compressed-6.jpg
END:VEVENT
BEGIN:VEVENT
DTSTART;TZID=UTC:20281113T180000
DTEND;TZID=UTC:20281113T203000
DTSTAMP:20260426T002241
CREATED:20250123T171614Z
LAST-MODIFIED:20250123T171614Z
UID:10000243-1857751200-1857760200@myloh.church
SUMMARY:Celebrate Recovery
DESCRIPTION:Celebrate Recovery is a safe place for adults to find freedom from your hurts\, hang-ups\, and habits. Dinner is served from 6-7pm and large group begins promptly at 7pm while small groups go until 9pm typically. Desert is served afterwards.
URL:https://myloh.church/event/celebrate-recovery-12/2028-11-13/
LOCATION:Lighthouse of Hope (LOH Church)\, 11507 Moss Ave.\, Cumberland\, MD\, 21502\, United States
CATEGORIES:Celebrate Recovery
ATTACH;FMTTYPE=image/jpeg:https://myloh.church/wp-content/uploads/2024/11/Web-Compressed-6.jpg
END:VEVENT
BEGIN:VEVENT
DTSTART;TZID=UTC:20281120T180000
DTEND;TZID=UTC:20281120T203000
DTSTAMP:20260426T002241
CREATED:20250123T171614Z
LAST-MODIFIED:20250123T171614Z
UID:10000244-1858356000-1858365000@myloh.church
SUMMARY:Celebrate Recovery
DESCRIPTION:Celebrate Recovery is a safe place for adults to find freedom from your hurts\, hang-ups\, and habits. Dinner is served from 6-7pm and large group begins promptly at 7pm while small groups go until 9pm typically. Desert is served afterwards.
URL:https://myloh.church/event/celebrate-recovery-12/2028-11-20/
LOCATION:Lighthouse of Hope (LOH Church)\, 11507 Moss Ave.\, Cumberland\, MD\, 21502\, United States
CATEGORIES:Celebrate Recovery
ATTACH;FMTTYPE=image/jpeg:https://myloh.church/wp-content/uploads/2024/11/Web-Compressed-6.jpg
END:VEVENT
BEGIN:VEVENT
DTSTART;TZID=UTC:20281127T180000
DTEND;TZID=UTC:20281127T203000
DTSTAMP:20260426T002241
CREATED:20250123T171614Z
LAST-MODIFIED:20250123T171614Z
UID:10000245-1858960800-1858969800@myloh.church
SUMMARY:Celebrate Recovery
DESCRIPTION:Celebrate Recovery is a safe place for adults to find freedom from your hurts\, hang-ups\, and habits. Dinner is served from 6-7pm and large group begins promptly at 7pm while small groups go until 9pm typically. Desert is served afterwards.
URL:https://myloh.church/event/celebrate-recovery-12/2028-11-27/
LOCATION:Lighthouse of Hope (LOH Church)\, 11507 Moss Ave.\, Cumberland\, MD\, 21502\, United States
CATEGORIES:Celebrate Recovery
ATTACH;FMTTYPE=image/jpeg:https://myloh.church/wp-content/uploads/2024/11/Web-Compressed-6.jpg
END:VEVENT
BEGIN:VEVENT
DTSTART;TZID=UTC:20281204T180000
DTEND;TZID=UTC:20281204T203000
DTSTAMP:20260426T002241
CREATED:20250123T171614Z
LAST-MODIFIED:20250123T171614Z
UID:10000246-1859565600-1859574600@myloh.church
SUMMARY:Celebrate Recovery
DESCRIPTION:Celebrate Recovery is a safe place for adults to find freedom from your hurts\, hang-ups\, and habits. Dinner is served from 6-7pm and large group begins promptly at 7pm while small groups go until 9pm typically. Desert is served afterwards.
URL:https://myloh.church/event/celebrate-recovery-12/2028-12-04/
LOCATION:Lighthouse of Hope (LOH Church)\, 11507 Moss Ave.\, Cumberland\, MD\, 21502\, United States
CATEGORIES:Celebrate Recovery
ATTACH;FMTTYPE=image/jpeg:https://myloh.church/wp-content/uploads/2024/11/Web-Compressed-6.jpg
END:VEVENT
BEGIN:VEVENT
DTSTART;TZID=UTC:20281211T180000
DTEND;TZID=UTC:20281211T203000
DTSTAMP:20260426T002241
CREATED:20250123T171614Z
LAST-MODIFIED:20250123T171614Z
UID:10000247-1860170400-1860179400@myloh.church
SUMMARY:Celebrate Recovery
DESCRIPTION:Celebrate Recovery is a safe place for adults to find freedom from your hurts\, hang-ups\, and habits. Dinner is served from 6-7pm and large group begins promptly at 7pm while small groups go until 9pm typically. Desert is served afterwards.
URL:https://myloh.church/event/celebrate-recovery-12/2028-12-11/
LOCATION:Lighthouse of Hope (LOH Church)\, 11507 Moss Ave.\, Cumberland\, MD\, 21502\, United States
CATEGORIES:Celebrate Recovery
ATTACH;FMTTYPE=image/jpeg:https://myloh.church/wp-content/uploads/2024/11/Web-Compressed-6.jpg
END:VEVENT
BEGIN:VEVENT
DTSTART;TZID=UTC:20281218T180000
DTEND;TZID=UTC:20281218T203000
DTSTAMP:20260426T002241
CREATED:20250123T171614Z
LAST-MODIFIED:20250123T171614Z
UID:10000248-1860775200-1860784200@myloh.church
SUMMARY:Celebrate Recovery
DESCRIPTION:Celebrate Recovery is a safe place for adults to find freedom from your hurts\, hang-ups\, and habits. Dinner is served from 6-7pm and large group begins promptly at 7pm while small groups go until 9pm typically. Desert is served afterwards.
URL:https://myloh.church/event/celebrate-recovery-12/2028-12-18/
LOCATION:Lighthouse of Hope (LOH Church)\, 11507 Moss Ave.\, Cumberland\, MD\, 21502\, United States
CATEGORIES:Celebrate Recovery
ATTACH;FMTTYPE=image/jpeg:https://myloh.church/wp-content/uploads/2024/11/Web-Compressed-6.jpg
END:VEVENT
END:VCALENDAR