BEGIN:VCALENDAR
VERSION:2.0
PRODID:-//Lighthouse of Hope Church - ECPv6.15.20//NONSGML v1.0//EN
CALSCALE:GREGORIAN
METHOD:PUBLISH
X-WR-CALNAME:Lighthouse of Hope Church
X-ORIGINAL-URL:https://myloh.church
X-WR-CALDESC:Events for Lighthouse of Hope Church
REFRESH-INTERVAL;VALUE=DURATION:PT1H
X-Robots-Tag:noindex
X-PUBLISHED-TTL:PT1H
BEGIN:VTIMEZONE
TZID:UTC
BEGIN:STANDARD
TZOFFSETFROM:+0000
TZOFFSETTO:+0000
TZNAME:UTC
DTSTART:20250101T000000
END:STANDARD
END:VTIMEZONE
BEGIN:VEVENT
DTSTART;TZID=UTC:20260216T180000
DTEND;TZID=UTC:20260216T203000
DTSTAMP:20260426T042642
CREATED:20250123T171614Z
LAST-MODIFIED:20250123T171614Z
UID:10000100-1771264800-1771273800@myloh.church
SUMMARY:Celebrate Recovery
DESCRIPTION:Celebrate Recovery is a safe place for adults to find freedom from your hurts\, hang-ups\, and habits. Dinner is served from 6-7pm and large group begins promptly at 7pm while small groups go until 9pm typically. Desert is served afterwards.
URL:https://myloh.church/event/celebrate-recovery-12/2026-02-16/
LOCATION:Lighthouse of Hope (LOH Church)\, 11507 Moss Ave.\, Cumberland\, MD\, 21502\, United States
CATEGORIES:Celebrate Recovery
ATTACH;FMTTYPE=image/jpeg:https://myloh.church/wp-content/uploads/2024/11/Web-Compressed-6.jpg
END:VEVENT
BEGIN:VEVENT
DTSTART;TZID=UTC:20260223T180000
DTEND;TZID=UTC:20260223T203000
DTSTAMP:20260426T042642
CREATED:20250123T171614Z
LAST-MODIFIED:20250123T171614Z
UID:10000101-1771869600-1771878600@myloh.church
SUMMARY:Celebrate Recovery
DESCRIPTION:Celebrate Recovery is a safe place for adults to find freedom from your hurts\, hang-ups\, and habits. Dinner is served from 6-7pm and large group begins promptly at 7pm while small groups go until 9pm typically. Desert is served afterwards.
URL:https://myloh.church/event/celebrate-recovery-12/2026-02-23/
LOCATION:Lighthouse of Hope (LOH Church)\, 11507 Moss Ave.\, Cumberland\, MD\, 21502\, United States
CATEGORIES:Celebrate Recovery
ATTACH;FMTTYPE=image/jpeg:https://myloh.church/wp-content/uploads/2024/11/Web-Compressed-6.jpg
END:VEVENT
BEGIN:VEVENT
DTSTART;TZID=UTC:20260302T180000
DTEND;TZID=UTC:20260302T203000
DTSTAMP:20260426T042642
CREATED:20250123T171614Z
LAST-MODIFIED:20250123T171614Z
UID:10000102-1772474400-1772483400@myloh.church
SUMMARY:Celebrate Recovery
DESCRIPTION:Celebrate Recovery is a safe place for adults to find freedom from your hurts\, hang-ups\, and habits. Dinner is served from 6-7pm and large group begins promptly at 7pm while small groups go until 9pm typically. Desert is served afterwards.
URL:https://myloh.church/event/celebrate-recovery-12/2026-03-02/
LOCATION:Lighthouse of Hope (LOH Church)\, 11507 Moss Ave.\, Cumberland\, MD\, 21502\, United States
CATEGORIES:Celebrate Recovery
ATTACH;FMTTYPE=image/jpeg:https://myloh.church/wp-content/uploads/2024/11/Web-Compressed-6.jpg
END:VEVENT
BEGIN:VEVENT
DTSTART;TZID=UTC:20260309T180000
DTEND;TZID=UTC:20260309T203000
DTSTAMP:20260426T042642
CREATED:20250123T171614Z
LAST-MODIFIED:20250123T171614Z
UID:10000103-1773079200-1773088200@myloh.church
SUMMARY:Celebrate Recovery
DESCRIPTION:Celebrate Recovery is a safe place for adults to find freedom from your hurts\, hang-ups\, and habits. Dinner is served from 6-7pm and large group begins promptly at 7pm while small groups go until 9pm typically. Desert is served afterwards.
URL:https://myloh.church/event/celebrate-recovery-12/2026-03-09/
LOCATION:Lighthouse of Hope (LOH Church)\, 11507 Moss Ave.\, Cumberland\, MD\, 21502\, United States
CATEGORIES:Celebrate Recovery
ATTACH;FMTTYPE=image/jpeg:https://myloh.church/wp-content/uploads/2024/11/Web-Compressed-6.jpg
END:VEVENT
BEGIN:VEVENT
DTSTART;TZID=UTC:20260316T180000
DTEND;TZID=UTC:20260316T203000
DTSTAMP:20260426T042642
CREATED:20250123T171614Z
LAST-MODIFIED:20250123T171614Z
UID:10000104-1773684000-1773693000@myloh.church
SUMMARY:Celebrate Recovery
DESCRIPTION:Celebrate Recovery is a safe place for adults to find freedom from your hurts\, hang-ups\, and habits. Dinner is served from 6-7pm and large group begins promptly at 7pm while small groups go until 9pm typically. Desert is served afterwards.
URL:https://myloh.church/event/celebrate-recovery-12/2026-03-16/
LOCATION:Lighthouse of Hope (LOH Church)\, 11507 Moss Ave.\, Cumberland\, MD\, 21502\, United States
CATEGORIES:Celebrate Recovery
ATTACH;FMTTYPE=image/jpeg:https://myloh.church/wp-content/uploads/2024/11/Web-Compressed-6.jpg
END:VEVENT
BEGIN:VEVENT
DTSTART;TZID=UTC:20260323T180000
DTEND;TZID=UTC:20260323T203000
DTSTAMP:20260426T042642
CREATED:20250123T171614Z
LAST-MODIFIED:20250123T171614Z
UID:10000105-1774288800-1774297800@myloh.church
SUMMARY:Celebrate Recovery
DESCRIPTION:Celebrate Recovery is a safe place for adults to find freedom from your hurts\, hang-ups\, and habits. Dinner is served from 6-7pm and large group begins promptly at 7pm while small groups go until 9pm typically. Desert is served afterwards.
URL:https://myloh.church/event/celebrate-recovery-12/2026-03-23/
LOCATION:Lighthouse of Hope (LOH Church)\, 11507 Moss Ave.\, Cumberland\, MD\, 21502\, United States
CATEGORIES:Celebrate Recovery
ATTACH;FMTTYPE=image/jpeg:https://myloh.church/wp-content/uploads/2024/11/Web-Compressed-6.jpg
END:VEVENT
BEGIN:VEVENT
DTSTART;TZID=UTC:20260330T180000
DTEND;TZID=UTC:20260330T203000
DTSTAMP:20260426T042642
CREATED:20250123T171614Z
LAST-MODIFIED:20250123T171614Z
UID:10000106-1774893600-1774902600@myloh.church
SUMMARY:Celebrate Recovery
DESCRIPTION:Celebrate Recovery is a safe place for adults to find freedom from your hurts\, hang-ups\, and habits. Dinner is served from 6-7pm and large group begins promptly at 7pm while small groups go until 9pm typically. Desert is served afterwards.
URL:https://myloh.church/event/celebrate-recovery-12/2026-03-30/
LOCATION:Lighthouse of Hope (LOH Church)\, 11507 Moss Ave.\, Cumberland\, MD\, 21502\, United States
CATEGORIES:Celebrate Recovery
ATTACH;FMTTYPE=image/jpeg:https://myloh.church/wp-content/uploads/2024/11/Web-Compressed-6.jpg
END:VEVENT
BEGIN:VEVENT
DTSTART;TZID=UTC:20260406T180000
DTEND;TZID=UTC:20260406T203000
DTSTAMP:20260426T042642
CREATED:20250123T171614Z
LAST-MODIFIED:20250123T171614Z
UID:10000107-1775498400-1775507400@myloh.church
SUMMARY:Celebrate Recovery
DESCRIPTION:Celebrate Recovery is a safe place for adults to find freedom from your hurts\, hang-ups\, and habits. Dinner is served from 6-7pm and large group begins promptly at 7pm while small groups go until 9pm typically. Desert is served afterwards.
URL:https://myloh.church/event/celebrate-recovery-12/2026-04-06/
LOCATION:Lighthouse of Hope (LOH Church)\, 11507 Moss Ave.\, Cumberland\, MD\, 21502\, United States
CATEGORIES:Celebrate Recovery
ATTACH;FMTTYPE=image/jpeg:https://myloh.church/wp-content/uploads/2024/11/Web-Compressed-6.jpg
END:VEVENT
BEGIN:VEVENT
DTSTART;TZID=UTC:20260413T180000
DTEND;TZID=UTC:20260413T203000
DTSTAMP:20260426T042642
CREATED:20250123T171614Z
LAST-MODIFIED:20250123T171614Z
UID:10000108-1776103200-1776112200@myloh.church
SUMMARY:Celebrate Recovery
DESCRIPTION:Celebrate Recovery is a safe place for adults to find freedom from your hurts\, hang-ups\, and habits. Dinner is served from 6-7pm and large group begins promptly at 7pm while small groups go until 9pm typically. Desert is served afterwards.
URL:https://myloh.church/event/celebrate-recovery-12/2026-04-13/
LOCATION:Lighthouse of Hope (LOH Church)\, 11507 Moss Ave.\, Cumberland\, MD\, 21502\, United States
CATEGORIES:Celebrate Recovery
ATTACH;FMTTYPE=image/jpeg:https://myloh.church/wp-content/uploads/2024/11/Web-Compressed-6.jpg
END:VEVENT
BEGIN:VEVENT
DTSTART;TZID=UTC:20260420T180000
DTEND;TZID=UTC:20260420T203000
DTSTAMP:20260426T042642
CREATED:20250123T171614Z
LAST-MODIFIED:20250123T171614Z
UID:10000109-1776708000-1776717000@myloh.church
SUMMARY:Celebrate Recovery
DESCRIPTION:Celebrate Recovery is a safe place for adults to find freedom from your hurts\, hang-ups\, and habits. Dinner is served from 6-7pm and large group begins promptly at 7pm while small groups go until 9pm typically. Desert is served afterwards.
URL:https://myloh.church/event/celebrate-recovery-12/2026-04-20/
LOCATION:Lighthouse of Hope (LOH Church)\, 11507 Moss Ave.\, Cumberland\, MD\, 21502\, United States
CATEGORIES:Celebrate Recovery
ATTACH;FMTTYPE=image/jpeg:https://myloh.church/wp-content/uploads/2024/11/Web-Compressed-6.jpg
END:VEVENT
BEGIN:VEVENT
DTSTART;TZID=UTC:20260427T180000
DTEND;TZID=UTC:20260427T203000
DTSTAMP:20260426T042642
CREATED:20250123T171614Z
LAST-MODIFIED:20250123T171614Z
UID:10000110-1777312800-1777321800@myloh.church
SUMMARY:Celebrate Recovery
DESCRIPTION:Celebrate Recovery is a safe place for adults to find freedom from your hurts\, hang-ups\, and habits. Dinner is served from 6-7pm and large group begins promptly at 7pm while small groups go until 9pm typically. Desert is served afterwards.
URL:https://myloh.church/event/celebrate-recovery-12/2026-04-27/
LOCATION:Lighthouse of Hope (LOH Church)\, 11507 Moss Ave.\, Cumberland\, MD\, 21502\, United States
CATEGORIES:Celebrate Recovery
ATTACH;FMTTYPE=image/jpeg:https://myloh.church/wp-content/uploads/2024/11/Web-Compressed-6.jpg
END:VEVENT
BEGIN:VEVENT
DTSTART;TZID=UTC:20260504T180000
DTEND;TZID=UTC:20260504T203000
DTSTAMP:20260426T042642
CREATED:20250123T171614Z
LAST-MODIFIED:20250123T171614Z
UID:10000111-1777917600-1777926600@myloh.church
SUMMARY:Celebrate Recovery
DESCRIPTION:Celebrate Recovery is a safe place for adults to find freedom from your hurts\, hang-ups\, and habits. Dinner is served from 6-7pm and large group begins promptly at 7pm while small groups go until 9pm typically. Desert is served afterwards.
URL:https://myloh.church/event/celebrate-recovery-12/2026-05-04/
LOCATION:Lighthouse of Hope (LOH Church)\, 11507 Moss Ave.\, Cumberland\, MD\, 21502\, United States
CATEGORIES:Celebrate Recovery
ATTACH;FMTTYPE=image/jpeg:https://myloh.church/wp-content/uploads/2024/11/Web-Compressed-6.jpg
END:VEVENT
BEGIN:VEVENT
DTSTART;TZID=UTC:20260511T180000
DTEND;TZID=UTC:20260511T203000
DTSTAMP:20260426T042642
CREATED:20250123T171614Z
LAST-MODIFIED:20250123T171614Z
UID:10000112-1778522400-1778531400@myloh.church
SUMMARY:Celebrate Recovery
DESCRIPTION:Celebrate Recovery is a safe place for adults to find freedom from your hurts\, hang-ups\, and habits. Dinner is served from 6-7pm and large group begins promptly at 7pm while small groups go until 9pm typically. Desert is served afterwards.
URL:https://myloh.church/event/celebrate-recovery-12/2026-05-11/
LOCATION:Lighthouse of Hope (LOH Church)\, 11507 Moss Ave.\, Cumberland\, MD\, 21502\, United States
CATEGORIES:Celebrate Recovery
ATTACH;FMTTYPE=image/jpeg:https://myloh.church/wp-content/uploads/2024/11/Web-Compressed-6.jpg
END:VEVENT
BEGIN:VEVENT
DTSTART;TZID=UTC:20260518T180000
DTEND;TZID=UTC:20260518T203000
DTSTAMP:20260426T042642
CREATED:20250123T171614Z
LAST-MODIFIED:20250123T171614Z
UID:10000113-1779127200-1779136200@myloh.church
SUMMARY:Celebrate Recovery
DESCRIPTION:Celebrate Recovery is a safe place for adults to find freedom from your hurts\, hang-ups\, and habits. Dinner is served from 6-7pm and large group begins promptly at 7pm while small groups go until 9pm typically. Desert is served afterwards.
URL:https://myloh.church/event/celebrate-recovery-12/2026-05-18/
LOCATION:Lighthouse of Hope (LOH Church)\, 11507 Moss Ave.\, Cumberland\, MD\, 21502\, United States
CATEGORIES:Celebrate Recovery
ATTACH;FMTTYPE=image/jpeg:https://myloh.church/wp-content/uploads/2024/11/Web-Compressed-6.jpg
END:VEVENT
BEGIN:VEVENT
DTSTART;TZID=UTC:20260525T180000
DTEND;TZID=UTC:20260525T203000
DTSTAMP:20260426T042642
CREATED:20250123T171614Z
LAST-MODIFIED:20250123T171614Z
UID:10000114-1779732000-1779741000@myloh.church
SUMMARY:Celebrate Recovery
DESCRIPTION:Celebrate Recovery is a safe place for adults to find freedom from your hurts\, hang-ups\, and habits. Dinner is served from 6-7pm and large group begins promptly at 7pm while small groups go until 9pm typically. Desert is served afterwards.
URL:https://myloh.church/event/celebrate-recovery-12/2026-05-25/
LOCATION:Lighthouse of Hope (LOH Church)\, 11507 Moss Ave.\, Cumberland\, MD\, 21502\, United States
CATEGORIES:Celebrate Recovery
ATTACH;FMTTYPE=image/jpeg:https://myloh.church/wp-content/uploads/2024/11/Web-Compressed-6.jpg
END:VEVENT
BEGIN:VEVENT
DTSTART;TZID=UTC:20260601T180000
DTEND;TZID=UTC:20260601T203000
DTSTAMP:20260426T042642
CREATED:20250123T171614Z
LAST-MODIFIED:20250123T171614Z
UID:10000115-1780336800-1780345800@myloh.church
SUMMARY:Celebrate Recovery
DESCRIPTION:Celebrate Recovery is a safe place for adults to find freedom from your hurts\, hang-ups\, and habits. Dinner is served from 6-7pm and large group begins promptly at 7pm while small groups go until 9pm typically. Desert is served afterwards.
URL:https://myloh.church/event/celebrate-recovery-12/2026-06-01/
LOCATION:Lighthouse of Hope (LOH Church)\, 11507 Moss Ave.\, Cumberland\, MD\, 21502\, United States
CATEGORIES:Celebrate Recovery
ATTACH;FMTTYPE=image/jpeg:https://myloh.church/wp-content/uploads/2024/11/Web-Compressed-6.jpg
END:VEVENT
BEGIN:VEVENT
DTSTART;TZID=UTC:20260608T180000
DTEND;TZID=UTC:20260608T203000
DTSTAMP:20260426T042642
CREATED:20250123T171614Z
LAST-MODIFIED:20250123T171614Z
UID:10000116-1780941600-1780950600@myloh.church
SUMMARY:Celebrate Recovery
DESCRIPTION:Celebrate Recovery is a safe place for adults to find freedom from your hurts\, hang-ups\, and habits. Dinner is served from 6-7pm and large group begins promptly at 7pm while small groups go until 9pm typically. Desert is served afterwards.
URL:https://myloh.church/event/celebrate-recovery-12/2026-06-08/
LOCATION:Lighthouse of Hope (LOH Church)\, 11507 Moss Ave.\, Cumberland\, MD\, 21502\, United States
CATEGORIES:Celebrate Recovery
ATTACH;FMTTYPE=image/jpeg:https://myloh.church/wp-content/uploads/2024/11/Web-Compressed-6.jpg
END:VEVENT
BEGIN:VEVENT
DTSTART;TZID=UTC:20260615T180000
DTEND;TZID=UTC:20260615T203000
DTSTAMP:20260426T042642
CREATED:20250123T171614Z
LAST-MODIFIED:20250123T171614Z
UID:10000117-1781546400-1781555400@myloh.church
SUMMARY:Celebrate Recovery
DESCRIPTION:Celebrate Recovery is a safe place for adults to find freedom from your hurts\, hang-ups\, and habits. Dinner is served from 6-7pm and large group begins promptly at 7pm while small groups go until 9pm typically. Desert is served afterwards.
URL:https://myloh.church/event/celebrate-recovery-12/2026-06-15/
LOCATION:Lighthouse of Hope (LOH Church)\, 11507 Moss Ave.\, Cumberland\, MD\, 21502\, United States
CATEGORIES:Celebrate Recovery
ATTACH;FMTTYPE=image/jpeg:https://myloh.church/wp-content/uploads/2024/11/Web-Compressed-6.jpg
END:VEVENT
BEGIN:VEVENT
DTSTART;TZID=UTC:20260622T180000
DTEND;TZID=UTC:20260622T203000
DTSTAMP:20260426T042642
CREATED:20250123T171614Z
LAST-MODIFIED:20250123T171614Z
UID:10000118-1782151200-1782160200@myloh.church
SUMMARY:Celebrate Recovery
DESCRIPTION:Celebrate Recovery is a safe place for adults to find freedom from your hurts\, hang-ups\, and habits. Dinner is served from 6-7pm and large group begins promptly at 7pm while small groups go until 9pm typically. Desert is served afterwards.
URL:https://myloh.church/event/celebrate-recovery-12/2026-06-22/
LOCATION:Lighthouse of Hope (LOH Church)\, 11507 Moss Ave.\, Cumberland\, MD\, 21502\, United States
CATEGORIES:Celebrate Recovery
ATTACH;FMTTYPE=image/jpeg:https://myloh.church/wp-content/uploads/2024/11/Web-Compressed-6.jpg
END:VEVENT
BEGIN:VEVENT
DTSTART;TZID=UTC:20260629T180000
DTEND;TZID=UTC:20260629T203000
DTSTAMP:20260426T042642
CREATED:20250123T171614Z
LAST-MODIFIED:20250123T171614Z
UID:10000119-1782756000-1782765000@myloh.church
SUMMARY:Celebrate Recovery
DESCRIPTION:Celebrate Recovery is a safe place for adults to find freedom from your hurts\, hang-ups\, and habits. Dinner is served from 6-7pm and large group begins promptly at 7pm while small groups go until 9pm typically. Desert is served afterwards.
URL:https://myloh.church/event/celebrate-recovery-12/2026-06-29/
LOCATION:Lighthouse of Hope (LOH Church)\, 11507 Moss Ave.\, Cumberland\, MD\, 21502\, United States
CATEGORIES:Celebrate Recovery
ATTACH;FMTTYPE=image/jpeg:https://myloh.church/wp-content/uploads/2024/11/Web-Compressed-6.jpg
END:VEVENT
BEGIN:VEVENT
DTSTART;TZID=UTC:20260706T180000
DTEND;TZID=UTC:20260706T203000
DTSTAMP:20260426T042642
CREATED:20250123T171614Z
LAST-MODIFIED:20250123T171614Z
UID:10000120-1783360800-1783369800@myloh.church
SUMMARY:Celebrate Recovery
DESCRIPTION:Celebrate Recovery is a safe place for adults to find freedom from your hurts\, hang-ups\, and habits. Dinner is served from 6-7pm and large group begins promptly at 7pm while small groups go until 9pm typically. Desert is served afterwards.
URL:https://myloh.church/event/celebrate-recovery-12/2026-07-06/
LOCATION:Lighthouse of Hope (LOH Church)\, 11507 Moss Ave.\, Cumberland\, MD\, 21502\, United States
CATEGORIES:Celebrate Recovery
ATTACH;FMTTYPE=image/jpeg:https://myloh.church/wp-content/uploads/2024/11/Web-Compressed-6.jpg
END:VEVENT
BEGIN:VEVENT
DTSTART;TZID=UTC:20260713T180000
DTEND;TZID=UTC:20260713T203000
DTSTAMP:20260426T042642
CREATED:20250123T171614Z
LAST-MODIFIED:20250123T171614Z
UID:10000121-1783965600-1783974600@myloh.church
SUMMARY:Celebrate Recovery
DESCRIPTION:Celebrate Recovery is a safe place for adults to find freedom from your hurts\, hang-ups\, and habits. Dinner is served from 6-7pm and large group begins promptly at 7pm while small groups go until 9pm typically. Desert is served afterwards.
URL:https://myloh.church/event/celebrate-recovery-12/2026-07-13/
LOCATION:Lighthouse of Hope (LOH Church)\, 11507 Moss Ave.\, Cumberland\, MD\, 21502\, United States
CATEGORIES:Celebrate Recovery
ATTACH;FMTTYPE=image/jpeg:https://myloh.church/wp-content/uploads/2024/11/Web-Compressed-6.jpg
END:VEVENT
BEGIN:VEVENT
DTSTART;TZID=UTC:20260720T180000
DTEND;TZID=UTC:20260720T203000
DTSTAMP:20260426T042642
CREATED:20250123T171614Z
LAST-MODIFIED:20250123T171614Z
UID:10000122-1784570400-1784579400@myloh.church
SUMMARY:Celebrate Recovery
DESCRIPTION:Celebrate Recovery is a safe place for adults to find freedom from your hurts\, hang-ups\, and habits. Dinner is served from 6-7pm and large group begins promptly at 7pm while small groups go until 9pm typically. Desert is served afterwards.
URL:https://myloh.church/event/celebrate-recovery-12/2026-07-20/
LOCATION:Lighthouse of Hope (LOH Church)\, 11507 Moss Ave.\, Cumberland\, MD\, 21502\, United States
CATEGORIES:Celebrate Recovery
ATTACH;FMTTYPE=image/jpeg:https://myloh.church/wp-content/uploads/2024/11/Web-Compressed-6.jpg
END:VEVENT
BEGIN:VEVENT
DTSTART;TZID=UTC:20260727T180000
DTEND;TZID=UTC:20260727T203000
DTSTAMP:20260426T042642
CREATED:20250123T171614Z
LAST-MODIFIED:20250123T171614Z
UID:10000123-1785175200-1785184200@myloh.church
SUMMARY:Celebrate Recovery
DESCRIPTION:Celebrate Recovery is a safe place for adults to find freedom from your hurts\, hang-ups\, and habits. Dinner is served from 6-7pm and large group begins promptly at 7pm while small groups go until 9pm typically. Desert is served afterwards.
URL:https://myloh.church/event/celebrate-recovery-12/2026-07-27/
LOCATION:Lighthouse of Hope (LOH Church)\, 11507 Moss Ave.\, Cumberland\, MD\, 21502\, United States
CATEGORIES:Celebrate Recovery
ATTACH;FMTTYPE=image/jpeg:https://myloh.church/wp-content/uploads/2024/11/Web-Compressed-6.jpg
END:VEVENT
BEGIN:VEVENT
DTSTART;TZID=UTC:20260803T180000
DTEND;TZID=UTC:20260803T203000
DTSTAMP:20260426T042642
CREATED:20250123T171614Z
LAST-MODIFIED:20250123T171614Z
UID:10000124-1785780000-1785789000@myloh.church
SUMMARY:Celebrate Recovery
DESCRIPTION:Celebrate Recovery is a safe place for adults to find freedom from your hurts\, hang-ups\, and habits. Dinner is served from 6-7pm and large group begins promptly at 7pm while small groups go until 9pm typically. Desert is served afterwards.
URL:https://myloh.church/event/celebrate-recovery-12/2026-08-03/
LOCATION:Lighthouse of Hope (LOH Church)\, 11507 Moss Ave.\, Cumberland\, MD\, 21502\, United States
CATEGORIES:Celebrate Recovery
ATTACH;FMTTYPE=image/jpeg:https://myloh.church/wp-content/uploads/2024/11/Web-Compressed-6.jpg
END:VEVENT
BEGIN:VEVENT
DTSTART;TZID=UTC:20260810T180000
DTEND;TZID=UTC:20260810T203000
DTSTAMP:20260426T042642
CREATED:20250123T171614Z
LAST-MODIFIED:20250123T171614Z
UID:10000125-1786384800-1786393800@myloh.church
SUMMARY:Celebrate Recovery
DESCRIPTION:Celebrate Recovery is a safe place for adults to find freedom from your hurts\, hang-ups\, and habits. Dinner is served from 6-7pm and large group begins promptly at 7pm while small groups go until 9pm typically. Desert is served afterwards.
URL:https://myloh.church/event/celebrate-recovery-12/2026-08-10/
LOCATION:Lighthouse of Hope (LOH Church)\, 11507 Moss Ave.\, Cumberland\, MD\, 21502\, United States
CATEGORIES:Celebrate Recovery
ATTACH;FMTTYPE=image/jpeg:https://myloh.church/wp-content/uploads/2024/11/Web-Compressed-6.jpg
END:VEVENT
BEGIN:VEVENT
DTSTART;TZID=UTC:20260817T180000
DTEND;TZID=UTC:20260817T203000
DTSTAMP:20260426T042642
CREATED:20250123T171614Z
LAST-MODIFIED:20250123T171614Z
UID:10000126-1786989600-1786998600@myloh.church
SUMMARY:Celebrate Recovery
DESCRIPTION:Celebrate Recovery is a safe place for adults to find freedom from your hurts\, hang-ups\, and habits. Dinner is served from 6-7pm and large group begins promptly at 7pm while small groups go until 9pm typically. Desert is served afterwards.
URL:https://myloh.church/event/celebrate-recovery-12/2026-08-17/
LOCATION:Lighthouse of Hope (LOH Church)\, 11507 Moss Ave.\, Cumberland\, MD\, 21502\, United States
CATEGORIES:Celebrate Recovery
ATTACH;FMTTYPE=image/jpeg:https://myloh.church/wp-content/uploads/2024/11/Web-Compressed-6.jpg
END:VEVENT
BEGIN:VEVENT
DTSTART;TZID=UTC:20260824T180000
DTEND;TZID=UTC:20260824T203000
DTSTAMP:20260426T042642
CREATED:20250123T171614Z
LAST-MODIFIED:20250123T171614Z
UID:10000127-1787594400-1787603400@myloh.church
SUMMARY:Celebrate Recovery
DESCRIPTION:Celebrate Recovery is a safe place for adults to find freedom from your hurts\, hang-ups\, and habits. Dinner is served from 6-7pm and large group begins promptly at 7pm while small groups go until 9pm typically. Desert is served afterwards.
URL:https://myloh.church/event/celebrate-recovery-12/2026-08-24/
LOCATION:Lighthouse of Hope (LOH Church)\, 11507 Moss Ave.\, Cumberland\, MD\, 21502\, United States
CATEGORIES:Celebrate Recovery
ATTACH;FMTTYPE=image/jpeg:https://myloh.church/wp-content/uploads/2024/11/Web-Compressed-6.jpg
END:VEVENT
BEGIN:VEVENT
DTSTART;TZID=UTC:20260831T180000
DTEND;TZID=UTC:20260831T203000
DTSTAMP:20260426T042642
CREATED:20250123T171614Z
LAST-MODIFIED:20250123T171614Z
UID:10000128-1788199200-1788208200@myloh.church
SUMMARY:Celebrate Recovery
DESCRIPTION:Celebrate Recovery is a safe place for adults to find freedom from your hurts\, hang-ups\, and habits. Dinner is served from 6-7pm and large group begins promptly at 7pm while small groups go until 9pm typically. Desert is served afterwards.
URL:https://myloh.church/event/celebrate-recovery-12/2026-08-31/
LOCATION:Lighthouse of Hope (LOH Church)\, 11507 Moss Ave.\, Cumberland\, MD\, 21502\, United States
CATEGORIES:Celebrate Recovery
ATTACH;FMTTYPE=image/jpeg:https://myloh.church/wp-content/uploads/2024/11/Web-Compressed-6.jpg
END:VEVENT
BEGIN:VEVENT
DTSTART;TZID=UTC:20260907T180000
DTEND;TZID=UTC:20260907T203000
DTSTAMP:20260426T042642
CREATED:20250123T171614Z
LAST-MODIFIED:20250123T171614Z
UID:10000129-1788804000-1788813000@myloh.church
SUMMARY:Celebrate Recovery
DESCRIPTION:Celebrate Recovery is a safe place for adults to find freedom from your hurts\, hang-ups\, and habits. Dinner is served from 6-7pm and large group begins promptly at 7pm while small groups go until 9pm typically. Desert is served afterwards.
URL:https://myloh.church/event/celebrate-recovery-12/2026-09-07/
LOCATION:Lighthouse of Hope (LOH Church)\, 11507 Moss Ave.\, Cumberland\, MD\, 21502\, United States
CATEGORIES:Celebrate Recovery
ATTACH;FMTTYPE=image/jpeg:https://myloh.church/wp-content/uploads/2024/11/Web-Compressed-6.jpg
END:VEVENT
END:VCALENDAR