BEGIN:VCALENDAR
VERSION:2.0
PRODID:-//Lighthouse of Hope Church - ECPv6.15.20//NONSGML v1.0//EN
CALSCALE:GREGORIAN
METHOD:PUBLISH
X-ORIGINAL-URL:https://myloh.church
X-WR-CALDESC:Events for Lighthouse of Hope Church
REFRESH-INTERVAL;VALUE=DURATION:PT1H
X-Robots-Tag:noindex
X-PUBLISHED-TTL:PT1H
BEGIN:VTIMEZONE
TZID:UTC
BEGIN:STANDARD
TZOFFSETFROM:+0000
TZOFFSETTO:+0000
TZNAME:UTC
DTSTART:20230101T000000
END:STANDARD
END:VTIMEZONE
BEGIN:VEVENT
DTSTART;TZID=UTC:20241209T180000
DTEND;TZID=UTC:20241209T203000
DTSTAMP:20260425T180837
CREATED:20241119T190447Z
LAST-MODIFIED:20241119T190447Z
UID:10000035-1733767200-1733776200@myloh.church
SUMMARY:Celebrate Recovery
DESCRIPTION:Celebrate Recovery is a safe place for adults to find freedom from your hurts\, hang-ups\, and habits. Dinner is served from 6-7pm and large group begins promptly at 7pm while small groups go until 9pm typically. Desert is served afterwards.
URL:https://myloh.church/event/celebrate-recovery-8/
LOCATION:Lighthouse of Hope (LOH Church)\, 11507 Moss Ave.\, Cumberland\, MD\, 21502\, United States
CATEGORIES:Celebrate Recovery
ATTACH;FMTTYPE=image/jpeg:https://myloh.church/wp-content/uploads/2024/11/Web-Compressed-6.jpg
END:VEVENT
BEGIN:VEVENT
DTSTART;TZID=UTC:20241202T180000
DTEND;TZID=UTC:20241202T203000
DTSTAMP:20260425T180837
CREATED:20241119T190408Z
LAST-MODIFIED:20241119T190408Z
UID:10000034-1733162400-1733171400@myloh.church
SUMMARY:Celebrate Recovery
DESCRIPTION:Celebrate Recovery is a safe place for adults to find freedom from your hurts\, hang-ups\, and habits. Dinner is served from 6-7pm and large group begins promptly at 7pm while small groups go until 9pm typically. Desert is served afterwards.
URL:https://myloh.church/event/celebrate-recovery-7/
LOCATION:Lighthouse of Hope (LOH Church)\, 11507 Moss Ave.\, Cumberland\, MD\, 21502\, United States
CATEGORIES:Celebrate Recovery
ATTACH;FMTTYPE=image/jpeg:https://myloh.church/wp-content/uploads/2024/11/Web-Compressed-6.jpg
END:VEVENT
BEGIN:VEVENT
DTSTART;TZID=UTC:20241125T180000
DTEND;TZID=UTC:20241125T203000
DTSTAMP:20260425T180837
CREATED:20241112T200437Z
LAST-MODIFIED:20241119T185837Z
UID:10000022-1732557600-1732566600@myloh.church
SUMMARY:Celebrate Recovery
DESCRIPTION:Celebrate Recovery is a safe place for adults to find freedom from your hurts\, hang-ups\, and habits. Dinner is served from 6-7pm and large group begins promptly at 7pm while small groups go until 9pm typically. Desert is served afterwards.
URL:https://myloh.church/event/celebrate-recovery-6/
LOCATION:Lighthouse of Hope (LOH Church)\, 11507 Moss Ave.\, Cumberland\, MD\, 21502\, United States
CATEGORIES:Celebrate Recovery
ATTACH;FMTTYPE=image/jpeg:https://myloh.church/wp-content/uploads/2024/11/Web-Compressed-6.jpg
END:VEVENT
BEGIN:VEVENT
DTSTART;TZID=UTC:20241118T180000
DTEND;TZID=UTC:20241118T203000
DTSTAMP:20260425T180837
CREATED:20241112T200353Z
LAST-MODIFIED:20241112T200353Z
UID:10000021-1731952800-1731961800@myloh.church
SUMMARY:Celebrate Recovery
DESCRIPTION:Celebrate Recovery is a safe place for adults to find freedom from your hurts\, hang-ups\, and habits. Dinner is served from 6-7pm and large group begins promptly at 7pm while small groups go until 9pm typically. Desert is served afterwards.
URL:https://myloh.church/event/celebrate-recovery-5/
LOCATION:Lighthouse of Hope (LOH Church)\, 11507 Moss Ave.\, Cumberland\, MD\, 21502\, United States
CATEGORIES:Celebrate Recovery
ATTACH;FMTTYPE=image/jpeg:https://myloh.church/wp-content/uploads/2024/10/ShineKids-Wear-Your-Not-So-Spooky-Costumes-Sunday-1.jpg
END:VEVENT
BEGIN:VEVENT
DTSTART;TZID=UTC:20241028T180000
DTEND;TZID=UTC:20241028T203000
DTSTAMP:20260425T180837
CREATED:20241001T181724Z
LAST-MODIFIED:20241001T181724Z
UID:10000010-1730138400-1730147400@myloh.church
SUMMARY:Celebrate Recovery
DESCRIPTION:Celebrate Recovery is a safe place for adults to find freedom from your hurts\, hang-ups\, and habits. Dinner is served from 6-7pm and large group begins promptly at 7pm while small groups go until 9pm typically. Desert is served afterwards.
URL:https://myloh.church/event/celebrate-recovery-3/
LOCATION:Lighthouse of Hope (LOH Church)\, 11507 Moss Ave.\, Cumberland\, MD\, 21502\, United States
CATEGORIES:Celebrate Recovery
ATTACH;FMTTYPE=image/jpeg:https://myloh.church/wp-content/uploads/2024/10/ShineKids-Wear-Your-Not-So-Spooky-Costumes-Sunday-1.jpg
END:VEVENT
BEGIN:VEVENT
DTSTART;TZID=UTC:20241021T180000
DTEND;TZID=UTC:20241021T203000
DTSTAMP:20260425T180837
CREATED:20241001T181646Z
LAST-MODIFIED:20241001T181646Z
UID:10000009-1729533600-1729542600@myloh.church
SUMMARY:Celebrate Recovery
DESCRIPTION:Celebrate Recovery is a safe place for adults to find freedom from your hurts\, hang-ups\, and habits. Dinner is served from 6-7pm and large group begins promptly at 7pm while small groups go until 9pm typically. Desert is served afterwards.
URL:https://myloh.church/event/celebrate-recovery-2/
LOCATION:Lighthouse of Hope (LOH Church)\, 11507 Moss Ave.\, Cumberland\, MD\, 21502\, United States
CATEGORIES:Celebrate Recovery
ATTACH;FMTTYPE=image/jpeg:https://myloh.church/wp-content/uploads/2024/10/ShineKids-Wear-Your-Not-So-Spooky-Costumes-Sunday-1.jpg
END:VEVENT
BEGIN:VEVENT
DTSTART;TZID=UTC:20241014T180000
DTEND;TZID=UTC:20241014T203000
DTSTAMP:20260425T180837
CREATED:20241001T181436Z
LAST-MODIFIED:20241001T181604Z
UID:10000007-1728928800-1728937800@myloh.church
SUMMARY:Celebrate Recovery
DESCRIPTION:Celebrate Recovery is a safe place for adults to find freedom from your hurts\, hang-ups\, and habits. Dinner is served from 6-7pm and large group begins promptly at 7pm while small groups go until 9pm typically. Desert is served afterwards.
URL:https://myloh.church/event/celebrate-recovery/
LOCATION:Lighthouse of Hope (LOH Church)\, 11507 Moss Ave.\, Cumberland\, MD\, 21502\, United States
CATEGORIES:Celebrate Recovery
ATTACH;FMTTYPE=image/jpeg:https://myloh.church/wp-content/uploads/2024/10/ShineKids-Wear-Your-Not-So-Spooky-Costumes-Sunday-1.jpg
END:VEVENT
BEGIN:VEVENT
DTSTART;TZID=UTC:20241007T180000
DTEND;TZID=UTC:20241007T203000
DTSTAMP:20260425T180837
CREATED:20241001T181839Z
LAST-MODIFIED:20241001T181839Z
UID:10000008-1728324000-1728333000@myloh.church
SUMMARY:Celebrate Recovery
DESCRIPTION:Celebrate Recovery is a safe place for adults to find freedom from your hurts\, hang-ups\, and habits. Dinner is served from 6-7pm and large group begins promptly at 7pm while small groups go until 9pm typically. Desert is served afterwards.
URL:https://myloh.church/event/celebrate-recovery-4/
LOCATION:Lighthouse of Hope (LOH Church)\, 11507 Moss Ave.\, Cumberland\, MD\, 21502\, United States
CATEGORIES:Celebrate Recovery
ATTACH;FMTTYPE=image/jpeg:https://myloh.church/wp-content/uploads/2024/10/ShineKids-Wear-Your-Not-So-Spooky-Costumes-Sunday-1.jpg
END:VEVENT
END:VCALENDAR