BEGIN:VCALENDAR
VERSION:2.0
PRODID:-//Lighthouse of Hope Church - ECPv6.15.20//NONSGML v1.0//EN
CALSCALE:GREGORIAN
METHOD:PUBLISH
X-WR-CALNAME:Lighthouse of Hope Church
X-ORIGINAL-URL:https://myloh.church
X-WR-CALDESC:Events for Lighthouse of Hope Church
REFRESH-INTERVAL;VALUE=DURATION:PT1H
X-Robots-Tag:noindex
X-PUBLISHED-TTL:PT1H
BEGIN:VTIMEZONE
TZID:America/New_York
BEGIN:DAYLIGHT
TZOFFSETFROM:-0500
TZOFFSETTO:-0400
TZNAME:EDT
DTSTART:20230312T070000
END:DAYLIGHT
BEGIN:STANDARD
TZOFFSETFROM:-0400
TZOFFSETTO:-0500
TZNAME:EST
DTSTART:20231105T060000
END:STANDARD
BEGIN:DAYLIGHT
TZOFFSETFROM:-0500
TZOFFSETTO:-0400
TZNAME:EDT
DTSTART:20240310T070000
END:DAYLIGHT
BEGIN:STANDARD
TZOFFSETFROM:-0400
TZOFFSETTO:-0500
TZNAME:EST
DTSTART:20241103T060000
END:STANDARD
BEGIN:DAYLIGHT
TZOFFSETFROM:-0500
TZOFFSETTO:-0400
TZNAME:EDT
DTSTART:20250309T070000
END:DAYLIGHT
BEGIN:STANDARD
TZOFFSETFROM:-0400
TZOFFSETTO:-0500
TZNAME:EST
DTSTART:20251102T060000
END:STANDARD
END:VTIMEZONE
BEGIN:VEVENT
DTSTART;TZID=America/New_York:20241107T183000
DTEND;TZID=America/New_York:20241107T203000
DTSTAMP:20260425T154651
CREATED:20241011T164908Z
LAST-MODIFIED:20241011T164908Z
UID:10000019-1731004200-1731011400@myloh.church
SUMMARY:Ladies Study
DESCRIPTION:Ladies Study – I Want to Trust You\, But I Don’t\n\nNovember 7  • 6:30 PM\n@ LOH Church\n\n\n\n\nMoving forward when you’re skeptical of others\, afraid of what God will allow\, and doubtful of your own discernment. Join us for a video study and discussion with other women of faith.
URL:https://myloh.church/event/ladies-study-3/
LOCATION:Lighthouse of Hope (LOH Church)\, 11507 Moss Ave.\, Cumberland\, MD\, 21502\, United States
CATEGORIES:Ladies of LIGHT
ATTACH;FMTTYPE=image/webp:https://myloh.church/wp-content/uploads/2024/10/i-want-to-trust-you-but-i-dont1080x1080_5_590x590@2x.webp
ORGANIZER;CN="LOH Church":MAILTO:office@myloh.church
END:VEVENT
BEGIN:VEVENT
DTSTART;TZID=America/New_York:20241030T183000
DTEND;TZID=America/New_York:20241030T203000
DTSTAMP:20260425T154651
CREATED:20241011T164835Z
LAST-MODIFIED:20241011T164835Z
UID:10000018-1730313000-1730320200@myloh.church
SUMMARY:Ladies Study
DESCRIPTION:Ladies Study – I Want to Trust You\, But I Don’t\n\nOctober 30  • 6:30 PM\n@ LOH Church\n\n\n\n\nMoving forward when you’re skeptical of others\, afraid of what God will allow\, and doubtful of your own discernment. Join us for a video study and discussion with other women of faith.
URL:https://myloh.church/event/ladies-study-2/
LOCATION:Lighthouse of Hope (LOH Church)\, 11507 Moss Ave.\, Cumberland\, MD\, 21502\, United States
CATEGORIES:Ladies of LIGHT
ATTACH;FMTTYPE=image/webp:https://myloh.church/wp-content/uploads/2024/10/i-want-to-trust-you-but-i-dont1080x1080_5_590x590@2x.webp
ORGANIZER;CN="LOH Church":MAILTO:office@myloh.church
END:VEVENT
BEGIN:VEVENT
DTSTART;TZID=America/New_York:20241024T183000
DTEND;TZID=America/New_York:20241024T203000
DTSTAMP:20260425T154651
CREATED:20241006T160728Z
LAST-MODIFIED:20241006T161002Z
UID:10000015-1729794600-1729801800@myloh.church
SUMMARY:Ladies Craft Night
DESCRIPTION:Ladies Craft Night\n\nOctober 24  • 6:30 PM\n@ LOH Church\n\n\n\n\nFall and winter craft creation with your favorite LOH Ladies
URL:https://myloh.church/event/ladies-craft-night/
LOCATION:Lighthouse of Hope (LOH Church)\, 11507 Moss Ave.\, Cumberland\, MD\, 21502\, United States
CATEGORIES:Ladies of LIGHT
ATTACH;FMTTYPE=image/png:https://myloh.church/wp-content/uploads/2024/10/Ladies-Craft-Night.png
ORGANIZER;CN="LOH Church":MAILTO:office@myloh.church
END:VEVENT
BEGIN:VEVENT
DTSTART;TZID=America/New_York:20241017T183000
DTEND;TZID=America/New_York:20241017T203000
DTSTAMP:20260425T154651
CREATED:20241011T164732Z
LAST-MODIFIED:20241011T164732Z
UID:10000017-1729189800-1729197000@myloh.church
SUMMARY:Ladies Study
DESCRIPTION:Ladies Study – I Want to Trust You\, But I Don’t\n\nOctober 17  • 6:30 PM\n@ LOH Church\n\n\n\n\nMoving forward when you’re skeptical of others\, afraid of what God will allow\, and doubtful of your own discernment. Join us for a video study and discussion with other women of faith.
URL:https://myloh.church/event/ladies-study/
LOCATION:Lighthouse of Hope (LOH Church)\, 11507 Moss Ave.\, Cumberland\, MD\, 21502\, United States
CATEGORIES:Ladies of LIGHT
ATTACH;FMTTYPE=image/webp:https://myloh.church/wp-content/uploads/2024/10/i-want-to-trust-you-but-i-dont1080x1080_5_590x590@2x.webp
ORGANIZER;CN="LOH Church":MAILTO:office@myloh.church
END:VEVENT
END:VCALENDAR