BEGIN:VCALENDAR
VERSION:2.0
PRODID:-//Lighthouse of Hope Church - ECPv6.15.20//NONSGML v1.0//EN
CALSCALE:GREGORIAN
METHOD:PUBLISH
X-WR-CALNAME:Lighthouse of Hope Church
X-ORIGINAL-URL:https://myloh.church
X-WR-CALDESC:Events for Lighthouse of Hope Church
REFRESH-INTERVAL;VALUE=DURATION:PT1H
X-Robots-Tag:noindex
X-PUBLISHED-TTL:PT1H
BEGIN:VTIMEZONE
TZID:UTC
BEGIN:STANDARD
TZOFFSETFROM:+0000
TZOFFSETTO:+0000
TZNAME:UTC
DTSTART:20270101T000000
END:STANDARD
END:VTIMEZONE
BEGIN:VEVENT
DTSTART;TZID=UTC:20280521T180000
DTEND;TZID=UTC:20280521T200000
DTSTAMP:20260425T195052
CREATED:20241119T190330Z
LAST-MODIFIED:20250123T171729Z
UID:10000484-1842544800-1842552000@myloh.church
SUMMARY:MOVE Students
DESCRIPTION:MOVE Home is for middle and high school students curious about faith and eager to discover how a relationship with Jesus could change their lives\, their schools and city. \nOn Sunday afternoons\, students meet up with their friends for live worship\, practical teaching\, and small group conversation guided by adult leaders who care about them.
URL:https://myloh.church/event/move-students-8/2028-05-21/
LOCATION:Lighthouse of Hope (LOH Church)\, 11507 Moss Ave.\, Cumberland\, MD\, 21502\, United States
CATEGORIES:MOVE Students
ATTACH;FMTTYPE=image/jpeg:https://myloh.church/wp-content/uploads/2024/11/Web-Compressed-5.jpg
ORGANIZER;CN="LOH Church":MAILTO:office@myloh.church
END:VEVENT
BEGIN:VEVENT
DTSTART;TZID=UTC:20280528T180000
DTEND;TZID=UTC:20280528T200000
DTSTAMP:20260425T195052
CREATED:20241119T190330Z
LAST-MODIFIED:20250123T171729Z
UID:10000485-1843149600-1843156800@myloh.church
SUMMARY:MOVE Students
DESCRIPTION:MOVE Home is for middle and high school students curious about faith and eager to discover how a relationship with Jesus could change their lives\, their schools and city. \nOn Sunday afternoons\, students meet up with their friends for live worship\, practical teaching\, and small group conversation guided by adult leaders who care about them.
URL:https://myloh.church/event/move-students-8/2028-05-28/
LOCATION:Lighthouse of Hope (LOH Church)\, 11507 Moss Ave.\, Cumberland\, MD\, 21502\, United States
CATEGORIES:MOVE Students
ATTACH;FMTTYPE=image/jpeg:https://myloh.church/wp-content/uploads/2024/11/Web-Compressed-5.jpg
ORGANIZER;CN="LOH Church":MAILTO:office@myloh.church
END:VEVENT
BEGIN:VEVENT
DTSTART;TZID=UTC:20280604T180000
DTEND;TZID=UTC:20280604T200000
DTSTAMP:20260425T195052
CREATED:20241119T190330Z
LAST-MODIFIED:20250123T171729Z
UID:10000486-1843754400-1843761600@myloh.church
SUMMARY:MOVE Students
DESCRIPTION:MOVE Home is for middle and high school students curious about faith and eager to discover how a relationship with Jesus could change their lives\, their schools and city. \nOn Sunday afternoons\, students meet up with their friends for live worship\, practical teaching\, and small group conversation guided by adult leaders who care about them.
URL:https://myloh.church/event/move-students-8/2028-06-04/
LOCATION:Lighthouse of Hope (LOH Church)\, 11507 Moss Ave.\, Cumberland\, MD\, 21502\, United States
CATEGORIES:MOVE Students
ATTACH;FMTTYPE=image/jpeg:https://myloh.church/wp-content/uploads/2024/11/Web-Compressed-5.jpg
ORGANIZER;CN="LOH Church":MAILTO:office@myloh.church
END:VEVENT
BEGIN:VEVENT
DTSTART;TZID=UTC:20280611T180000
DTEND;TZID=UTC:20280611T200000
DTSTAMP:20260425T195052
CREATED:20241119T190330Z
LAST-MODIFIED:20250123T171729Z
UID:10000487-1844359200-1844366400@myloh.church
SUMMARY:MOVE Students
DESCRIPTION:MOVE Home is for middle and high school students curious about faith and eager to discover how a relationship with Jesus could change their lives\, their schools and city. \nOn Sunday afternoons\, students meet up with their friends for live worship\, practical teaching\, and small group conversation guided by adult leaders who care about them.
URL:https://myloh.church/event/move-students-8/2028-06-11/
LOCATION:Lighthouse of Hope (LOH Church)\, 11507 Moss Ave.\, Cumberland\, MD\, 21502\, United States
CATEGORIES:MOVE Students
ATTACH;FMTTYPE=image/jpeg:https://myloh.church/wp-content/uploads/2024/11/Web-Compressed-5.jpg
ORGANIZER;CN="LOH Church":MAILTO:office@myloh.church
END:VEVENT
BEGIN:VEVENT
DTSTART;TZID=UTC:20280618T180000
DTEND;TZID=UTC:20280618T200000
DTSTAMP:20260425T195052
CREATED:20241119T190330Z
LAST-MODIFIED:20250123T171729Z
UID:10000488-1844964000-1844971200@myloh.church
SUMMARY:MOVE Students
DESCRIPTION:MOVE Home is for middle and high school students curious about faith and eager to discover how a relationship with Jesus could change their lives\, their schools and city. \nOn Sunday afternoons\, students meet up with their friends for live worship\, practical teaching\, and small group conversation guided by adult leaders who care about them.
URL:https://myloh.church/event/move-students-8/2028-06-18/
LOCATION:Lighthouse of Hope (LOH Church)\, 11507 Moss Ave.\, Cumberland\, MD\, 21502\, United States
CATEGORIES:MOVE Students
ATTACH;FMTTYPE=image/jpeg:https://myloh.church/wp-content/uploads/2024/11/Web-Compressed-5.jpg
ORGANIZER;CN="LOH Church":MAILTO:office@myloh.church
END:VEVENT
BEGIN:VEVENT
DTSTART;TZID=UTC:20280625T180000
DTEND;TZID=UTC:20280625T200000
DTSTAMP:20260425T195052
CREATED:20241119T190330Z
LAST-MODIFIED:20250123T171729Z
UID:10000489-1845568800-1845576000@myloh.church
SUMMARY:MOVE Students
DESCRIPTION:MOVE Home is for middle and high school students curious about faith and eager to discover how a relationship with Jesus could change their lives\, their schools and city. \nOn Sunday afternoons\, students meet up with their friends for live worship\, practical teaching\, and small group conversation guided by adult leaders who care about them.
URL:https://myloh.church/event/move-students-8/2028-06-25/
LOCATION:Lighthouse of Hope (LOH Church)\, 11507 Moss Ave.\, Cumberland\, MD\, 21502\, United States
CATEGORIES:MOVE Students
ATTACH;FMTTYPE=image/jpeg:https://myloh.church/wp-content/uploads/2024/11/Web-Compressed-5.jpg
ORGANIZER;CN="LOH Church":MAILTO:office@myloh.church
END:VEVENT
BEGIN:VEVENT
DTSTART;TZID=UTC:20280702T180000
DTEND;TZID=UTC:20280702T200000
DTSTAMP:20260425T195052
CREATED:20241119T190330Z
LAST-MODIFIED:20250123T171729Z
UID:10000490-1846173600-1846180800@myloh.church
SUMMARY:MOVE Students
DESCRIPTION:MOVE Home is for middle and high school students curious about faith and eager to discover how a relationship with Jesus could change their lives\, their schools and city. \nOn Sunday afternoons\, students meet up with their friends for live worship\, practical teaching\, and small group conversation guided by adult leaders who care about them.
URL:https://myloh.church/event/move-students-8/2028-07-02/
LOCATION:Lighthouse of Hope (LOH Church)\, 11507 Moss Ave.\, Cumberland\, MD\, 21502\, United States
CATEGORIES:MOVE Students
ATTACH;FMTTYPE=image/jpeg:https://myloh.church/wp-content/uploads/2024/11/Web-Compressed-5.jpg
ORGANIZER;CN="LOH Church":MAILTO:office@myloh.church
END:VEVENT
BEGIN:VEVENT
DTSTART;TZID=UTC:20280709T180000
DTEND;TZID=UTC:20280709T200000
DTSTAMP:20260425T195052
CREATED:20241119T190330Z
LAST-MODIFIED:20250123T171729Z
UID:10000491-1846778400-1846785600@myloh.church
SUMMARY:MOVE Students
DESCRIPTION:MOVE Home is for middle and high school students curious about faith and eager to discover how a relationship with Jesus could change their lives\, their schools and city. \nOn Sunday afternoons\, students meet up with their friends for live worship\, practical teaching\, and small group conversation guided by adult leaders who care about them.
URL:https://myloh.church/event/move-students-8/2028-07-09/
LOCATION:Lighthouse of Hope (LOH Church)\, 11507 Moss Ave.\, Cumberland\, MD\, 21502\, United States
CATEGORIES:MOVE Students
ATTACH;FMTTYPE=image/jpeg:https://myloh.church/wp-content/uploads/2024/11/Web-Compressed-5.jpg
ORGANIZER;CN="LOH Church":MAILTO:office@myloh.church
END:VEVENT
BEGIN:VEVENT
DTSTART;TZID=UTC:20280716T180000
DTEND;TZID=UTC:20280716T200000
DTSTAMP:20260425T195052
CREATED:20241119T190330Z
LAST-MODIFIED:20250123T171729Z
UID:10000492-1847383200-1847390400@myloh.church
SUMMARY:MOVE Students
DESCRIPTION:MOVE Home is for middle and high school students curious about faith and eager to discover how a relationship with Jesus could change their lives\, their schools and city. \nOn Sunday afternoons\, students meet up with their friends for live worship\, practical teaching\, and small group conversation guided by adult leaders who care about them.
URL:https://myloh.church/event/move-students-8/2028-07-16/
LOCATION:Lighthouse of Hope (LOH Church)\, 11507 Moss Ave.\, Cumberland\, MD\, 21502\, United States
CATEGORIES:MOVE Students
ATTACH;FMTTYPE=image/jpeg:https://myloh.church/wp-content/uploads/2024/11/Web-Compressed-5.jpg
ORGANIZER;CN="LOH Church":MAILTO:office@myloh.church
END:VEVENT
BEGIN:VEVENT
DTSTART;TZID=UTC:20280723T180000
DTEND;TZID=UTC:20280723T200000
DTSTAMP:20260425T195052
CREATED:20241119T190330Z
LAST-MODIFIED:20250123T171729Z
UID:10000493-1847988000-1847995200@myloh.church
SUMMARY:MOVE Students
DESCRIPTION:MOVE Home is for middle and high school students curious about faith and eager to discover how a relationship with Jesus could change their lives\, their schools and city. \nOn Sunday afternoons\, students meet up with their friends for live worship\, practical teaching\, and small group conversation guided by adult leaders who care about them.
URL:https://myloh.church/event/move-students-8/2028-07-23/
LOCATION:Lighthouse of Hope (LOH Church)\, 11507 Moss Ave.\, Cumberland\, MD\, 21502\, United States
CATEGORIES:MOVE Students
ATTACH;FMTTYPE=image/jpeg:https://myloh.church/wp-content/uploads/2024/11/Web-Compressed-5.jpg
ORGANIZER;CN="LOH Church":MAILTO:office@myloh.church
END:VEVENT
BEGIN:VEVENT
DTSTART;TZID=UTC:20280730T180000
DTEND;TZID=UTC:20280730T200000
DTSTAMP:20260425T195052
CREATED:20241119T190330Z
LAST-MODIFIED:20250123T171729Z
UID:10000494-1848592800-1848600000@myloh.church
SUMMARY:MOVE Students
DESCRIPTION:MOVE Home is for middle and high school students curious about faith and eager to discover how a relationship with Jesus could change their lives\, their schools and city. \nOn Sunday afternoons\, students meet up with their friends for live worship\, practical teaching\, and small group conversation guided by adult leaders who care about them.
URL:https://myloh.church/event/move-students-8/2028-07-30/
LOCATION:Lighthouse of Hope (LOH Church)\, 11507 Moss Ave.\, Cumberland\, MD\, 21502\, United States
CATEGORIES:MOVE Students
ATTACH;FMTTYPE=image/jpeg:https://myloh.church/wp-content/uploads/2024/11/Web-Compressed-5.jpg
ORGANIZER;CN="LOH Church":MAILTO:office@myloh.church
END:VEVENT
BEGIN:VEVENT
DTSTART;TZID=UTC:20280806T180000
DTEND;TZID=UTC:20280806T200000
DTSTAMP:20260425T195052
CREATED:20241119T190330Z
LAST-MODIFIED:20250123T171729Z
UID:10000495-1849197600-1849204800@myloh.church
SUMMARY:MOVE Students
DESCRIPTION:MOVE Home is for middle and high school students curious about faith and eager to discover how a relationship with Jesus could change their lives\, their schools and city. \nOn Sunday afternoons\, students meet up with their friends for live worship\, practical teaching\, and small group conversation guided by adult leaders who care about them.
URL:https://myloh.church/event/move-students-8/2028-08-06/
LOCATION:Lighthouse of Hope (LOH Church)\, 11507 Moss Ave.\, Cumberland\, MD\, 21502\, United States
CATEGORIES:MOVE Students
ATTACH;FMTTYPE=image/jpeg:https://myloh.church/wp-content/uploads/2024/11/Web-Compressed-5.jpg
ORGANIZER;CN="LOH Church":MAILTO:office@myloh.church
END:VEVENT
BEGIN:VEVENT
DTSTART;TZID=UTC:20280813T180000
DTEND;TZID=UTC:20280813T200000
DTSTAMP:20260425T195052
CREATED:20241119T190330Z
LAST-MODIFIED:20250123T171729Z
UID:10000496-1849802400-1849809600@myloh.church
SUMMARY:MOVE Students
DESCRIPTION:MOVE Home is for middle and high school students curious about faith and eager to discover how a relationship with Jesus could change their lives\, their schools and city. \nOn Sunday afternoons\, students meet up with their friends for live worship\, practical teaching\, and small group conversation guided by adult leaders who care about them.
URL:https://myloh.church/event/move-students-8/2028-08-13/
LOCATION:Lighthouse of Hope (LOH Church)\, 11507 Moss Ave.\, Cumberland\, MD\, 21502\, United States
CATEGORIES:MOVE Students
ATTACH;FMTTYPE=image/jpeg:https://myloh.church/wp-content/uploads/2024/11/Web-Compressed-5.jpg
ORGANIZER;CN="LOH Church":MAILTO:office@myloh.church
END:VEVENT
BEGIN:VEVENT
DTSTART;TZID=UTC:20280820T180000
DTEND;TZID=UTC:20280820T200000
DTSTAMP:20260425T195052
CREATED:20241119T190330Z
LAST-MODIFIED:20250123T171729Z
UID:10000497-1850407200-1850414400@myloh.church
SUMMARY:MOVE Students
DESCRIPTION:MOVE Home is for middle and high school students curious about faith and eager to discover how a relationship with Jesus could change their lives\, their schools and city. \nOn Sunday afternoons\, students meet up with their friends for live worship\, practical teaching\, and small group conversation guided by adult leaders who care about them.
URL:https://myloh.church/event/move-students-8/2028-08-20/
LOCATION:Lighthouse of Hope (LOH Church)\, 11507 Moss Ave.\, Cumberland\, MD\, 21502\, United States
CATEGORIES:MOVE Students
ATTACH;FMTTYPE=image/jpeg:https://myloh.church/wp-content/uploads/2024/11/Web-Compressed-5.jpg
ORGANIZER;CN="LOH Church":MAILTO:office@myloh.church
END:VEVENT
BEGIN:VEVENT
DTSTART;TZID=UTC:20280827T180000
DTEND;TZID=UTC:20280827T200000
DTSTAMP:20260425T195052
CREATED:20241119T190330Z
LAST-MODIFIED:20250123T171729Z
UID:10000498-1851012000-1851019200@myloh.church
SUMMARY:MOVE Students
DESCRIPTION:MOVE Home is for middle and high school students curious about faith and eager to discover how a relationship with Jesus could change their lives\, their schools and city. \nOn Sunday afternoons\, students meet up with their friends for live worship\, practical teaching\, and small group conversation guided by adult leaders who care about them.
URL:https://myloh.church/event/move-students-8/2028-08-27/
LOCATION:Lighthouse of Hope (LOH Church)\, 11507 Moss Ave.\, Cumberland\, MD\, 21502\, United States
CATEGORIES:MOVE Students
ATTACH;FMTTYPE=image/jpeg:https://myloh.church/wp-content/uploads/2024/11/Web-Compressed-5.jpg
ORGANIZER;CN="LOH Church":MAILTO:office@myloh.church
END:VEVENT
BEGIN:VEVENT
DTSTART;TZID=UTC:20280903T180000
DTEND;TZID=UTC:20280903T200000
DTSTAMP:20260425T195052
CREATED:20241119T190330Z
LAST-MODIFIED:20250123T171729Z
UID:10000499-1851616800-1851624000@myloh.church
SUMMARY:MOVE Students
DESCRIPTION:MOVE Home is for middle and high school students curious about faith and eager to discover how a relationship with Jesus could change their lives\, their schools and city. \nOn Sunday afternoons\, students meet up with their friends for live worship\, practical teaching\, and small group conversation guided by adult leaders who care about them.
URL:https://myloh.church/event/move-students-8/2028-09-03/
LOCATION:Lighthouse of Hope (LOH Church)\, 11507 Moss Ave.\, Cumberland\, MD\, 21502\, United States
CATEGORIES:MOVE Students
ATTACH;FMTTYPE=image/jpeg:https://myloh.church/wp-content/uploads/2024/11/Web-Compressed-5.jpg
ORGANIZER;CN="LOH Church":MAILTO:office@myloh.church
END:VEVENT
BEGIN:VEVENT
DTSTART;TZID=UTC:20280910T180000
DTEND;TZID=UTC:20280910T200000
DTSTAMP:20260425T195052
CREATED:20241119T190330Z
LAST-MODIFIED:20250123T171729Z
UID:10000500-1852221600-1852228800@myloh.church
SUMMARY:MOVE Students
DESCRIPTION:MOVE Home is for middle and high school students curious about faith and eager to discover how a relationship with Jesus could change their lives\, their schools and city. \nOn Sunday afternoons\, students meet up with their friends for live worship\, practical teaching\, and small group conversation guided by adult leaders who care about them.
URL:https://myloh.church/event/move-students-8/2028-09-10/
LOCATION:Lighthouse of Hope (LOH Church)\, 11507 Moss Ave.\, Cumberland\, MD\, 21502\, United States
CATEGORIES:MOVE Students
ATTACH;FMTTYPE=image/jpeg:https://myloh.church/wp-content/uploads/2024/11/Web-Compressed-5.jpg
ORGANIZER;CN="LOH Church":MAILTO:office@myloh.church
END:VEVENT
BEGIN:VEVENT
DTSTART;TZID=UTC:20280917T180000
DTEND;TZID=UTC:20280917T200000
DTSTAMP:20260425T195052
CREATED:20241119T190330Z
LAST-MODIFIED:20250123T171729Z
UID:10000501-1852826400-1852833600@myloh.church
SUMMARY:MOVE Students
DESCRIPTION:MOVE Home is for middle and high school students curious about faith and eager to discover how a relationship with Jesus could change their lives\, their schools and city. \nOn Sunday afternoons\, students meet up with their friends for live worship\, practical teaching\, and small group conversation guided by adult leaders who care about them.
URL:https://myloh.church/event/move-students-8/2028-09-17/
LOCATION:Lighthouse of Hope (LOH Church)\, 11507 Moss Ave.\, Cumberland\, MD\, 21502\, United States
CATEGORIES:MOVE Students
ATTACH;FMTTYPE=image/jpeg:https://myloh.church/wp-content/uploads/2024/11/Web-Compressed-5.jpg
ORGANIZER;CN="LOH Church":MAILTO:office@myloh.church
END:VEVENT
BEGIN:VEVENT
DTSTART;TZID=UTC:20280924T180000
DTEND;TZID=UTC:20280924T200000
DTSTAMP:20260425T195052
CREATED:20241119T190330Z
LAST-MODIFIED:20250123T171729Z
UID:10000502-1853431200-1853438400@myloh.church
SUMMARY:MOVE Students
DESCRIPTION:MOVE Home is for middle and high school students curious about faith and eager to discover how a relationship with Jesus could change their lives\, their schools and city. \nOn Sunday afternoons\, students meet up with their friends for live worship\, practical teaching\, and small group conversation guided by adult leaders who care about them.
URL:https://myloh.church/event/move-students-8/2028-09-24/
LOCATION:Lighthouse of Hope (LOH Church)\, 11507 Moss Ave.\, Cumberland\, MD\, 21502\, United States
CATEGORIES:MOVE Students
ATTACH;FMTTYPE=image/jpeg:https://myloh.church/wp-content/uploads/2024/11/Web-Compressed-5.jpg
ORGANIZER;CN="LOH Church":MAILTO:office@myloh.church
END:VEVENT
BEGIN:VEVENT
DTSTART;TZID=UTC:20281001T180000
DTEND;TZID=UTC:20281001T200000
DTSTAMP:20260425T195052
CREATED:20241119T190330Z
LAST-MODIFIED:20250123T171729Z
UID:10000503-1854036000-1854043200@myloh.church
SUMMARY:MOVE Students
DESCRIPTION:MOVE Home is for middle and high school students curious about faith and eager to discover how a relationship with Jesus could change their lives\, their schools and city. \nOn Sunday afternoons\, students meet up with their friends for live worship\, practical teaching\, and small group conversation guided by adult leaders who care about them.
URL:https://myloh.church/event/move-students-8/2028-10-01/
LOCATION:Lighthouse of Hope (LOH Church)\, 11507 Moss Ave.\, Cumberland\, MD\, 21502\, United States
CATEGORIES:MOVE Students
ATTACH;FMTTYPE=image/jpeg:https://myloh.church/wp-content/uploads/2024/11/Web-Compressed-5.jpg
ORGANIZER;CN="LOH Church":MAILTO:office@myloh.church
END:VEVENT
BEGIN:VEVENT
DTSTART;TZID=UTC:20281008T180000
DTEND;TZID=UTC:20281008T200000
DTSTAMP:20260425T195052
CREATED:20241119T190330Z
LAST-MODIFIED:20250123T171729Z
UID:10000504-1854640800-1854648000@myloh.church
SUMMARY:MOVE Students
DESCRIPTION:MOVE Home is for middle and high school students curious about faith and eager to discover how a relationship with Jesus could change their lives\, their schools and city. \nOn Sunday afternoons\, students meet up with their friends for live worship\, practical teaching\, and small group conversation guided by adult leaders who care about them.
URL:https://myloh.church/event/move-students-8/2028-10-08/
LOCATION:Lighthouse of Hope (LOH Church)\, 11507 Moss Ave.\, Cumberland\, MD\, 21502\, United States
CATEGORIES:MOVE Students
ATTACH;FMTTYPE=image/jpeg:https://myloh.church/wp-content/uploads/2024/11/Web-Compressed-5.jpg
ORGANIZER;CN="LOH Church":MAILTO:office@myloh.church
END:VEVENT
BEGIN:VEVENT
DTSTART;TZID=UTC:20281015T180000
DTEND;TZID=UTC:20281015T200000
DTSTAMP:20260425T195052
CREATED:20241119T190330Z
LAST-MODIFIED:20250123T171729Z
UID:10000505-1855245600-1855252800@myloh.church
SUMMARY:MOVE Students
DESCRIPTION:MOVE Home is for middle and high school students curious about faith and eager to discover how a relationship with Jesus could change their lives\, their schools and city. \nOn Sunday afternoons\, students meet up with their friends for live worship\, practical teaching\, and small group conversation guided by adult leaders who care about them.
URL:https://myloh.church/event/move-students-8/2028-10-15/
LOCATION:Lighthouse of Hope (LOH Church)\, 11507 Moss Ave.\, Cumberland\, MD\, 21502\, United States
CATEGORIES:MOVE Students
ATTACH;FMTTYPE=image/jpeg:https://myloh.church/wp-content/uploads/2024/11/Web-Compressed-5.jpg
ORGANIZER;CN="LOH Church":MAILTO:office@myloh.church
END:VEVENT
BEGIN:VEVENT
DTSTART;TZID=UTC:20281022T180000
DTEND;TZID=UTC:20281022T200000
DTSTAMP:20260425T195052
CREATED:20241119T190330Z
LAST-MODIFIED:20250123T171729Z
UID:10000506-1855850400-1855857600@myloh.church
SUMMARY:MOVE Students
DESCRIPTION:MOVE Home is for middle and high school students curious about faith and eager to discover how a relationship with Jesus could change their lives\, their schools and city. \nOn Sunday afternoons\, students meet up with their friends for live worship\, practical teaching\, and small group conversation guided by adult leaders who care about them.
URL:https://myloh.church/event/move-students-8/2028-10-22/
LOCATION:Lighthouse of Hope (LOH Church)\, 11507 Moss Ave.\, Cumberland\, MD\, 21502\, United States
CATEGORIES:MOVE Students
ATTACH;FMTTYPE=image/jpeg:https://myloh.church/wp-content/uploads/2024/11/Web-Compressed-5.jpg
ORGANIZER;CN="LOH Church":MAILTO:office@myloh.church
END:VEVENT
BEGIN:VEVENT
DTSTART;TZID=UTC:20281029T180000
DTEND;TZID=UTC:20281029T200000
DTSTAMP:20260425T195052
CREATED:20241119T190330Z
LAST-MODIFIED:20250123T171729Z
UID:10000507-1856455200-1856462400@myloh.church
SUMMARY:MOVE Students
DESCRIPTION:MOVE Home is for middle and high school students curious about faith and eager to discover how a relationship with Jesus could change their lives\, their schools and city. \nOn Sunday afternoons\, students meet up with their friends for live worship\, practical teaching\, and small group conversation guided by adult leaders who care about them.
URL:https://myloh.church/event/move-students-8/2028-10-29/
LOCATION:Lighthouse of Hope (LOH Church)\, 11507 Moss Ave.\, Cumberland\, MD\, 21502\, United States
CATEGORIES:MOVE Students
ATTACH;FMTTYPE=image/jpeg:https://myloh.church/wp-content/uploads/2024/11/Web-Compressed-5.jpg
ORGANIZER;CN="LOH Church":MAILTO:office@myloh.church
END:VEVENT
BEGIN:VEVENT
DTSTART;TZID=UTC:20281105T180000
DTEND;TZID=UTC:20281105T200000
DTSTAMP:20260425T195052
CREATED:20241119T190330Z
LAST-MODIFIED:20250123T171729Z
UID:10000508-1857060000-1857067200@myloh.church
SUMMARY:MOVE Students
DESCRIPTION:MOVE Home is for middle and high school students curious about faith and eager to discover how a relationship with Jesus could change their lives\, their schools and city. \nOn Sunday afternoons\, students meet up with their friends for live worship\, practical teaching\, and small group conversation guided by adult leaders who care about them.
URL:https://myloh.church/event/move-students-8/2028-11-05/
LOCATION:Lighthouse of Hope (LOH Church)\, 11507 Moss Ave.\, Cumberland\, MD\, 21502\, United States
CATEGORIES:MOVE Students
ATTACH;FMTTYPE=image/jpeg:https://myloh.church/wp-content/uploads/2024/11/Web-Compressed-5.jpg
ORGANIZER;CN="LOH Church":MAILTO:office@myloh.church
END:VEVENT
BEGIN:VEVENT
DTSTART;TZID=UTC:20281112T180000
DTEND;TZID=UTC:20281112T200000
DTSTAMP:20260425T195052
CREATED:20241119T190330Z
LAST-MODIFIED:20250123T171729Z
UID:10000509-1857664800-1857672000@myloh.church
SUMMARY:MOVE Students
DESCRIPTION:MOVE Home is for middle and high school students curious about faith and eager to discover how a relationship with Jesus could change their lives\, their schools and city. \nOn Sunday afternoons\, students meet up with their friends for live worship\, practical teaching\, and small group conversation guided by adult leaders who care about them.
URL:https://myloh.church/event/move-students-8/2028-11-12/
LOCATION:Lighthouse of Hope (LOH Church)\, 11507 Moss Ave.\, Cumberland\, MD\, 21502\, United States
CATEGORIES:MOVE Students
ATTACH;FMTTYPE=image/jpeg:https://myloh.church/wp-content/uploads/2024/11/Web-Compressed-5.jpg
ORGANIZER;CN="LOH Church":MAILTO:office@myloh.church
END:VEVENT
BEGIN:VEVENT
DTSTART;TZID=UTC:20281119T180000
DTEND;TZID=UTC:20281119T200000
DTSTAMP:20260425T195052
CREATED:20241119T190330Z
LAST-MODIFIED:20250123T171729Z
UID:10000510-1858269600-1858276800@myloh.church
SUMMARY:MOVE Students
DESCRIPTION:MOVE Home is for middle and high school students curious about faith and eager to discover how a relationship with Jesus could change their lives\, their schools and city. \nOn Sunday afternoons\, students meet up with their friends for live worship\, practical teaching\, and small group conversation guided by adult leaders who care about them.
URL:https://myloh.church/event/move-students-8/2028-11-19/
LOCATION:Lighthouse of Hope (LOH Church)\, 11507 Moss Ave.\, Cumberland\, MD\, 21502\, United States
CATEGORIES:MOVE Students
ATTACH;FMTTYPE=image/jpeg:https://myloh.church/wp-content/uploads/2024/11/Web-Compressed-5.jpg
ORGANIZER;CN="LOH Church":MAILTO:office@myloh.church
END:VEVENT
BEGIN:VEVENT
DTSTART;TZID=UTC:20281126T180000
DTEND;TZID=UTC:20281126T200000
DTSTAMP:20260425T195052
CREATED:20241119T190330Z
LAST-MODIFIED:20250123T171729Z
UID:10000511-1858874400-1858881600@myloh.church
SUMMARY:MOVE Students
DESCRIPTION:MOVE Home is for middle and high school students curious about faith and eager to discover how a relationship with Jesus could change their lives\, their schools and city. \nOn Sunday afternoons\, students meet up with their friends for live worship\, practical teaching\, and small group conversation guided by adult leaders who care about them.
URL:https://myloh.church/event/move-students-8/2028-11-26/
LOCATION:Lighthouse of Hope (LOH Church)\, 11507 Moss Ave.\, Cumberland\, MD\, 21502\, United States
CATEGORIES:MOVE Students
ATTACH;FMTTYPE=image/jpeg:https://myloh.church/wp-content/uploads/2024/11/Web-Compressed-5.jpg
ORGANIZER;CN="LOH Church":MAILTO:office@myloh.church
END:VEVENT
BEGIN:VEVENT
DTSTART;TZID=UTC:20281203T180000
DTEND;TZID=UTC:20281203T200000
DTSTAMP:20260425T195052
CREATED:20241119T190330Z
LAST-MODIFIED:20250123T171729Z
UID:10000512-1859479200-1859486400@myloh.church
SUMMARY:MOVE Students
DESCRIPTION:MOVE Home is for middle and high school students curious about faith and eager to discover how a relationship with Jesus could change their lives\, their schools and city. \nOn Sunday afternoons\, students meet up with their friends for live worship\, practical teaching\, and small group conversation guided by adult leaders who care about them.
URL:https://myloh.church/event/move-students-8/2028-12-03/
LOCATION:Lighthouse of Hope (LOH Church)\, 11507 Moss Ave.\, Cumberland\, MD\, 21502\, United States
CATEGORIES:MOVE Students
ATTACH;FMTTYPE=image/jpeg:https://myloh.church/wp-content/uploads/2024/11/Web-Compressed-5.jpg
ORGANIZER;CN="LOH Church":MAILTO:office@myloh.church
END:VEVENT
BEGIN:VEVENT
DTSTART;TZID=UTC:20281210T180000
DTEND;TZID=UTC:20281210T200000
DTSTAMP:20260425T195052
CREATED:20241119T190330Z
LAST-MODIFIED:20250123T171729Z
UID:10000513-1860084000-1860091200@myloh.church
SUMMARY:MOVE Students
DESCRIPTION:MOVE Home is for middle and high school students curious about faith and eager to discover how a relationship with Jesus could change their lives\, their schools and city. \nOn Sunday afternoons\, students meet up with their friends for live worship\, practical teaching\, and small group conversation guided by adult leaders who care about them.
URL:https://myloh.church/event/move-students-8/2028-12-10/
LOCATION:Lighthouse of Hope (LOH Church)\, 11507 Moss Ave.\, Cumberland\, MD\, 21502\, United States
CATEGORIES:MOVE Students
ATTACH;FMTTYPE=image/jpeg:https://myloh.church/wp-content/uploads/2024/11/Web-Compressed-5.jpg
ORGANIZER;CN="LOH Church":MAILTO:office@myloh.church
END:VEVENT
END:VCALENDAR