BEGIN:VCALENDAR
VERSION:2.0
PRODID:-//Lighthouse of Hope Church - ECPv6.15.20//NONSGML v1.0//EN
CALSCALE:GREGORIAN
METHOD:PUBLISH
X-ORIGINAL-URL:https://myloh.church
X-WR-CALDESC:Events for Lighthouse of Hope Church
REFRESH-INTERVAL;VALUE=DURATION:PT1H
X-Robots-Tag:noindex
X-PUBLISHED-TTL:PT1H
BEGIN:VTIMEZONE
TZID:UTC
BEGIN:STANDARD
TZOFFSETFROM:+0000
TZOFFSETTO:+0000
TZNAME:UTC
DTSTART:20250101T000000
END:STANDARD
END:VTIMEZONE
BEGIN:VEVENT
DTSTART;TZID=UTC:20260104T180000
DTEND;TZID=UTC:20260104T200000
DTSTAMP:20260426T015531
CREATED:20241119T190330Z
LAST-MODIFIED:20250123T171729Z
UID:10000360-1767549600-1767556800@myloh.church
SUMMARY:MOVE Students
DESCRIPTION:MOVE Home is for middle and high school students curious about faith and eager to discover how a relationship with Jesus could change their lives\, their schools and city. \nOn Sunday afternoons\, students meet up with their friends for live worship\, practical teaching\, and small group conversation guided by adult leaders who care about them.
URL:https://myloh.church/event/move-students-8/2026-01-04/
LOCATION:Lighthouse of Hope (LOH Church)\, 11507 Moss Ave.\, Cumberland\, MD\, 21502\, United States
CATEGORIES:MOVE Students
ATTACH;FMTTYPE=image/jpeg:https://myloh.church/wp-content/uploads/2024/11/Web-Compressed-5.jpg
ORGANIZER;CN="LOH Church":MAILTO:office@myloh.church
END:VEVENT
BEGIN:VEVENT
DTSTART;TZID=UTC:20260111T180000
DTEND;TZID=UTC:20260111T200000
DTSTAMP:20260426T015531
CREATED:20241119T190330Z
LAST-MODIFIED:20250123T171729Z
UID:10000361-1768154400-1768161600@myloh.church
SUMMARY:MOVE Students
DESCRIPTION:MOVE Home is for middle and high school students curious about faith and eager to discover how a relationship with Jesus could change their lives\, their schools and city. \nOn Sunday afternoons\, students meet up with their friends for live worship\, practical teaching\, and small group conversation guided by adult leaders who care about them.
URL:https://myloh.church/event/move-students-8/2026-01-11/
LOCATION:Lighthouse of Hope (LOH Church)\, 11507 Moss Ave.\, Cumberland\, MD\, 21502\, United States
CATEGORIES:MOVE Students
ATTACH;FMTTYPE=image/jpeg:https://myloh.church/wp-content/uploads/2024/11/Web-Compressed-5.jpg
ORGANIZER;CN="LOH Church":MAILTO:office@myloh.church
END:VEVENT
BEGIN:VEVENT
DTSTART;TZID=UTC:20260118T180000
DTEND;TZID=UTC:20260118T200000
DTSTAMP:20260426T015531
CREATED:20241119T190330Z
LAST-MODIFIED:20250123T171729Z
UID:10000362-1768759200-1768766400@myloh.church
SUMMARY:MOVE Students
DESCRIPTION:MOVE Home is for middle and high school students curious about faith and eager to discover how a relationship with Jesus could change their lives\, their schools and city. \nOn Sunday afternoons\, students meet up with their friends for live worship\, practical teaching\, and small group conversation guided by adult leaders who care about them.
URL:https://myloh.church/event/move-students-8/2026-01-18/
LOCATION:Lighthouse of Hope (LOH Church)\, 11507 Moss Ave.\, Cumberland\, MD\, 21502\, United States
CATEGORIES:MOVE Students
ATTACH;FMTTYPE=image/jpeg:https://myloh.church/wp-content/uploads/2024/11/Web-Compressed-5.jpg
ORGANIZER;CN="LOH Church":MAILTO:office@myloh.church
END:VEVENT
BEGIN:VEVENT
DTSTART;TZID=UTC:20260125T180000
DTEND;TZID=UTC:20260125T200000
DTSTAMP:20260426T015531
CREATED:20241119T190330Z
LAST-MODIFIED:20250123T171729Z
UID:10000363-1769364000-1769371200@myloh.church
SUMMARY:MOVE Students
DESCRIPTION:MOVE Home is for middle and high school students curious about faith and eager to discover how a relationship with Jesus could change their lives\, their schools and city. \nOn Sunday afternoons\, students meet up with their friends for live worship\, practical teaching\, and small group conversation guided by adult leaders who care about them.
URL:https://myloh.church/event/move-students-8/2026-01-25/
LOCATION:Lighthouse of Hope (LOH Church)\, 11507 Moss Ave.\, Cumberland\, MD\, 21502\, United States
CATEGORIES:MOVE Students
ATTACH;FMTTYPE=image/jpeg:https://myloh.church/wp-content/uploads/2024/11/Web-Compressed-5.jpg
ORGANIZER;CN="LOH Church":MAILTO:office@myloh.church
END:VEVENT
BEGIN:VEVENT
DTSTART;TZID=UTC:20260201T180000
DTEND;TZID=UTC:20260201T200000
DTSTAMP:20260426T015531
CREATED:20241119T190330Z
LAST-MODIFIED:20250123T171729Z
UID:10000364-1769968800-1769976000@myloh.church
SUMMARY:MOVE Students
DESCRIPTION:MOVE Home is for middle and high school students curious about faith and eager to discover how a relationship with Jesus could change their lives\, their schools and city. \nOn Sunday afternoons\, students meet up with their friends for live worship\, practical teaching\, and small group conversation guided by adult leaders who care about them.
URL:https://myloh.church/event/move-students-8/2026-02-01/
LOCATION:Lighthouse of Hope (LOH Church)\, 11507 Moss Ave.\, Cumberland\, MD\, 21502\, United States
CATEGORIES:MOVE Students
ATTACH;FMTTYPE=image/jpeg:https://myloh.church/wp-content/uploads/2024/11/Web-Compressed-5.jpg
ORGANIZER;CN="LOH Church":MAILTO:office@myloh.church
END:VEVENT
BEGIN:VEVENT
DTSTART;TZID=UTC:20260208T180000
DTEND;TZID=UTC:20260208T200000
DTSTAMP:20260426T015531
CREATED:20241119T190330Z
LAST-MODIFIED:20250123T171729Z
UID:10000365-1770573600-1770580800@myloh.church
SUMMARY:MOVE Students
DESCRIPTION:MOVE Home is for middle and high school students curious about faith and eager to discover how a relationship with Jesus could change their lives\, their schools and city. \nOn Sunday afternoons\, students meet up with their friends for live worship\, practical teaching\, and small group conversation guided by adult leaders who care about them.
URL:https://myloh.church/event/move-students-8/2026-02-08/
LOCATION:Lighthouse of Hope (LOH Church)\, 11507 Moss Ave.\, Cumberland\, MD\, 21502\, United States
CATEGORIES:MOVE Students
ATTACH;FMTTYPE=image/jpeg:https://myloh.church/wp-content/uploads/2024/11/Web-Compressed-5.jpg
ORGANIZER;CN="LOH Church":MAILTO:office@myloh.church
END:VEVENT
BEGIN:VEVENT
DTSTART;TZID=UTC:20260215T180000
DTEND;TZID=UTC:20260215T200000
DTSTAMP:20260426T015531
CREATED:20241119T190330Z
LAST-MODIFIED:20250123T171729Z
UID:10000366-1771178400-1771185600@myloh.church
SUMMARY:MOVE Students
DESCRIPTION:MOVE Home is for middle and high school students curious about faith and eager to discover how a relationship with Jesus could change their lives\, their schools and city. \nOn Sunday afternoons\, students meet up with their friends for live worship\, practical teaching\, and small group conversation guided by adult leaders who care about them.
URL:https://myloh.church/event/move-students-8/2026-02-15/
LOCATION:Lighthouse of Hope (LOH Church)\, 11507 Moss Ave.\, Cumberland\, MD\, 21502\, United States
CATEGORIES:MOVE Students
ATTACH;FMTTYPE=image/jpeg:https://myloh.church/wp-content/uploads/2024/11/Web-Compressed-5.jpg
ORGANIZER;CN="LOH Church":MAILTO:office@myloh.church
END:VEVENT
BEGIN:VEVENT
DTSTART;TZID=UTC:20260222T180000
DTEND;TZID=UTC:20260222T200000
DTSTAMP:20260426T015531
CREATED:20241119T190330Z
LAST-MODIFIED:20250123T171729Z
UID:10000367-1771783200-1771790400@myloh.church
SUMMARY:MOVE Students
DESCRIPTION:MOVE Home is for middle and high school students curious about faith and eager to discover how a relationship with Jesus could change their lives\, their schools and city. \nOn Sunday afternoons\, students meet up with their friends for live worship\, practical teaching\, and small group conversation guided by adult leaders who care about them.
URL:https://myloh.church/event/move-students-8/2026-02-22/
LOCATION:Lighthouse of Hope (LOH Church)\, 11507 Moss Ave.\, Cumberland\, MD\, 21502\, United States
CATEGORIES:MOVE Students
ATTACH;FMTTYPE=image/jpeg:https://myloh.church/wp-content/uploads/2024/11/Web-Compressed-5.jpg
ORGANIZER;CN="LOH Church":MAILTO:office@myloh.church
END:VEVENT
BEGIN:VEVENT
DTSTART;TZID=UTC:20260301T180000
DTEND;TZID=UTC:20260301T200000
DTSTAMP:20260426T015531
CREATED:20241119T190330Z
LAST-MODIFIED:20250123T171729Z
UID:10000368-1772388000-1772395200@myloh.church
SUMMARY:MOVE Students
DESCRIPTION:MOVE Home is for middle and high school students curious about faith and eager to discover how a relationship with Jesus could change their lives\, their schools and city. \nOn Sunday afternoons\, students meet up with their friends for live worship\, practical teaching\, and small group conversation guided by adult leaders who care about them.
URL:https://myloh.church/event/move-students-8/2026-03-01/
LOCATION:Lighthouse of Hope (LOH Church)\, 11507 Moss Ave.\, Cumberland\, MD\, 21502\, United States
CATEGORIES:MOVE Students
ATTACH;FMTTYPE=image/jpeg:https://myloh.church/wp-content/uploads/2024/11/Web-Compressed-5.jpg
ORGANIZER;CN="LOH Church":MAILTO:office@myloh.church
END:VEVENT
BEGIN:VEVENT
DTSTART;TZID=UTC:20260308T180000
DTEND;TZID=UTC:20260308T200000
DTSTAMP:20260426T015531
CREATED:20241119T190330Z
LAST-MODIFIED:20250123T171729Z
UID:10000369-1772992800-1773000000@myloh.church
SUMMARY:MOVE Students
DESCRIPTION:MOVE Home is for middle and high school students curious about faith and eager to discover how a relationship with Jesus could change their lives\, their schools and city. \nOn Sunday afternoons\, students meet up with their friends for live worship\, practical teaching\, and small group conversation guided by adult leaders who care about them.
URL:https://myloh.church/event/move-students-8/2026-03-08/
LOCATION:Lighthouse of Hope (LOH Church)\, 11507 Moss Ave.\, Cumberland\, MD\, 21502\, United States
CATEGORIES:MOVE Students
ATTACH;FMTTYPE=image/jpeg:https://myloh.church/wp-content/uploads/2024/11/Web-Compressed-5.jpg
ORGANIZER;CN="LOH Church":MAILTO:office@myloh.church
END:VEVENT
BEGIN:VEVENT
DTSTART;TZID=UTC:20260315T180000
DTEND;TZID=UTC:20260315T200000
DTSTAMP:20260426T015531
CREATED:20241119T190330Z
LAST-MODIFIED:20250123T171729Z
UID:10000370-1773597600-1773604800@myloh.church
SUMMARY:MOVE Students
DESCRIPTION:MOVE Home is for middle and high school students curious about faith and eager to discover how a relationship with Jesus could change their lives\, their schools and city. \nOn Sunday afternoons\, students meet up with their friends for live worship\, practical teaching\, and small group conversation guided by adult leaders who care about them.
URL:https://myloh.church/event/move-students-8/2026-03-15/
LOCATION:Lighthouse of Hope (LOH Church)\, 11507 Moss Ave.\, Cumberland\, MD\, 21502\, United States
CATEGORIES:MOVE Students
ATTACH;FMTTYPE=image/jpeg:https://myloh.church/wp-content/uploads/2024/11/Web-Compressed-5.jpg
ORGANIZER;CN="LOH Church":MAILTO:office@myloh.church
END:VEVENT
BEGIN:VEVENT
DTSTART;TZID=UTC:20260322T180000
DTEND;TZID=UTC:20260322T200000
DTSTAMP:20260426T015531
CREATED:20241119T190330Z
LAST-MODIFIED:20250123T171729Z
UID:10000371-1774202400-1774209600@myloh.church
SUMMARY:MOVE Students
DESCRIPTION:MOVE Home is for middle and high school students curious about faith and eager to discover how a relationship with Jesus could change their lives\, their schools and city. \nOn Sunday afternoons\, students meet up with their friends for live worship\, practical teaching\, and small group conversation guided by adult leaders who care about them.
URL:https://myloh.church/event/move-students-8/2026-03-22/
LOCATION:Lighthouse of Hope (LOH Church)\, 11507 Moss Ave.\, Cumberland\, MD\, 21502\, United States
CATEGORIES:MOVE Students
ATTACH;FMTTYPE=image/jpeg:https://myloh.church/wp-content/uploads/2024/11/Web-Compressed-5.jpg
ORGANIZER;CN="LOH Church":MAILTO:office@myloh.church
END:VEVENT
BEGIN:VEVENT
DTSTART;TZID=UTC:20260329T180000
DTEND;TZID=UTC:20260329T200000
DTSTAMP:20260426T015531
CREATED:20241119T190330Z
LAST-MODIFIED:20250123T171729Z
UID:10000372-1774807200-1774814400@myloh.church
SUMMARY:MOVE Students
DESCRIPTION:MOVE Home is for middle and high school students curious about faith and eager to discover how a relationship with Jesus could change their lives\, their schools and city. \nOn Sunday afternoons\, students meet up with their friends for live worship\, practical teaching\, and small group conversation guided by adult leaders who care about them.
URL:https://myloh.church/event/move-students-8/2026-03-29/
LOCATION:Lighthouse of Hope (LOH Church)\, 11507 Moss Ave.\, Cumberland\, MD\, 21502\, United States
CATEGORIES:MOVE Students
ATTACH;FMTTYPE=image/jpeg:https://myloh.church/wp-content/uploads/2024/11/Web-Compressed-5.jpg
ORGANIZER;CN="LOH Church":MAILTO:office@myloh.church
END:VEVENT
BEGIN:VEVENT
DTSTART;TZID=UTC:20260405T180000
DTEND;TZID=UTC:20260405T200000
DTSTAMP:20260426T015531
CREATED:20241119T190330Z
LAST-MODIFIED:20250123T171729Z
UID:10000373-1775412000-1775419200@myloh.church
SUMMARY:MOVE Students
DESCRIPTION:MOVE Home is for middle and high school students curious about faith and eager to discover how a relationship with Jesus could change their lives\, their schools and city. \nOn Sunday afternoons\, students meet up with their friends for live worship\, practical teaching\, and small group conversation guided by adult leaders who care about them.
URL:https://myloh.church/event/move-students-8/2026-04-05/
LOCATION:Lighthouse of Hope (LOH Church)\, 11507 Moss Ave.\, Cumberland\, MD\, 21502\, United States
CATEGORIES:MOVE Students
ATTACH;FMTTYPE=image/jpeg:https://myloh.church/wp-content/uploads/2024/11/Web-Compressed-5.jpg
ORGANIZER;CN="LOH Church":MAILTO:office@myloh.church
END:VEVENT
BEGIN:VEVENT
DTSTART;TZID=UTC:20260412T180000
DTEND;TZID=UTC:20260412T200000
DTSTAMP:20260426T015531
CREATED:20241119T190330Z
LAST-MODIFIED:20250123T171729Z
UID:10000374-1776016800-1776024000@myloh.church
SUMMARY:MOVE Students
DESCRIPTION:MOVE Home is for middle and high school students curious about faith and eager to discover how a relationship with Jesus could change their lives\, their schools and city. \nOn Sunday afternoons\, students meet up with their friends for live worship\, practical teaching\, and small group conversation guided by adult leaders who care about them.
URL:https://myloh.church/event/move-students-8/2026-04-12/
LOCATION:Lighthouse of Hope (LOH Church)\, 11507 Moss Ave.\, Cumberland\, MD\, 21502\, United States
CATEGORIES:MOVE Students
ATTACH;FMTTYPE=image/jpeg:https://myloh.church/wp-content/uploads/2024/11/Web-Compressed-5.jpg
ORGANIZER;CN="LOH Church":MAILTO:office@myloh.church
END:VEVENT
BEGIN:VEVENT
DTSTART;TZID=UTC:20260419T180000
DTEND;TZID=UTC:20260419T200000
DTSTAMP:20260426T015531
CREATED:20241119T190330Z
LAST-MODIFIED:20250123T171729Z
UID:10000375-1776621600-1776628800@myloh.church
SUMMARY:MOVE Students
DESCRIPTION:MOVE Home is for middle and high school students curious about faith and eager to discover how a relationship with Jesus could change their lives\, their schools and city. \nOn Sunday afternoons\, students meet up with their friends for live worship\, practical teaching\, and small group conversation guided by adult leaders who care about them.
URL:https://myloh.church/event/move-students-8/2026-04-19/
LOCATION:Lighthouse of Hope (LOH Church)\, 11507 Moss Ave.\, Cumberland\, MD\, 21502\, United States
CATEGORIES:MOVE Students
ATTACH;FMTTYPE=image/jpeg:https://myloh.church/wp-content/uploads/2024/11/Web-Compressed-5.jpg
ORGANIZER;CN="LOH Church":MAILTO:office@myloh.church
END:VEVENT
BEGIN:VEVENT
DTSTART;TZID=UTC:20260426T180000
DTEND;TZID=UTC:20260426T200000
DTSTAMP:20260426T015531
CREATED:20241119T190330Z
LAST-MODIFIED:20250123T171729Z
UID:10000376-1777226400-1777233600@myloh.church
SUMMARY:MOVE Students
DESCRIPTION:MOVE Home is for middle and high school students curious about faith and eager to discover how a relationship with Jesus could change their lives\, their schools and city. \nOn Sunday afternoons\, students meet up with their friends for live worship\, practical teaching\, and small group conversation guided by adult leaders who care about them.
URL:https://myloh.church/event/move-students-8/2026-04-26/
LOCATION:Lighthouse of Hope (LOH Church)\, 11507 Moss Ave.\, Cumberland\, MD\, 21502\, United States
CATEGORIES:MOVE Students
ATTACH;FMTTYPE=image/jpeg:https://myloh.church/wp-content/uploads/2024/11/Web-Compressed-5.jpg
ORGANIZER;CN="LOH Church":MAILTO:office@myloh.church
END:VEVENT
BEGIN:VEVENT
DTSTART;TZID=UTC:20260503T180000
DTEND;TZID=UTC:20260503T200000
DTSTAMP:20260426T015531
CREATED:20241119T190330Z
LAST-MODIFIED:20250123T171729Z
UID:10000377-1777831200-1777838400@myloh.church
SUMMARY:MOVE Students
DESCRIPTION:MOVE Home is for middle and high school students curious about faith and eager to discover how a relationship with Jesus could change their lives\, their schools and city. \nOn Sunday afternoons\, students meet up with their friends for live worship\, practical teaching\, and small group conversation guided by adult leaders who care about them.
URL:https://myloh.church/event/move-students-8/2026-05-03/
LOCATION:Lighthouse of Hope (LOH Church)\, 11507 Moss Ave.\, Cumberland\, MD\, 21502\, United States
CATEGORIES:MOVE Students
ATTACH;FMTTYPE=image/jpeg:https://myloh.church/wp-content/uploads/2024/11/Web-Compressed-5.jpg
ORGANIZER;CN="LOH Church":MAILTO:office@myloh.church
END:VEVENT
BEGIN:VEVENT
DTSTART;TZID=UTC:20260510T180000
DTEND;TZID=UTC:20260510T200000
DTSTAMP:20260426T015531
CREATED:20241119T190330Z
LAST-MODIFIED:20250123T171729Z
UID:10000378-1778436000-1778443200@myloh.church
SUMMARY:MOVE Students
DESCRIPTION:MOVE Home is for middle and high school students curious about faith and eager to discover how a relationship with Jesus could change their lives\, their schools and city. \nOn Sunday afternoons\, students meet up with their friends for live worship\, practical teaching\, and small group conversation guided by adult leaders who care about them.
URL:https://myloh.church/event/move-students-8/2026-05-10/
LOCATION:Lighthouse of Hope (LOH Church)\, 11507 Moss Ave.\, Cumberland\, MD\, 21502\, United States
CATEGORIES:MOVE Students
ATTACH;FMTTYPE=image/jpeg:https://myloh.church/wp-content/uploads/2024/11/Web-Compressed-5.jpg
ORGANIZER;CN="LOH Church":MAILTO:office@myloh.church
END:VEVENT
BEGIN:VEVENT
DTSTART;TZID=UTC:20260517T180000
DTEND;TZID=UTC:20260517T200000
DTSTAMP:20260426T015531
CREATED:20241119T190330Z
LAST-MODIFIED:20250123T171729Z
UID:10000379-1779040800-1779048000@myloh.church
SUMMARY:MOVE Students
DESCRIPTION:MOVE Home is for middle and high school students curious about faith and eager to discover how a relationship with Jesus could change their lives\, their schools and city. \nOn Sunday afternoons\, students meet up with their friends for live worship\, practical teaching\, and small group conversation guided by adult leaders who care about them.
URL:https://myloh.church/event/move-students-8/2026-05-17/
LOCATION:Lighthouse of Hope (LOH Church)\, 11507 Moss Ave.\, Cumberland\, MD\, 21502\, United States
CATEGORIES:MOVE Students
ATTACH;FMTTYPE=image/jpeg:https://myloh.church/wp-content/uploads/2024/11/Web-Compressed-5.jpg
ORGANIZER;CN="LOH Church":MAILTO:office@myloh.church
END:VEVENT
BEGIN:VEVENT
DTSTART;TZID=UTC:20260524T180000
DTEND;TZID=UTC:20260524T200000
DTSTAMP:20260426T015531
CREATED:20241119T190330Z
LAST-MODIFIED:20250123T171729Z
UID:10000380-1779645600-1779652800@myloh.church
SUMMARY:MOVE Students
DESCRIPTION:MOVE Home is for middle and high school students curious about faith and eager to discover how a relationship with Jesus could change their lives\, their schools and city. \nOn Sunday afternoons\, students meet up with their friends for live worship\, practical teaching\, and small group conversation guided by adult leaders who care about them.
URL:https://myloh.church/event/move-students-8/2026-05-24/
LOCATION:Lighthouse of Hope (LOH Church)\, 11507 Moss Ave.\, Cumberland\, MD\, 21502\, United States
CATEGORIES:MOVE Students
ATTACH;FMTTYPE=image/jpeg:https://myloh.church/wp-content/uploads/2024/11/Web-Compressed-5.jpg
ORGANIZER;CN="LOH Church":MAILTO:office@myloh.church
END:VEVENT
BEGIN:VEVENT
DTSTART;TZID=UTC:20260531T180000
DTEND;TZID=UTC:20260531T200000
DTSTAMP:20260426T015531
CREATED:20241119T190330Z
LAST-MODIFIED:20250123T171729Z
UID:10000381-1780250400-1780257600@myloh.church
SUMMARY:MOVE Students
DESCRIPTION:MOVE Home is for middle and high school students curious about faith and eager to discover how a relationship with Jesus could change their lives\, their schools and city. \nOn Sunday afternoons\, students meet up with their friends for live worship\, practical teaching\, and small group conversation guided by adult leaders who care about them.
URL:https://myloh.church/event/move-students-8/2026-05-31/
LOCATION:Lighthouse of Hope (LOH Church)\, 11507 Moss Ave.\, Cumberland\, MD\, 21502\, United States
CATEGORIES:MOVE Students
ATTACH;FMTTYPE=image/jpeg:https://myloh.church/wp-content/uploads/2024/11/Web-Compressed-5.jpg
ORGANIZER;CN="LOH Church":MAILTO:office@myloh.church
END:VEVENT
BEGIN:VEVENT
DTSTART;TZID=UTC:20260607T180000
DTEND;TZID=UTC:20260607T200000
DTSTAMP:20260426T015531
CREATED:20241119T190330Z
LAST-MODIFIED:20250123T171729Z
UID:10000382-1780855200-1780862400@myloh.church
SUMMARY:MOVE Students
DESCRIPTION:MOVE Home is for middle and high school students curious about faith and eager to discover how a relationship with Jesus could change their lives\, their schools and city. \nOn Sunday afternoons\, students meet up with their friends for live worship\, practical teaching\, and small group conversation guided by adult leaders who care about them.
URL:https://myloh.church/event/move-students-8/2026-06-07/
LOCATION:Lighthouse of Hope (LOH Church)\, 11507 Moss Ave.\, Cumberland\, MD\, 21502\, United States
CATEGORIES:MOVE Students
ATTACH;FMTTYPE=image/jpeg:https://myloh.church/wp-content/uploads/2024/11/Web-Compressed-5.jpg
ORGANIZER;CN="LOH Church":MAILTO:office@myloh.church
END:VEVENT
BEGIN:VEVENT
DTSTART;TZID=UTC:20260614T180000
DTEND;TZID=UTC:20260614T200000
DTSTAMP:20260426T015531
CREATED:20241119T190330Z
LAST-MODIFIED:20250123T171729Z
UID:10000383-1781460000-1781467200@myloh.church
SUMMARY:MOVE Students
DESCRIPTION:MOVE Home is for middle and high school students curious about faith and eager to discover how a relationship with Jesus could change their lives\, their schools and city. \nOn Sunday afternoons\, students meet up with their friends for live worship\, practical teaching\, and small group conversation guided by adult leaders who care about them.
URL:https://myloh.church/event/move-students-8/2026-06-14/
LOCATION:Lighthouse of Hope (LOH Church)\, 11507 Moss Ave.\, Cumberland\, MD\, 21502\, United States
CATEGORIES:MOVE Students
ATTACH;FMTTYPE=image/jpeg:https://myloh.church/wp-content/uploads/2024/11/Web-Compressed-5.jpg
ORGANIZER;CN="LOH Church":MAILTO:office@myloh.church
END:VEVENT
BEGIN:VEVENT
DTSTART;TZID=UTC:20260621T180000
DTEND;TZID=UTC:20260621T200000
DTSTAMP:20260426T015531
CREATED:20241119T190330Z
LAST-MODIFIED:20250123T171729Z
UID:10000384-1782064800-1782072000@myloh.church
SUMMARY:MOVE Students
DESCRIPTION:MOVE Home is for middle and high school students curious about faith and eager to discover how a relationship with Jesus could change their lives\, their schools and city. \nOn Sunday afternoons\, students meet up with their friends for live worship\, practical teaching\, and small group conversation guided by adult leaders who care about them.
URL:https://myloh.church/event/move-students-8/2026-06-21/
LOCATION:Lighthouse of Hope (LOH Church)\, 11507 Moss Ave.\, Cumberland\, MD\, 21502\, United States
CATEGORIES:MOVE Students
ATTACH;FMTTYPE=image/jpeg:https://myloh.church/wp-content/uploads/2024/11/Web-Compressed-5.jpg
ORGANIZER;CN="LOH Church":MAILTO:office@myloh.church
END:VEVENT
BEGIN:VEVENT
DTSTART;TZID=UTC:20260628T180000
DTEND;TZID=UTC:20260628T200000
DTSTAMP:20260426T015531
CREATED:20241119T190330Z
LAST-MODIFIED:20250123T171729Z
UID:10000385-1782669600-1782676800@myloh.church
SUMMARY:MOVE Students
DESCRIPTION:MOVE Home is for middle and high school students curious about faith and eager to discover how a relationship with Jesus could change their lives\, their schools and city. \nOn Sunday afternoons\, students meet up with their friends for live worship\, practical teaching\, and small group conversation guided by adult leaders who care about them.
URL:https://myloh.church/event/move-students-8/2026-06-28/
LOCATION:Lighthouse of Hope (LOH Church)\, 11507 Moss Ave.\, Cumberland\, MD\, 21502\, United States
CATEGORIES:MOVE Students
ATTACH;FMTTYPE=image/jpeg:https://myloh.church/wp-content/uploads/2024/11/Web-Compressed-5.jpg
ORGANIZER;CN="LOH Church":MAILTO:office@myloh.church
END:VEVENT
BEGIN:VEVENT
DTSTART;TZID=UTC:20260705T180000
DTEND;TZID=UTC:20260705T200000
DTSTAMP:20260426T015531
CREATED:20241119T190330Z
LAST-MODIFIED:20250123T171729Z
UID:10000386-1783274400-1783281600@myloh.church
SUMMARY:MOVE Students
DESCRIPTION:MOVE Home is for middle and high school students curious about faith and eager to discover how a relationship with Jesus could change their lives\, their schools and city. \nOn Sunday afternoons\, students meet up with their friends for live worship\, practical teaching\, and small group conversation guided by adult leaders who care about them.
URL:https://myloh.church/event/move-students-8/2026-07-05/
LOCATION:Lighthouse of Hope (LOH Church)\, 11507 Moss Ave.\, Cumberland\, MD\, 21502\, United States
CATEGORIES:MOVE Students
ATTACH;FMTTYPE=image/jpeg:https://myloh.church/wp-content/uploads/2024/11/Web-Compressed-5.jpg
ORGANIZER;CN="LOH Church":MAILTO:office@myloh.church
END:VEVENT
BEGIN:VEVENT
DTSTART;TZID=UTC:20260712T180000
DTEND;TZID=UTC:20260712T200000
DTSTAMP:20260426T015531
CREATED:20241119T190330Z
LAST-MODIFIED:20250123T171729Z
UID:10000387-1783879200-1783886400@myloh.church
SUMMARY:MOVE Students
DESCRIPTION:MOVE Home is for middle and high school students curious about faith and eager to discover how a relationship with Jesus could change their lives\, their schools and city. \nOn Sunday afternoons\, students meet up with their friends for live worship\, practical teaching\, and small group conversation guided by adult leaders who care about them.
URL:https://myloh.church/event/move-students-8/2026-07-12/
LOCATION:Lighthouse of Hope (LOH Church)\, 11507 Moss Ave.\, Cumberland\, MD\, 21502\, United States
CATEGORIES:MOVE Students
ATTACH;FMTTYPE=image/jpeg:https://myloh.church/wp-content/uploads/2024/11/Web-Compressed-5.jpg
ORGANIZER;CN="LOH Church":MAILTO:office@myloh.church
END:VEVENT
BEGIN:VEVENT
DTSTART;TZID=UTC:20260719T180000
DTEND;TZID=UTC:20260719T200000
DTSTAMP:20260426T015531
CREATED:20241119T190330Z
LAST-MODIFIED:20250123T171729Z
UID:10000388-1784484000-1784491200@myloh.church
SUMMARY:MOVE Students
DESCRIPTION:MOVE Home is for middle and high school students curious about faith and eager to discover how a relationship with Jesus could change their lives\, their schools and city. \nOn Sunday afternoons\, students meet up with their friends for live worship\, practical teaching\, and small group conversation guided by adult leaders who care about them.
URL:https://myloh.church/event/move-students-8/2026-07-19/
LOCATION:Lighthouse of Hope (LOH Church)\, 11507 Moss Ave.\, Cumberland\, MD\, 21502\, United States
CATEGORIES:MOVE Students
ATTACH;FMTTYPE=image/jpeg:https://myloh.church/wp-content/uploads/2024/11/Web-Compressed-5.jpg
ORGANIZER;CN="LOH Church":MAILTO:office@myloh.church
END:VEVENT
BEGIN:VEVENT
DTSTART;TZID=UTC:20260726T180000
DTEND;TZID=UTC:20260726T200000
DTSTAMP:20260426T015531
CREATED:20241119T190330Z
LAST-MODIFIED:20250123T171729Z
UID:10000389-1785088800-1785096000@myloh.church
SUMMARY:MOVE Students
DESCRIPTION:MOVE Home is for middle and high school students curious about faith and eager to discover how a relationship with Jesus could change their lives\, their schools and city. \nOn Sunday afternoons\, students meet up with their friends for live worship\, practical teaching\, and small group conversation guided by adult leaders who care about them.
URL:https://myloh.church/event/move-students-8/2026-07-26/
LOCATION:Lighthouse of Hope (LOH Church)\, 11507 Moss Ave.\, Cumberland\, MD\, 21502\, United States
CATEGORIES:MOVE Students
ATTACH;FMTTYPE=image/jpeg:https://myloh.church/wp-content/uploads/2024/11/Web-Compressed-5.jpg
ORGANIZER;CN="LOH Church":MAILTO:office@myloh.church
END:VEVENT
END:VCALENDAR