BEGIN:VCALENDAR
VERSION:2.0
PRODID:-//Lighthouse of Hope Church - ECPv6.15.20//NONSGML v1.0//EN
CALSCALE:GREGORIAN
METHOD:PUBLISH
X-WR-CALNAME:Lighthouse of Hope Church
X-ORIGINAL-URL:https://myloh.church
X-WR-CALDESC:Events for Lighthouse of Hope Church
REFRESH-INTERVAL;VALUE=DURATION:PT1H
X-Robots-Tag:noindex
X-PUBLISHED-TTL:PT1H
BEGIN:VTIMEZONE
TZID:UTC
BEGIN:STANDARD
TZOFFSETFROM:+0000
TZOFFSETTO:+0000
TZNAME:UTC
DTSTART:20250101T000000
END:STANDARD
END:VTIMEZONE
BEGIN:VEVENT
DTSTART;TZID=UTC:20260417T180000
DTEND;TZID=UTC:20260417T193000
DTSTAMP:20260425T130506
CREATED:20260324T225103Z
LAST-MODIFIED:20260324T225103Z
UID:10001523-1776448800-1776454200@myloh.church
SUMMARY:ShineKids Talent Show
DESCRIPTION:ShineKids! It’s time to shine like a star! Show off what makes you shine at the ShineKids Talent Show!
URL:https://myloh.church/event/shinekids-talent-show-2/
LOCATION:Lighthouse of Hope (LOH Church)\, 11507 Moss Ave.\, Cumberland\, MD\, 21502\, United States
CATEGORIES:ShineKids
ATTACH;FMTTYPE=image/jpeg:https://myloh.church/wp-content/uploads/2026/03/Purple-And-Yellow-Talent-Show-Neon-Flyer-Presentation.jpg
END:VEVENT
END:VCALENDAR