BEGIN:VCALENDAR
VERSION:2.0
PRODID:-//Lighthouse of Hope Church - ECPv6.15.20//NONSGML v1.0//EN
CALSCALE:GREGORIAN
METHOD:PUBLISH
X-ORIGINAL-URL:https://myloh.church
X-WR-CALDESC:Events for Lighthouse of Hope Church
REFRESH-INTERVAL;VALUE=DURATION:PT1H
X-Robots-Tag:noindex
X-PUBLISHED-TTL:PT1H
BEGIN:VTIMEZONE
TZID:UTC
BEGIN:STANDARD
TZOFFSETFROM:+0000
TZOFFSETTO:+0000
TZNAME:UTC
DTSTART:20230101T000000
END:STANDARD
END:VTIMEZONE
BEGIN:VEVENT
DTSTART;TZID=UTC:20260417T180000
DTEND;TZID=UTC:20260417T193000
DTSTAMP:20260425T115029
CREATED:20260324T225103Z
LAST-MODIFIED:20260324T225103Z
UID:10001523-1776448800-1776454200@myloh.church
SUMMARY:ShineKids Talent Show
DESCRIPTION:ShineKids! It’s time to shine like a star! Show off what makes you shine at the ShineKids Talent Show!
URL:https://myloh.church/event/shinekids-talent-show-2/
LOCATION:Lighthouse of Hope (LOH Church)\, 11507 Moss Ave.\, Cumberland\, MD\, 21502\, United States
CATEGORIES:ShineKids
ATTACH;FMTTYPE=image/jpeg:https://myloh.church/wp-content/uploads/2026/03/Purple-And-Yellow-Talent-Show-Neon-Flyer-Presentation.jpg
END:VEVENT
BEGIN:VEVENT
DTSTART;TZID=UTC:20250708T174500
DTEND;TZID=UTC:20250708T201500
DTSTAMP:20260425T115029
CREATED:20250611T132928Z
LAST-MODIFIED:20250705T183547Z
UID:10000772-1751996700-1752005700@myloh.church
SUMMARY:ShineKids VBS 2025 · Live It Out
DESCRIPTION:Imagine a week where kids not only hear about Jesus’ love but also learn to express that love through their actions. LOH VBS Registration is now open: https://bit.ly/3HAq3fK \n\n🥳 JULY 8-10 · 5:45-8:00 PM ☀️\n\n\n“I give you a new command. Love one another. You must love one another\, just as I have loved you.” John 13:34
URL:https://myloh.church/event/vbs2025-3/
LOCATION:Lighthouse of Hope (LOH Church)\, 11507 Moss Ave.\, Cumberland\, MD\, 21502\, United States
CATEGORIES:ShineKids
ATTACH;FMTTYPE=image/jpeg:https://myloh.church/wp-content/uploads/2025/06/JUNE-1.jpg
END:VEVENT
BEGIN:VEVENT
DTSTART;TZID=UTC:20241027T100000
DTEND;TZID=UTC:20241027T120000
DTSTAMP:20260425T115029
CREATED:20241001T172033Z
LAST-MODIFIED:20241001T190021Z
UID:10000006-1730023200-1730030400@myloh.church
SUMMARY:ShineKids Mega Awesome Costume Party
DESCRIPTION:ShineKids Mega Awesome Costume Party\n\nOctober 27 • 10:00 AM\n@ LOH Church\n\n\n\nShineKids are invited to wear their not-so-spooky costumes – Sunday morning – for fun\, games\, some special treats! \n 
URL:https://myloh.church/event/shinekids-mega-awesome-costume-party/
LOCATION:Lighthouse of Hope (LOH Church)\, 11507 Moss Ave.\, Cumberland\, MD\, 21502\, United States
CATEGORIES:ShineKids
ATTACH;FMTTYPE=image/jpeg:https://myloh.church/wp-content/uploads/2024/10/ShineKids-Wear-Your-Not-So-Spooky-Costumes-Sunday.jpg
ORGANIZER;CN="LOH Church":MAILTO:office@myloh.church
END:VEVENT
END:VCALENDAR