BEGIN:VCALENDAR
VERSION:2.0
PRODID:-//Lighthouse of Hope Church - ECPv6.15.20//NONSGML v1.0//EN
CALSCALE:GREGORIAN
METHOD:PUBLISH
X-WR-CALNAME:Lighthouse of Hope Church
X-ORIGINAL-URL:https://myloh.church
X-WR-CALDESC:Events for Lighthouse of Hope Church
REFRESH-INTERVAL;VALUE=DURATION:PT1H
X-Robots-Tag:noindex
X-PUBLISHED-TTL:PT1H
BEGIN:VTIMEZONE
TZID:UTC
BEGIN:STANDARD
TZOFFSETFROM:+0000
TZOFFSETTO:+0000
TZNAME:UTC
DTSTART:20240101T000000
END:STANDARD
END:VTIMEZONE
BEGIN:VEVENT
DTSTART;TZID=UTC:20250709T174500
DTEND;TZID=UTC:20250709T201500
DTSTAMP:20260425T233906
CREATED:20250611T132842Z
LAST-MODIFIED:20250705T183619Z
UID:10001508-1752083100-1752092100@myloh.church
SUMMARY:ShineKids VBS 2025 · Live It Out
DESCRIPTION:Imagine a week where kids not only hear about Jesus’ love but also learn to express that love through their actions. LOH VBS Registration is now open: https://bit.ly/3HAq3fK \n\n🥳 JULY 8-10 · 5:45-8:00 PM ☀️\n\n\n“I give you a new command. Love one another. You must love one another\, just as I have loved you.” John 13:34
URL:https://myloh.church/event/vbs2025-2/
LOCATION:Lighthouse of Hope (LOH Church)\, 11507 Moss Ave.\, Cumberland\, MD\, 21502\, United States
ATTACH;FMTTYPE=image/jpeg:https://myloh.church/wp-content/uploads/2025/06/JUNE-1.jpg
END:VEVENT
BEGIN:VEVENT
DTSTART;TZID=UTC:20250708T174500
DTEND;TZID=UTC:20250708T201500
DTSTAMP:20260425T233907
CREATED:20250611T132928Z
LAST-MODIFIED:20250705T183547Z
UID:10000772-1751996700-1752005700@myloh.church
SUMMARY:ShineKids VBS 2025 · Live It Out
DESCRIPTION:Imagine a week where kids not only hear about Jesus’ love but also learn to express that love through their actions. LOH VBS Registration is now open: https://bit.ly/3HAq3fK \n\n🥳 JULY 8-10 · 5:45-8:00 PM ☀️\n\n\n“I give you a new command. Love one another. You must love one another\, just as I have loved you.” John 13:34
URL:https://myloh.church/event/vbs2025-3/
LOCATION:Lighthouse of Hope (LOH Church)\, 11507 Moss Ave.\, Cumberland\, MD\, 21502\, United States
CATEGORIES:ShineKids
ATTACH;FMTTYPE=image/jpeg:https://myloh.church/wp-content/uploads/2025/06/JUNE-1.jpg
END:VEVENT
BEGIN:VEVENT
DTSTART;TZID=UTC:20250707T180000
DTEND;TZID=UTC:20250707T203000
DTSTAMP:20260425T233907
CREATED:20250123T171614Z
LAST-MODIFIED:20250123T171614Z
UID:10000068-1751911200-1751920200@myloh.church
SUMMARY:Celebrate Recovery
DESCRIPTION:Celebrate Recovery is a safe place for adults to find freedom from your hurts\, hang-ups\, and habits. Dinner is served from 6-7pm and large group begins promptly at 7pm while small groups go until 9pm typically. Desert is served afterwards.
URL:https://myloh.church/event/celebrate-recovery-12/2025-07-07/
LOCATION:Lighthouse of Hope (LOH Church)\, 11507 Moss Ave.\, Cumberland\, MD\, 21502\, United States
CATEGORIES:Celebrate Recovery
ATTACH;FMTTYPE=image/jpeg:https://myloh.church/wp-content/uploads/2024/11/Web-Compressed-6.jpg
END:VEVENT
BEGIN:VEVENT
DTSTART;TZID=UTC:20250706T180000
DTEND;TZID=UTC:20250706T200000
DTSTAMP:20260425T233907
CREATED:20241119T190330Z
LAST-MODIFIED:20250123T171729Z
UID:10000334-1751824800-1751832000@myloh.church
SUMMARY:MOVE Students
DESCRIPTION:MOVE Home is for middle and high school students curious about faith and eager to discover how a relationship with Jesus could change their lives\, their schools and city. \nOn Sunday afternoons\, students meet up with their friends for live worship\, practical teaching\, and small group conversation guided by adult leaders who care about them.
URL:https://myloh.church/event/move-students-8/2025-07-06/
LOCATION:Lighthouse of Hope (LOH Church)\, 11507 Moss Ave.\, Cumberland\, MD\, 21502\, United States
CATEGORIES:MOVE Students
ATTACH;FMTTYPE=image/jpeg:https://myloh.church/wp-content/uploads/2024/11/Web-Compressed-5.jpg
ORGANIZER;CN="LOH Church":MAILTO:office@myloh.church
END:VEVENT
BEGIN:VEVENT
DTSTART;TZID=UTC:20250630T180000
DTEND;TZID=UTC:20250630T203000
DTSTAMP:20260425T233907
CREATED:20250123T171614Z
LAST-MODIFIED:20250123T171614Z
UID:10000067-1751306400-1751315400@myloh.church
SUMMARY:Celebrate Recovery
DESCRIPTION:Celebrate Recovery is a safe place for adults to find freedom from your hurts\, hang-ups\, and habits. Dinner is served from 6-7pm and large group begins promptly at 7pm while small groups go until 9pm typically. Desert is served afterwards.
URL:https://myloh.church/event/celebrate-recovery-12/2025-06-30/
LOCATION:Lighthouse of Hope (LOH Church)\, 11507 Moss Ave.\, Cumberland\, MD\, 21502\, United States
CATEGORIES:Celebrate Recovery
ATTACH;FMTTYPE=image/jpeg:https://myloh.church/wp-content/uploads/2024/11/Web-Compressed-6.jpg
END:VEVENT
BEGIN:VEVENT
DTSTART;TZID=UTC:20250629T180000
DTEND;TZID=UTC:20250629T200000
DTSTAMP:20260425T233907
CREATED:20241119T190330Z
LAST-MODIFIED:20250123T171729Z
UID:10000333-1751220000-1751227200@myloh.church
SUMMARY:MOVE Students
DESCRIPTION:MOVE Home is for middle and high school students curious about faith and eager to discover how a relationship with Jesus could change their lives\, their schools and city. \nOn Sunday afternoons\, students meet up with their friends for live worship\, practical teaching\, and small group conversation guided by adult leaders who care about them.
URL:https://myloh.church/event/move-students-8/2025-06-29/
LOCATION:Lighthouse of Hope (LOH Church)\, 11507 Moss Ave.\, Cumberland\, MD\, 21502\, United States
CATEGORIES:MOVE Students
ATTACH;FMTTYPE=image/jpeg:https://myloh.church/wp-content/uploads/2024/11/Web-Compressed-5.jpg
ORGANIZER;CN="LOH Church":MAILTO:office@myloh.church
END:VEVENT
BEGIN:VEVENT
DTSTART;TZID=UTC:20250623T180000
DTEND;TZID=UTC:20250623T203000
DTSTAMP:20260425T233907
CREATED:20250123T171614Z
LAST-MODIFIED:20250123T171614Z
UID:10000066-1750701600-1750710600@myloh.church
SUMMARY:Celebrate Recovery
DESCRIPTION:Celebrate Recovery is a safe place for adults to find freedom from your hurts\, hang-ups\, and habits. Dinner is served from 6-7pm and large group begins promptly at 7pm while small groups go until 9pm typically. Desert is served afterwards.
URL:https://myloh.church/event/celebrate-recovery-12/2025-06-23/
LOCATION:Lighthouse of Hope (LOH Church)\, 11507 Moss Ave.\, Cumberland\, MD\, 21502\, United States
CATEGORIES:Celebrate Recovery
ATTACH;FMTTYPE=image/jpeg:https://myloh.church/wp-content/uploads/2024/11/Web-Compressed-6.jpg
END:VEVENT
BEGIN:VEVENT
DTSTART;TZID=UTC:20250622T180000
DTEND;TZID=UTC:20250622T200000
DTSTAMP:20260425T233907
CREATED:20241119T190330Z
LAST-MODIFIED:20250123T171729Z
UID:10000332-1750615200-1750622400@myloh.church
SUMMARY:MOVE Students
DESCRIPTION:MOVE Home is for middle and high school students curious about faith and eager to discover how a relationship with Jesus could change their lives\, their schools and city. \nOn Sunday afternoons\, students meet up with their friends for live worship\, practical teaching\, and small group conversation guided by adult leaders who care about them.
URL:https://myloh.church/event/move-students-8/2025-06-22/
LOCATION:Lighthouse of Hope (LOH Church)\, 11507 Moss Ave.\, Cumberland\, MD\, 21502\, United States
CATEGORIES:MOVE Students
ATTACH;FMTTYPE=image/jpeg:https://myloh.church/wp-content/uploads/2024/11/Web-Compressed-5.jpg
ORGANIZER;CN="LOH Church":MAILTO:office@myloh.church
END:VEVENT
BEGIN:VEVENT
DTSTART;TZID=UTC:20250616T180000
DTEND;TZID=UTC:20250616T203000
DTSTAMP:20260425T233907
CREATED:20250123T171614Z
LAST-MODIFIED:20250123T171614Z
UID:10000065-1750096800-1750105800@myloh.church
SUMMARY:Celebrate Recovery
DESCRIPTION:Celebrate Recovery is a safe place for adults to find freedom from your hurts\, hang-ups\, and habits. Dinner is served from 6-7pm and large group begins promptly at 7pm while small groups go until 9pm typically. Desert is served afterwards.
URL:https://myloh.church/event/celebrate-recovery-12/2025-06-16/
LOCATION:Lighthouse of Hope (LOH Church)\, 11507 Moss Ave.\, Cumberland\, MD\, 21502\, United States
CATEGORIES:Celebrate Recovery
ATTACH;FMTTYPE=image/jpeg:https://myloh.church/wp-content/uploads/2024/11/Web-Compressed-6.jpg
END:VEVENT
BEGIN:VEVENT
DTSTART;TZID=UTC:20250615T180000
DTEND;TZID=UTC:20250615T200000
DTSTAMP:20260425T233907
CREATED:20241119T190330Z
LAST-MODIFIED:20250123T171729Z
UID:10000331-1750010400-1750017600@myloh.church
SUMMARY:MOVE Students
DESCRIPTION:MOVE Home is for middle and high school students curious about faith and eager to discover how a relationship with Jesus could change their lives\, their schools and city. \nOn Sunday afternoons\, students meet up with their friends for live worship\, practical teaching\, and small group conversation guided by adult leaders who care about them.
URL:https://myloh.church/event/move-students-8/2025-06-15/
LOCATION:Lighthouse of Hope (LOH Church)\, 11507 Moss Ave.\, Cumberland\, MD\, 21502\, United States
CATEGORIES:MOVE Students
ATTACH;FMTTYPE=image/jpeg:https://myloh.church/wp-content/uploads/2024/11/Web-Compressed-5.jpg
ORGANIZER;CN="LOH Church":MAILTO:office@myloh.church
END:VEVENT
BEGIN:VEVENT
DTSTART;TZID=UTC:20250609T180000
DTEND;TZID=UTC:20250609T203000
DTSTAMP:20260425T233907
CREATED:20250123T171614Z
LAST-MODIFIED:20250123T171614Z
UID:10000064-1749492000-1749501000@myloh.church
SUMMARY:Celebrate Recovery
DESCRIPTION:Celebrate Recovery is a safe place for adults to find freedom from your hurts\, hang-ups\, and habits. Dinner is served from 6-7pm and large group begins promptly at 7pm while small groups go until 9pm typically. Desert is served afterwards.
URL:https://myloh.church/event/celebrate-recovery-12/2025-06-09/
LOCATION:Lighthouse of Hope (LOH Church)\, 11507 Moss Ave.\, Cumberland\, MD\, 21502\, United States
CATEGORIES:Celebrate Recovery
ATTACH;FMTTYPE=image/jpeg:https://myloh.church/wp-content/uploads/2024/11/Web-Compressed-6.jpg
END:VEVENT
BEGIN:VEVENT
DTSTART;TZID=UTC:20250608T180000
DTEND;TZID=UTC:20250608T200000
DTSTAMP:20260425T233907
CREATED:20241119T190330Z
LAST-MODIFIED:20250123T171729Z
UID:10000330-1749405600-1749412800@myloh.church
SUMMARY:MOVE Students
DESCRIPTION:MOVE Home is for middle and high school students curious about faith and eager to discover how a relationship with Jesus could change their lives\, their schools and city. \nOn Sunday afternoons\, students meet up with their friends for live worship\, practical teaching\, and small group conversation guided by adult leaders who care about them.
URL:https://myloh.church/event/move-students-8/2025-06-08/
LOCATION:Lighthouse of Hope (LOH Church)\, 11507 Moss Ave.\, Cumberland\, MD\, 21502\, United States
CATEGORIES:MOVE Students
ATTACH;FMTTYPE=image/jpeg:https://myloh.church/wp-content/uploads/2024/11/Web-Compressed-5.jpg
ORGANIZER;CN="LOH Church":MAILTO:office@myloh.church
END:VEVENT
BEGIN:VEVENT
DTSTART;TZID=UTC:20250602T180000
DTEND;TZID=UTC:20250602T203000
DTSTAMP:20260425T233907
CREATED:20250123T171614Z
LAST-MODIFIED:20250123T171614Z
UID:10000063-1748887200-1748896200@myloh.church
SUMMARY:Celebrate Recovery
DESCRIPTION:Celebrate Recovery is a safe place for adults to find freedom from your hurts\, hang-ups\, and habits. Dinner is served from 6-7pm and large group begins promptly at 7pm while small groups go until 9pm typically. Desert is served afterwards.
URL:https://myloh.church/event/celebrate-recovery-12/2025-06-02/
LOCATION:Lighthouse of Hope (LOH Church)\, 11507 Moss Ave.\, Cumberland\, MD\, 21502\, United States
CATEGORIES:Celebrate Recovery
ATTACH;FMTTYPE=image/jpeg:https://myloh.church/wp-content/uploads/2024/11/Web-Compressed-6.jpg
END:VEVENT
BEGIN:VEVENT
DTSTART;TZID=UTC:20250601T180000
DTEND;TZID=UTC:20250601T200000
DTSTAMP:20260425T233907
CREATED:20241119T190330Z
LAST-MODIFIED:20250123T171729Z
UID:10000329-1748800800-1748808000@myloh.church
SUMMARY:MOVE Students
DESCRIPTION:MOVE Home is for middle and high school students curious about faith and eager to discover how a relationship with Jesus could change their lives\, their schools and city. \nOn Sunday afternoons\, students meet up with their friends for live worship\, practical teaching\, and small group conversation guided by adult leaders who care about them.
URL:https://myloh.church/event/move-students-8/2025-06-01/
LOCATION:Lighthouse of Hope (LOH Church)\, 11507 Moss Ave.\, Cumberland\, MD\, 21502\, United States
CATEGORIES:MOVE Students
ATTACH;FMTTYPE=image/jpeg:https://myloh.church/wp-content/uploads/2024/11/Web-Compressed-5.jpg
ORGANIZER;CN="LOH Church":MAILTO:office@myloh.church
END:VEVENT
BEGIN:VEVENT
DTSTART;TZID=UTC:20250526T180000
DTEND;TZID=UTC:20250526T203000
DTSTAMP:20260425T233907
CREATED:20250123T171614Z
LAST-MODIFIED:20250123T171614Z
UID:10000062-1748282400-1748291400@myloh.church
SUMMARY:Celebrate Recovery
DESCRIPTION:Celebrate Recovery is a safe place for adults to find freedom from your hurts\, hang-ups\, and habits. Dinner is served from 6-7pm and large group begins promptly at 7pm while small groups go until 9pm typically. Desert is served afterwards.
URL:https://myloh.church/event/celebrate-recovery-12/2025-05-26/
LOCATION:Lighthouse of Hope (LOH Church)\, 11507 Moss Ave.\, Cumberland\, MD\, 21502\, United States
CATEGORIES:Celebrate Recovery
ATTACH;FMTTYPE=image/jpeg:https://myloh.church/wp-content/uploads/2024/11/Web-Compressed-6.jpg
END:VEVENT
BEGIN:VEVENT
DTSTART;TZID=UTC:20250525T180000
DTEND;TZID=UTC:20250525T200000
DTSTAMP:20260425T233907
CREATED:20241119T190330Z
LAST-MODIFIED:20250123T171729Z
UID:10000328-1748196000-1748203200@myloh.church
SUMMARY:MOVE Students
DESCRIPTION:MOVE Home is for middle and high school students curious about faith and eager to discover how a relationship with Jesus could change their lives\, their schools and city. \nOn Sunday afternoons\, students meet up with their friends for live worship\, practical teaching\, and small group conversation guided by adult leaders who care about them.
URL:https://myloh.church/event/move-students-8/2025-05-25/
LOCATION:Lighthouse of Hope (LOH Church)\, 11507 Moss Ave.\, Cumberland\, MD\, 21502\, United States
CATEGORIES:MOVE Students
ATTACH;FMTTYPE=image/jpeg:https://myloh.church/wp-content/uploads/2024/11/Web-Compressed-5.jpg
ORGANIZER;CN="LOH Church":MAILTO:office@myloh.church
END:VEVENT
BEGIN:VEVENT
DTSTART;TZID=UTC:20250525T083000
DTEND;TZID=UTC:20250525T093000
DTSTAMP:20260425T233907
CREATED:20250226T233016Z
LAST-MODIFIED:20250226T233016Z
UID:10000693-1748161800-1748165400@myloh.church
SUMMARY:Testimonies of LIGHT
DESCRIPTION:Ladies of LIGHT – join us Sunday mornings for word of hope from women of faith! \n  \n 
URL:https://myloh.church/event/testimonies-of-light/2025-05-25/
LOCATION:Lighthouse of Hope (LOH Church)\, 11507 Moss Ave.\, Cumberland\, MD\, 21502\, United States
CATEGORIES:Ladies of LIGHT
ATTACH;FMTTYPE=image/jpeg:https://myloh.church/wp-content/uploads/2025/02/ladies-testimonies.jpg
ORGANIZER;CN="LOH Church":MAILTO:office@myloh.church
END:VEVENT
BEGIN:VEVENT
DTSTART;TZID=UTC:20250521T180000
DTEND;TZID=UTC:20250521T200000
DTSTAMP:20260425T233907
CREATED:20250208T144945Z
LAST-MODIFIED:20250208T145043Z
UID:10000641-1747850400-1747857600@myloh.church
SUMMARY:Growth Track
DESCRIPTION:LOH Growth Track guides you to discover your redemptive purpose and live the life God created for you. Over 4 Wednesday\, Growth Track will work to equip you to 1) connect to the church\, 2) discover the strengths of your purposeful design\, 3) develop your God-given gifts to make a difference in the lives of others and 4) outline the next steps in your journey of faith. \nYou must pre-register for this course. To register\, please visit myLOH.church/GROW
URL:https://myloh.church/event/growth-track/2025-05-21/
LOCATION:Lighthouse of Hope (LOH Church)\, 11507 Moss Ave.\, Cumberland\, MD\, 21502\, United States
ATTACH;FMTTYPE=image/jpeg:https://myloh.church/wp-content/uploads/2025/02/Growth-Track-Slides-1-4.jpg
ORGANIZER;CN="LOH Church":MAILTO:office@myloh.church
END:VEVENT
BEGIN:VEVENT
DTSTART;TZID=UTC:20250519T180000
DTEND;TZID=UTC:20250519T203000
DTSTAMP:20260425T233907
CREATED:20250123T171614Z
LAST-MODIFIED:20250123T171614Z
UID:10000061-1747677600-1747686600@myloh.church
SUMMARY:Celebrate Recovery
DESCRIPTION:Celebrate Recovery is a safe place for adults to find freedom from your hurts\, hang-ups\, and habits. Dinner is served from 6-7pm and large group begins promptly at 7pm while small groups go until 9pm typically. Desert is served afterwards.
URL:https://myloh.church/event/celebrate-recovery-12/2025-05-19/
LOCATION:Lighthouse of Hope (LOH Church)\, 11507 Moss Ave.\, Cumberland\, MD\, 21502\, United States
CATEGORIES:Celebrate Recovery
ATTACH;FMTTYPE=image/jpeg:https://myloh.church/wp-content/uploads/2024/11/Web-Compressed-6.jpg
END:VEVENT
BEGIN:VEVENT
DTSTART;TZID=UTC:20250518T180000
DTEND;TZID=UTC:20250518T200000
DTSTAMP:20260425T233907
CREATED:20241119T190330Z
LAST-MODIFIED:20250123T171729Z
UID:10000327-1747591200-1747598400@myloh.church
SUMMARY:MOVE Students
DESCRIPTION:MOVE Home is for middle and high school students curious about faith and eager to discover how a relationship with Jesus could change their lives\, their schools and city. \nOn Sunday afternoons\, students meet up with their friends for live worship\, practical teaching\, and small group conversation guided by adult leaders who care about them.
URL:https://myloh.church/event/move-students-8/2025-05-18/
LOCATION:Lighthouse of Hope (LOH Church)\, 11507 Moss Ave.\, Cumberland\, MD\, 21502\, United States
CATEGORIES:MOVE Students
ATTACH;FMTTYPE=image/jpeg:https://myloh.church/wp-content/uploads/2024/11/Web-Compressed-5.jpg
ORGANIZER;CN="LOH Church":MAILTO:office@myloh.church
END:VEVENT
BEGIN:VEVENT
DTSTART;TZID=UTC:20250518T083000
DTEND;TZID=UTC:20250518T093000
DTSTAMP:20260425T233907
CREATED:20250226T233016Z
LAST-MODIFIED:20250226T233016Z
UID:10000692-1747557000-1747560600@myloh.church
SUMMARY:Testimonies of LIGHT
DESCRIPTION:Ladies of LIGHT – join us Sunday mornings for word of hope from women of faith! \n  \n 
URL:https://myloh.church/event/testimonies-of-light/2025-05-18/
LOCATION:Lighthouse of Hope (LOH Church)\, 11507 Moss Ave.\, Cumberland\, MD\, 21502\, United States
CATEGORIES:Ladies of LIGHT
ATTACH;FMTTYPE=image/jpeg:https://myloh.church/wp-content/uploads/2025/02/ladies-testimonies.jpg
ORGANIZER;CN="LOH Church":MAILTO:office@myloh.church
END:VEVENT
BEGIN:VEVENT
DTSTART;TZID=UTC:20250514T180000
DTEND;TZID=UTC:20250514T200000
DTSTAMP:20260425T233907
CREATED:20250208T144945Z
LAST-MODIFIED:20250208T145043Z
UID:10000640-1747245600-1747252800@myloh.church
SUMMARY:Growth Track
DESCRIPTION:LOH Growth Track guides you to discover your redemptive purpose and live the life God created for you. Over 4 Wednesday\, Growth Track will work to equip you to 1) connect to the church\, 2) discover the strengths of your purposeful design\, 3) develop your God-given gifts to make a difference in the lives of others and 4) outline the next steps in your journey of faith. \nYou must pre-register for this course. To register\, please visit myLOH.church/GROW
URL:https://myloh.church/event/growth-track/2025-05-14/
LOCATION:Lighthouse of Hope (LOH Church)\, 11507 Moss Ave.\, Cumberland\, MD\, 21502\, United States
ATTACH;FMTTYPE=image/jpeg:https://myloh.church/wp-content/uploads/2025/02/Growth-Track-Slides-1-4.jpg
ORGANIZER;CN="LOH Church":MAILTO:office@myloh.church
END:VEVENT
BEGIN:VEVENT
DTSTART;TZID=UTC:20250512T180000
DTEND;TZID=UTC:20250512T203000
DTSTAMP:20260425T233907
CREATED:20250123T171614Z
LAST-MODIFIED:20250123T171614Z
UID:10000060-1747072800-1747081800@myloh.church
SUMMARY:Celebrate Recovery
DESCRIPTION:Celebrate Recovery is a safe place for adults to find freedom from your hurts\, hang-ups\, and habits. Dinner is served from 6-7pm and large group begins promptly at 7pm while small groups go until 9pm typically. Desert is served afterwards.
URL:https://myloh.church/event/celebrate-recovery-12/2025-05-12/
LOCATION:Lighthouse of Hope (LOH Church)\, 11507 Moss Ave.\, Cumberland\, MD\, 21502\, United States
CATEGORIES:Celebrate Recovery
ATTACH;FMTTYPE=image/jpeg:https://myloh.church/wp-content/uploads/2024/11/Web-Compressed-6.jpg
END:VEVENT
BEGIN:VEVENT
DTSTART;TZID=UTC:20250511T180000
DTEND;TZID=UTC:20250511T200000
DTSTAMP:20260425T233907
CREATED:20241119T190330Z
LAST-MODIFIED:20250123T171729Z
UID:10000326-1746986400-1746993600@myloh.church
SUMMARY:MOVE Students
DESCRIPTION:MOVE Home is for middle and high school students curious about faith and eager to discover how a relationship with Jesus could change their lives\, their schools and city. \nOn Sunday afternoons\, students meet up with their friends for live worship\, practical teaching\, and small group conversation guided by adult leaders who care about them.
URL:https://myloh.church/event/move-students-8/2025-05-11/
LOCATION:Lighthouse of Hope (LOH Church)\, 11507 Moss Ave.\, Cumberland\, MD\, 21502\, United States
CATEGORIES:MOVE Students
ATTACH;FMTTYPE=image/jpeg:https://myloh.church/wp-content/uploads/2024/11/Web-Compressed-5.jpg
ORGANIZER;CN="LOH Church":MAILTO:office@myloh.church
END:VEVENT
BEGIN:VEVENT
DTSTART;TZID=UTC:20250511T083000
DTEND;TZID=UTC:20250511T093000
DTSTAMP:20260425T233907
CREATED:20250226T233016Z
LAST-MODIFIED:20250226T233016Z
UID:10000691-1746952200-1746955800@myloh.church
SUMMARY:Testimonies of LIGHT
DESCRIPTION:Ladies of LIGHT – join us Sunday mornings for word of hope from women of faith! \n  \n 
URL:https://myloh.church/event/testimonies-of-light/2025-05-11/
LOCATION:Lighthouse of Hope (LOH Church)\, 11507 Moss Ave.\, Cumberland\, MD\, 21502\, United States
CATEGORIES:Ladies of LIGHT
ATTACH;FMTTYPE=image/jpeg:https://myloh.church/wp-content/uploads/2025/02/ladies-testimonies.jpg
ORGANIZER;CN="LOH Church":MAILTO:office@myloh.church
END:VEVENT
BEGIN:VEVENT
DTSTART;TZID=UTC:20250507T180000
DTEND;TZID=UTC:20250507T200000
DTSTAMP:20260425T233907
CREATED:20250208T144945Z
LAST-MODIFIED:20250208T145043Z
UID:10000639-1746640800-1746648000@myloh.church
SUMMARY:Growth Track
DESCRIPTION:LOH Growth Track guides you to discover your redemptive purpose and live the life God created for you. Over 4 Wednesday\, Growth Track will work to equip you to 1) connect to the church\, 2) discover the strengths of your purposeful design\, 3) develop your God-given gifts to make a difference in the lives of others and 4) outline the next steps in your journey of faith. \nYou must pre-register for this course. To register\, please visit myLOH.church/GROW
URL:https://myloh.church/event/growth-track/2025-05-07/
LOCATION:Lighthouse of Hope (LOH Church)\, 11507 Moss Ave.\, Cumberland\, MD\, 21502\, United States
ATTACH;FMTTYPE=image/jpeg:https://myloh.church/wp-content/uploads/2025/02/Growth-Track-Slides-1-4.jpg
ORGANIZER;CN="LOH Church":MAILTO:office@myloh.church
END:VEVENT
BEGIN:VEVENT
DTSTART;TZID=UTC:20250505T180000
DTEND;TZID=UTC:20250505T203000
DTSTAMP:20260425T233907
CREATED:20250123T171614Z
LAST-MODIFIED:20250123T171614Z
UID:10000059-1746468000-1746477000@myloh.church
SUMMARY:Celebrate Recovery
DESCRIPTION:Celebrate Recovery is a safe place for adults to find freedom from your hurts\, hang-ups\, and habits. Dinner is served from 6-7pm and large group begins promptly at 7pm while small groups go until 9pm typically. Desert is served afterwards.
URL:https://myloh.church/event/celebrate-recovery-12/2025-05-05/
LOCATION:Lighthouse of Hope (LOH Church)\, 11507 Moss Ave.\, Cumberland\, MD\, 21502\, United States
CATEGORIES:Celebrate Recovery
ATTACH;FMTTYPE=image/jpeg:https://myloh.church/wp-content/uploads/2024/11/Web-Compressed-6.jpg
END:VEVENT
BEGIN:VEVENT
DTSTART;TZID=UTC:20250504T180000
DTEND;TZID=UTC:20250504T200000
DTSTAMP:20260425T233907
CREATED:20241119T190330Z
LAST-MODIFIED:20250123T171729Z
UID:10000325-1746381600-1746388800@myloh.church
SUMMARY:MOVE Students
DESCRIPTION:MOVE Home is for middle and high school students curious about faith and eager to discover how a relationship with Jesus could change their lives\, their schools and city. \nOn Sunday afternoons\, students meet up with their friends for live worship\, practical teaching\, and small group conversation guided by adult leaders who care about them.
URL:https://myloh.church/event/move-students-8/2025-05-04/
LOCATION:Lighthouse of Hope (LOH Church)\, 11507 Moss Ave.\, Cumberland\, MD\, 21502\, United States
CATEGORIES:MOVE Students
ATTACH;FMTTYPE=image/jpeg:https://myloh.church/wp-content/uploads/2024/11/Web-Compressed-5.jpg
ORGANIZER;CN="LOH Church":MAILTO:office@myloh.church
END:VEVENT
BEGIN:VEVENT
DTSTART;TZID=UTC:20250504T083000
DTEND;TZID=UTC:20250504T093000
DTSTAMP:20260425T233907
CREATED:20250226T233016Z
LAST-MODIFIED:20250226T233016Z
UID:10000690-1746347400-1746351000@myloh.church
SUMMARY:Testimonies of LIGHT
DESCRIPTION:Ladies of LIGHT – join us Sunday mornings for word of hope from women of faith! \n  \n 
URL:https://myloh.church/event/testimonies-of-light/2025-05-04/
LOCATION:Lighthouse of Hope (LOH Church)\, 11507 Moss Ave.\, Cumberland\, MD\, 21502\, United States
CATEGORIES:Ladies of LIGHT
ATTACH;FMTTYPE=image/jpeg:https://myloh.church/wp-content/uploads/2025/02/ladies-testimonies.jpg
ORGANIZER;CN="LOH Church":MAILTO:office@myloh.church
END:VEVENT
BEGIN:VEVENT
DTSTART;TZID=UTC:20250502T183000
DTEND;TZID=UTC:20250502T203000
DTSTAMP:20260425T233907
CREATED:20250406T134326Z
LAST-MODIFIED:20250406T134326Z
UID:10000749-1746210600-1746217800@myloh.church
SUMMARY:National Day of Prayer Worship Night
DESCRIPTION:This opportunity is open to anyone in the ti-state area\, as we gather to pray for our community and our shared future. The night begins Friday May 2nd – at 6:30 – and includes worship and a word from our returning friend – Marzi Amirizadeh.
URL:https://myloh.church/event/national-day-of-prayer-worship-night/
LOCATION:Lighthouse of Hope (LOH Church)\, 11507 Moss Ave.\, Cumberland\, MD\, 21502\, United States
ATTACH;FMTTYPE=image/jpeg:https://myloh.church/wp-content/uploads/2025/04/HD-Title-Slide.jpg
ORGANIZER;CN="LOH Church":MAILTO:office@myloh.church
END:VEVENT
END:VCALENDAR