BEGIN:VCALENDAR
VERSION:2.0
PRODID:-//Lighthouse of Hope Church - ECPv6.15.20//NONSGML v1.0//EN
CALSCALE:GREGORIAN
METHOD:PUBLISH
X-ORIGINAL-URL:https://myloh.church
X-WR-CALDESC:Events for Lighthouse of Hope Church
REFRESH-INTERVAL;VALUE=DURATION:PT1H
X-Robots-Tag:noindex
X-PUBLISHED-TTL:PT1H
BEGIN:VTIMEZONE
TZID:UTC
BEGIN:STANDARD
TZOFFSETFROM:+0000
TZOFFSETTO:+0000
TZNAME:UTC
DTSTART:20240101T000000
END:STANDARD
END:VTIMEZONE
BEGIN:VEVENT
DTSTART;TZID=UTC:20250803T180000
DTEND;TZID=UTC:20250803T200000
DTSTAMP:20260425T174504
CREATED:20241119T190330Z
LAST-MODIFIED:20250123T171729Z
UID:10000338-1754244000-1754251200@myloh.church
SUMMARY:MOVE Students
DESCRIPTION:MOVE Home is for middle and high school students curious about faith and eager to discover how a relationship with Jesus could change their lives\, their schools and city. \nOn Sunday afternoons\, students meet up with their friends for live worship\, practical teaching\, and small group conversation guided by adult leaders who care about them.
URL:https://myloh.church/event/move-students-8/2025-08-03/
LOCATION:Lighthouse of Hope (LOH Church)\, 11507 Moss Ave.\, Cumberland\, MD\, 21502\, United States
CATEGORIES:MOVE Students
ATTACH;FMTTYPE=image/jpeg:https://myloh.church/wp-content/uploads/2024/11/Web-Compressed-5.jpg
ORGANIZER;CN="LOH Church":MAILTO:office@myloh.church
END:VEVENT
BEGIN:VEVENT
DTSTART;TZID=UTC:20250804T180000
DTEND;TZID=UTC:20250804T203000
DTSTAMP:20260425T174504
CREATED:20250123T171614Z
LAST-MODIFIED:20250123T171614Z
UID:10000072-1754330400-1754339400@myloh.church
SUMMARY:Celebrate Recovery
DESCRIPTION:Celebrate Recovery is a safe place for adults to find freedom from your hurts\, hang-ups\, and habits. Dinner is served from 6-7pm and large group begins promptly at 7pm while small groups go until 9pm typically. Desert is served afterwards.
URL:https://myloh.church/event/celebrate-recovery-12/2025-08-04/
LOCATION:Lighthouse of Hope (LOH Church)\, 11507 Moss Ave.\, Cumberland\, MD\, 21502\, United States
CATEGORIES:Celebrate Recovery
ATTACH;FMTTYPE=image/jpeg:https://myloh.church/wp-content/uploads/2024/11/Web-Compressed-6.jpg
END:VEVENT
BEGIN:VEVENT
DTSTART;TZID=UTC:20250810T120000
DTEND;TZID=UTC:20250810T140000
DTSTAMP:20260425T174504
CREATED:20250729T134818Z
LAST-MODIFIED:20250729T134818Z
UID:10001509-1754827200-1754834400@myloh.church
SUMMARY:LOH Family Picnic
DESCRIPTION:Join us for an LOH Family Picnic – Sunday\, August 10th – immediately following Sunday service – at the Cresaptown PVAA pavilion!
URL:https://myloh.church/event/loh-family-picnic/
LOCATION:Cresaptown PVAA Pavilion\, 12797 Darrows Ln.\, Cresaptown\, MD\, 21502\, United States
ATTACH;FMTTYPE=image/jpeg:https://myloh.church/wp-content/uploads/2025/07/picnic-slide-low-res.jpg
END:VEVENT
BEGIN:VEVENT
DTSTART;TZID=UTC:20250810T180000
DTEND;TZID=UTC:20250810T200000
DTSTAMP:20260425T174504
CREATED:20241119T190330Z
LAST-MODIFIED:20250123T171729Z
UID:10000339-1754848800-1754856000@myloh.church
SUMMARY:MOVE Students
DESCRIPTION:MOVE Home is for middle and high school students curious about faith and eager to discover how a relationship with Jesus could change their lives\, their schools and city. \nOn Sunday afternoons\, students meet up with their friends for live worship\, practical teaching\, and small group conversation guided by adult leaders who care about them.
URL:https://myloh.church/event/move-students-8/2025-08-10/
LOCATION:Lighthouse of Hope (LOH Church)\, 11507 Moss Ave.\, Cumberland\, MD\, 21502\, United States
CATEGORIES:MOVE Students
ATTACH;FMTTYPE=image/jpeg:https://myloh.church/wp-content/uploads/2024/11/Web-Compressed-5.jpg
ORGANIZER;CN="LOH Church":MAILTO:office@myloh.church
END:VEVENT
BEGIN:VEVENT
DTSTART;TZID=UTC:20250811T180000
DTEND;TZID=UTC:20250811T203000
DTSTAMP:20260425T174504
CREATED:20250123T171614Z
LAST-MODIFIED:20250123T171614Z
UID:10000073-1754935200-1754944200@myloh.church
SUMMARY:Celebrate Recovery
DESCRIPTION:Celebrate Recovery is a safe place for adults to find freedom from your hurts\, hang-ups\, and habits. Dinner is served from 6-7pm and large group begins promptly at 7pm while small groups go until 9pm typically. Desert is served afterwards.
URL:https://myloh.church/event/celebrate-recovery-12/2025-08-11/
LOCATION:Lighthouse of Hope (LOH Church)\, 11507 Moss Ave.\, Cumberland\, MD\, 21502\, United States
CATEGORIES:Celebrate Recovery
ATTACH;FMTTYPE=image/jpeg:https://myloh.church/wp-content/uploads/2024/11/Web-Compressed-6.jpg
END:VEVENT
BEGIN:VEVENT
DTSTART;TZID=UTC:20250817T180000
DTEND;TZID=UTC:20250817T200000
DTSTAMP:20260425T174504
CREATED:20241119T190330Z
LAST-MODIFIED:20250123T171729Z
UID:10000340-1755453600-1755460800@myloh.church
SUMMARY:MOVE Students
DESCRIPTION:MOVE Home is for middle and high school students curious about faith and eager to discover how a relationship with Jesus could change their lives\, their schools and city. \nOn Sunday afternoons\, students meet up with their friends for live worship\, practical teaching\, and small group conversation guided by adult leaders who care about them.
URL:https://myloh.church/event/move-students-8/2025-08-17/
LOCATION:Lighthouse of Hope (LOH Church)\, 11507 Moss Ave.\, Cumberland\, MD\, 21502\, United States
CATEGORIES:MOVE Students
ATTACH;FMTTYPE=image/jpeg:https://myloh.church/wp-content/uploads/2024/11/Web-Compressed-5.jpg
ORGANIZER;CN="LOH Church":MAILTO:office@myloh.church
END:VEVENT
BEGIN:VEVENT
DTSTART;TZID=UTC:20250818T180000
DTEND;TZID=UTC:20250818T203000
DTSTAMP:20260425T174504
CREATED:20250123T171614Z
LAST-MODIFIED:20250123T171614Z
UID:10000074-1755540000-1755549000@myloh.church
SUMMARY:Celebrate Recovery
DESCRIPTION:Celebrate Recovery is a safe place for adults to find freedom from your hurts\, hang-ups\, and habits. Dinner is served from 6-7pm and large group begins promptly at 7pm while small groups go until 9pm typically. Desert is served afterwards.
URL:https://myloh.church/event/celebrate-recovery-12/2025-08-18/
LOCATION:Lighthouse of Hope (LOH Church)\, 11507 Moss Ave.\, Cumberland\, MD\, 21502\, United States
CATEGORIES:Celebrate Recovery
ATTACH;FMTTYPE=image/jpeg:https://myloh.church/wp-content/uploads/2024/11/Web-Compressed-6.jpg
END:VEVENT
BEGIN:VEVENT
DTSTART;TZID=UTC:20250824T180000
DTEND;TZID=UTC:20250824T200000
DTSTAMP:20260425T174504
CREATED:20241119T190330Z
LAST-MODIFIED:20250123T171729Z
UID:10000341-1756058400-1756065600@myloh.church
SUMMARY:MOVE Students
DESCRIPTION:MOVE Home is for middle and high school students curious about faith and eager to discover how a relationship with Jesus could change their lives\, their schools and city. \nOn Sunday afternoons\, students meet up with their friends for live worship\, practical teaching\, and small group conversation guided by adult leaders who care about them.
URL:https://myloh.church/event/move-students-8/2025-08-24/
LOCATION:Lighthouse of Hope (LOH Church)\, 11507 Moss Ave.\, Cumberland\, MD\, 21502\, United States
CATEGORIES:MOVE Students
ATTACH;FMTTYPE=image/jpeg:https://myloh.church/wp-content/uploads/2024/11/Web-Compressed-5.jpg
ORGANIZER;CN="LOH Church":MAILTO:office@myloh.church
END:VEVENT
BEGIN:VEVENT
DTSTART;TZID=UTC:20250825T180000
DTEND;TZID=UTC:20250825T203000
DTSTAMP:20260425T174504
CREATED:20250123T171614Z
LAST-MODIFIED:20250123T171614Z
UID:10000075-1756144800-1756153800@myloh.church
SUMMARY:Celebrate Recovery
DESCRIPTION:Celebrate Recovery is a safe place for adults to find freedom from your hurts\, hang-ups\, and habits. Dinner is served from 6-7pm and large group begins promptly at 7pm while small groups go until 9pm typically. Desert is served afterwards.
URL:https://myloh.church/event/celebrate-recovery-12/2025-08-25/
LOCATION:Lighthouse of Hope (LOH Church)\, 11507 Moss Ave.\, Cumberland\, MD\, 21502\, United States
CATEGORIES:Celebrate Recovery
ATTACH;FMTTYPE=image/jpeg:https://myloh.church/wp-content/uploads/2024/11/Web-Compressed-6.jpg
END:VEVENT
BEGIN:VEVENT
DTSTART;TZID=UTC:20250831T180000
DTEND;TZID=UTC:20250831T200000
DTSTAMP:20260425T174504
CREATED:20241119T190330Z
LAST-MODIFIED:20250123T171729Z
UID:10000342-1756663200-1756670400@myloh.church
SUMMARY:MOVE Students
DESCRIPTION:MOVE Home is for middle and high school students curious about faith and eager to discover how a relationship with Jesus could change their lives\, their schools and city. \nOn Sunday afternoons\, students meet up with their friends for live worship\, practical teaching\, and small group conversation guided by adult leaders who care about them.
URL:https://myloh.church/event/move-students-8/2025-08-31/
LOCATION:Lighthouse of Hope (LOH Church)\, 11507 Moss Ave.\, Cumberland\, MD\, 21502\, United States
CATEGORIES:MOVE Students
ATTACH;FMTTYPE=image/jpeg:https://myloh.church/wp-content/uploads/2024/11/Web-Compressed-5.jpg
ORGANIZER;CN="LOH Church":MAILTO:office@myloh.church
END:VEVENT
END:VCALENDAR