BEGIN:VCALENDAR
VERSION:2.0
PRODID:-//Lighthouse of Hope Church - ECPv6.15.20//NONSGML v1.0//EN
CALSCALE:GREGORIAN
METHOD:PUBLISH
X-ORIGINAL-URL:https://myloh.church
X-WR-CALDESC:Events for Lighthouse of Hope Church
REFRESH-INTERVAL;VALUE=DURATION:PT1H
X-Robots-Tag:noindex
X-PUBLISHED-TTL:PT1H
BEGIN:VTIMEZONE
TZID:America/New_York
BEGIN:DAYLIGHT
TZOFFSETFROM:-0500
TZOFFSETTO:-0400
TZNAME:EDT
DTSTART:20220313T070000
END:DAYLIGHT
BEGIN:STANDARD
TZOFFSETFROM:-0400
TZOFFSETTO:-0500
TZNAME:EST
DTSTART:20221106T060000
END:STANDARD
BEGIN:DAYLIGHT
TZOFFSETFROM:-0500
TZOFFSETTO:-0400
TZNAME:EDT
DTSTART:20230312T070000
END:DAYLIGHT
BEGIN:STANDARD
TZOFFSETFROM:-0400
TZOFFSETTO:-0500
TZNAME:EST
DTSTART:20231105T060000
END:STANDARD
BEGIN:DAYLIGHT
TZOFFSETFROM:-0500
TZOFFSETTO:-0400
TZNAME:EDT
DTSTART:20240310T070000
END:DAYLIGHT
BEGIN:STANDARD
TZOFFSETFROM:-0400
TZOFFSETTO:-0500
TZNAME:EST
DTSTART:20241103T060000
END:STANDARD
BEGIN:DAYLIGHT
TZOFFSETFROM:-0500
TZOFFSETTO:-0400
TZNAME:EDT
DTSTART:20250309T070000
END:DAYLIGHT
BEGIN:STANDARD
TZOFFSETFROM:-0400
TZOFFSETTO:-0500
TZNAME:EST
DTSTART:20251102T060000
END:STANDARD
BEGIN:DAYLIGHT
TZOFFSETFROM:-0500
TZOFFSETTO:-0400
TZNAME:EDT
DTSTART:20260308T070000
END:DAYLIGHT
BEGIN:STANDARD
TZOFFSETFROM:-0400
TZOFFSETTO:-0500
TZNAME:EST
DTSTART:20261101T060000
END:STANDARD
BEGIN:DAYLIGHT
TZOFFSETFROM:-0500
TZOFFSETTO:-0400
TZNAME:EDT
DTSTART:20270314T070000
END:DAYLIGHT
BEGIN:STANDARD
TZOFFSETFROM:-0400
TZOFFSETTO:-0500
TZNAME:EST
DTSTART:20271107T060000
END:STANDARD
END:VTIMEZONE
BEGIN:VEVENT
DTSTART;TZID=America/New_York:20260405T100000
DTEND;TZID=America/New_York:20260405T113000
DTSTAMP:20260425T102405
CREATED:20260322T112603Z
LAST-MODIFIED:20260322T113145Z
UID:10001521-1775383200-1775388600@myloh.church
SUMMARY:Easter @ LOH - 10 AM
DESCRIPTION:Join us this Easter to experience and celebrate the hope\, peace\, and victory of Jesus. To ensure everyone is able to attend\, please reserve your seats in advance. The service includes encouraging worship\, stories of real life change\, and an uplifting message about the hope we have in Jesus. \n– Please reserve a seat for everyone in your party (do not include children who will be sitting on an adult’s lap). \n– If your plans change\, please cancel your reservation using the confirmation email. Please do not offer seats on social media or elsewhere.
URL:https://myloh.church/event/easter-loh-10-am-2026/
LOCATION:Lighthouse of Hope (LOH Church)\, 11507 Moss Ave.\, Cumberland\, MD\, 21502\, United States
ATTACH;FMTTYPE=image/jpeg:https://myloh.church/wp-content/uploads/2025/04/easter-hero.jpg
ORGANIZER;CN="LOH Church":MAILTO:office@myloh.church
END:VEVENT
BEGIN:VEVENT
DTSTART;TZID=America/New_York:20260405T080000
DTEND;TZID=America/New_York:20260405T093000
DTSTAMP:20260425T102405
CREATED:20260322T113239Z
LAST-MODIFIED:20260322T113239Z
UID:10001522-1775376000-1775381400@myloh.church
SUMMARY:Easter @ LOH - 8 AM
DESCRIPTION:Join us this Easter to experience and celebrate the hope\, peace\, and victory of Jesus. To ensure everyone is able to attend\, please reserve your seats in advance. The service includes encouraging worship\, stories of real life change\, and an uplifting message about the hope we have in Jesus. \n– Please reserve a seat for everyone in your party (do not include children who will be sitting on an adult’s lap). \n– If your plans change\, please cancel your reservation using the confirmation email. Please do not offer seats on social media or elsewhere.
URL:https://myloh.church/event/easter-loh-8-am-2026/
LOCATION:Lighthouse of Hope (LOH Church)\, 11507 Moss Ave.\, Cumberland\, MD\, 21502\, United States
ATTACH;FMTTYPE=image/jpeg:https://myloh.church/wp-content/uploads/2025/04/easter-hero.jpg
ORGANIZER;CN="LOH Church":MAILTO:office@myloh.church
END:VEVENT
BEGIN:VEVENT
DTSTART;TZID=America/New_York:20251224T160000
DTEND;TZID=America/New_York:20251224T170000
DTSTAMP:20260425T102405
CREATED:20251202T150723Z
LAST-MODIFIED:20251202T150723Z
UID:10001518-1766592000-1766595600@myloh.church
SUMMARY:Christmas @ LOH - 4 PM
DESCRIPTION:It’s the most wonderful time of the year and we’re so excited to be able to celebrate the birth of our Savior with you! To ensure everyone is able to attend our Christmas Eve celebration\, please reserve your seats for either our 4 or 6 PM service. The evening includes Christmas carols\, a short message\, and a performance from our ShineKids. \n– Please reserve a seat for everyone in your party (do not include children who will be sitting on an adult’s lap). \n– If your plans change\, please respond to the reservation confirmation in your email. Please do not offer seats on social media or elsewhere.
URL:https://myloh.church/event/christmas-loh-4-pm-2025/
LOCATION:Lighthouse of Hope (LOH Church)\, 11507 Moss Ave.\, Cumberland\, MD\, 21502\, United States
ATTACH;FMTTYPE=image/jpeg:https://myloh.church/wp-content/uploads/2024/11/Web-Compressed-8.jpg
ORGANIZER;CN="LOH Church":MAILTO:office@myloh.church
END:VEVENT
BEGIN:VEVENT
DTSTART;TZID=America/New_York:20250420T100000
DTEND;TZID=America/New_York:20250420T113000
DTSTAMP:20260425T102405
CREATED:20250401T214137Z
LAST-MODIFIED:20250401T214137Z
UID:10000747-1745143200-1745148600@myloh.church
SUMMARY:Easter @ LOH - 10 AM
DESCRIPTION:Join us this Easter to experience and celebrate the hope\, peace\, and victory of Jesus. To ensure everyone is able to attend\, please reserve your seats in advance. The service includes encouraging worship\, stories of real life change\, and an uplifting message about the hope we have in Jesus. \n– Please reserve a seat for everyone in your party (do not include children who will be sitting on an adult’s lap). \n– If your plans change\, please cancel your reservation using the confirmation email. Please do not offer seats on social media or elsewhere.
URL:https://myloh.church/event/easter-loh-10-am/
LOCATION:Lighthouse of Hope (LOH Church)\, 11507 Moss Ave.\, Cumberland\, MD\, 21502\, United States
ATTACH;FMTTYPE=image/jpeg:https://myloh.church/wp-content/uploads/2025/04/easter-hero.jpg
ORGANIZER;CN="LOH Church":MAILTO:office@myloh.church
END:VEVENT
BEGIN:VEVENT
DTSTART;TZID=America/New_York:20250420T080000
DTEND;TZID=America/New_York:20250420T093000
DTSTAMP:20260425T102405
CREATED:20250401T213647Z
LAST-MODIFIED:20250401T213647Z
UID:10000746-1745136000-1745141400@myloh.church
SUMMARY:Easter @ LOH - 8 AM
DESCRIPTION:Join us this Easter to experience and celebrate the hope\, peace\, and victory of Jesus. To ensure everyone is able to attend\, please reserve your seats in advance. The service includes encouraging worship\, stories of real life change\, and an uplifting message about the hope we have in Jesus. \n– Please reserve a seat for everyone in your party (do not include children who will be sitting on an adult’s lap). \n– If your plans change\, please cancel your reservation using the confirmation email. Please do not offer seats on social media or elsewhere.
URL:https://myloh.church/event/easter-loh-8-am/
LOCATION:Lighthouse of Hope (LOH Church)\, 11507 Moss Ave.\, Cumberland\, MD\, 21502\, United States
ATTACH;FMTTYPE=image/jpeg:https://myloh.church/wp-content/uploads/2025/04/easter-hero.jpg
ORGANIZER;CN="LOH Church":MAILTO:office@myloh.church
END:VEVENT
BEGIN:VEVENT
DTSTART;TZID=America/New_York:20241224T160000
DTEND;TZID=America/New_York:20241224T170000
DTSTAMP:20260425T102405
CREATED:20241119T190818Z
LAST-MODIFIED:20241119T191437Z
UID:10000040-1735056000-1735059600@myloh.church
SUMMARY:Christmas @ LOH - 4 PM
DESCRIPTION:It’s the most wonderful time of the year and we’re so excited to be able to celebrate the birth of our Savior with you! To ensure everyone is able to attend our Christmas Eve celebration\, please reserve your seats for either our 4 or 6 PM service. The evening includes Christmas carols\, a short message\, and a performance from our ShineKids. \n– Please reserve a seat for everyone in your party (do not include children who will be sitting on an adult’s lap). \n– If your plans change\, please respond to the reservation confirmation in your email. Please do not offer seats on social media or elsewhere.
URL:https://myloh.church/event/christmas-loh-4-pm-2/
LOCATION:Lighthouse of Hope (LOH Church)\, 11507 Moss Ave.\, Cumberland\, MD\, 21502\, United States
ATTACH;FMTTYPE=image/jpeg:https://myloh.church/wp-content/uploads/2024/11/Web-Compressed-8.jpg
ORGANIZER;CN="LOH Church":MAILTO:office@myloh.church
END:VEVENT
BEGIN:VEVENT
DTSTART;TZID=America/New_York:20240331T080000
DTEND;TZID=America/New_York:20240331T093000
DTSTAMP:20260425T102405
CREATED:20240305T172056Z
LAST-MODIFIED:20240305T172056Z
UID:10000004-1711872000-1711877400@myloh.church
SUMMARY:Easter @ LOH - 8 AM
DESCRIPTION:Join us this Easter to experience and celebrate the hope\, peace\, and victory of Jesus. To ensure everyone is able to attend\, please reserve your seats for either our 8 or 10 AM service. The service includes encouraging worship\, stories of real life change\, and an uplifting message about the hope we have in Jesus. \n– Please reserve a seat for everyone in your party (do not include children who will be sitting on an adult’s lap). \n– If your plans change\, please respond to the reservation confirmation in your email. Please do not offer seats on social media or elsewhere.
URL:https://myloh.church/event/easter-8am/
LOCATION:Lighthouse of Hope (LOH Church)\, 11507 Moss Ave.\, Cumberland\, MD\, 21502\, United States
ORGANIZER;CN="LOH Church":MAILTO:office@myloh.church
END:VEVENT
BEGIN:VEVENT
DTSTART;TZID=America/New_York:20231224T160000
DTEND;TZID=America/New_York:20231224T170000
DTSTAMP:20260425T102405
CREATED:20231129T194738Z
LAST-MODIFIED:20231129T201335Z
UID:10000001-1703433600-1703437200@myloh.church
SUMMARY:Christmas @ LOH - 4 PM
DESCRIPTION:It’s the most wonderful time of the year and we’re so excited to be able to celebrate the birth of our Savior with you! To ensure everyone is able to attend our Christmas Eve celebration\, please reserve your seats for either our 4 or 6 PM service. The evening includes Christmas carols\, a short message\, and a performance from our ShineKids. \n– Please reserve a seat for everyone in your party (do not include children who will be sitting on an adult’s lap). \n– If your plans change\, please respond to the reservation confirmation in your email. Please do not offer seats on social media or elsewhere.
URL:https://myloh.church/event/christmas-loh-4-pm/
LOCATION:Lighthouse of Hope (LOH Church)\, 11507 Moss Ave.\, Cumberland\, MD\, 21502\, United States
ORGANIZER;CN="LOH Church":MAILTO:office@myloh.church
END:VEVENT
END:VCALENDAR