BEGIN:VCALENDAR
VERSION:2.0
PRODID:-//Lighthouse of Hope Church - ECPv6.15.20//NONSGML v1.0//EN
CALSCALE:GREGORIAN
METHOD:PUBLISH
X-ORIGINAL-URL:https://myloh.church
X-WR-CALDESC:Events for Lighthouse of Hope Church
REFRESH-INTERVAL;VALUE=DURATION:PT1H
X-Robots-Tag:noindex
X-PUBLISHED-TTL:PT1H
BEGIN:VTIMEZONE
TZID:UTC
BEGIN:STANDARD
TZOFFSETFROM:+0000
TZOFFSETTO:+0000
TZNAME:UTC
DTSTART:20240101T000000
END:STANDARD
END:VTIMEZONE
BEGIN:VEVENT
DTSTART;TZID=UTC:20250427T083000
DTEND;TZID=UTC:20250427T093000
DTSTAMP:20260425T190919
CREATED:20250226T233016Z
LAST-MODIFIED:20250226T233016Z
UID:10000689-1745742600-1745746200@myloh.church
SUMMARY:Testimonies of LIGHT
DESCRIPTION:Ladies of LIGHT – join us Sunday mornings for word of hope from women of faith! \n  \n 
URL:https://myloh.church/event/testimonies-of-light/2025-04-27/
LOCATION:Lighthouse of Hope (LOH Church)\, 11507 Moss Ave.\, Cumberland\, MD\, 21502\, United States
CATEGORIES:Ladies of LIGHT
ATTACH;FMTTYPE=image/jpeg:https://myloh.church/wp-content/uploads/2025/02/ladies-testimonies.jpg
ORGANIZER;CN="LOH Church":MAILTO:office@myloh.church
END:VEVENT
BEGIN:VEVENT
DTSTART;TZID=UTC:20250423T180000
DTEND;TZID=UTC:20250423T200000
DTSTAMP:20260425T190919
CREATED:20250208T144945Z
LAST-MODIFIED:20250208T145043Z
UID:10000637-1745431200-1745438400@myloh.church
SUMMARY:Growth Track
DESCRIPTION:LOH Growth Track guides you to discover your redemptive purpose and live the life God created for you. Over 4 Wednesday\, Growth Track will work to equip you to 1) connect to the church\, 2) discover the strengths of your purposeful design\, 3) develop your God-given gifts to make a difference in the lives of others and 4) outline the next steps in your journey of faith. \nYou must pre-register for this course. To register\, please visit myLOH.church/GROW
URL:https://myloh.church/event/growth-track/2025-04-23/
LOCATION:Lighthouse of Hope (LOH Church)\, 11507 Moss Ave.\, Cumberland\, MD\, 21502\, United States
ATTACH;FMTTYPE=image/jpeg:https://myloh.church/wp-content/uploads/2025/02/Growth-Track-Slides-1-4.jpg
ORGANIZER;CN="LOH Church":MAILTO:office@myloh.church
END:VEVENT
BEGIN:VEVENT
DTSTART;TZID=UTC:20250420T180000
DTEND;TZID=UTC:20250420T200000
DTSTAMP:20260425T190919
CREATED:20241119T190330Z
LAST-MODIFIED:20250123T171729Z
UID:10000323-1745172000-1745179200@myloh.church
SUMMARY:MOVE Students
DESCRIPTION:MOVE Home is for middle and high school students curious about faith and eager to discover how a relationship with Jesus could change their lives\, their schools and city. \nOn Sunday afternoons\, students meet up with their friends for live worship\, practical teaching\, and small group conversation guided by adult leaders who care about them.
URL:https://myloh.church/event/move-students-8/2025-04-20/
LOCATION:Lighthouse of Hope (LOH Church)\, 11507 Moss Ave.\, Cumberland\, MD\, 21502\, United States
CATEGORIES:MOVE Students
ATTACH;FMTTYPE=image/jpeg:https://myloh.church/wp-content/uploads/2024/11/Web-Compressed-5.jpg
ORGANIZER;CN="LOH Church":MAILTO:office@myloh.church
END:VEVENT
BEGIN:VEVENT
DTSTART;TZID=UTC:20250418T180000
DTEND;TZID=UTC:20250418T200000
DTSTAMP:20260425T190919
CREATED:20250402T161827Z
LAST-MODIFIED:20250402T161827Z
UID:10000748-1744999200-1745006400@myloh.church
SUMMARY:Good Friday Community Worship Night
DESCRIPTION:Join us for a communal time of worship as we honor the sacrifice of the Cross.
URL:https://myloh.church/event/good-friday-community-worship-night/
LOCATION:Lighthouse of Hope (LOH Church)\, 11507 Moss Ave.\, Cumberland\, MD\, 21502\, United States
ATTACH;FMTTYPE=image/jpeg:https://myloh.church/wp-content/uploads/2025/04/good-friday-worship-night-scaled.jpg
ORGANIZER;CN="LOH Church":MAILTO:office@myloh.church
END:VEVENT
BEGIN:VEVENT
DTSTART;TZID=UTC:20250416T180000
DTEND;TZID=UTC:20250416T200000
DTSTAMP:20260425T190919
CREATED:20250208T144945Z
LAST-MODIFIED:20250208T145043Z
UID:10000636-1744826400-1744833600@myloh.church
SUMMARY:Growth Track
DESCRIPTION:LOH Growth Track guides you to discover your redemptive purpose and live the life God created for you. Over 4 Wednesday\, Growth Track will work to equip you to 1) connect to the church\, 2) discover the strengths of your purposeful design\, 3) develop your God-given gifts to make a difference in the lives of others and 4) outline the next steps in your journey of faith. \nYou must pre-register for this course. To register\, please visit myLOH.church/GROW
URL:https://myloh.church/event/growth-track/2025-04-16/
LOCATION:Lighthouse of Hope (LOH Church)\, 11507 Moss Ave.\, Cumberland\, MD\, 21502\, United States
ATTACH;FMTTYPE=image/jpeg:https://myloh.church/wp-content/uploads/2025/02/Growth-Track-Slides-1-4.jpg
ORGANIZER;CN="LOH Church":MAILTO:office@myloh.church
END:VEVENT
BEGIN:VEVENT
DTSTART;TZID=UTC:20250413T180000
DTEND;TZID=UTC:20250413T200000
DTSTAMP:20260425T190919
CREATED:20241119T190330Z
LAST-MODIFIED:20250123T171729Z
UID:10000322-1744567200-1744574400@myloh.church
SUMMARY:MOVE Students
DESCRIPTION:MOVE Home is for middle and high school students curious about faith and eager to discover how a relationship with Jesus could change their lives\, their schools and city. \nOn Sunday afternoons\, students meet up with their friends for live worship\, practical teaching\, and small group conversation guided by adult leaders who care about them.
URL:https://myloh.church/event/move-students-8/2025-04-13/
LOCATION:Lighthouse of Hope (LOH Church)\, 11507 Moss Ave.\, Cumberland\, MD\, 21502\, United States
CATEGORIES:MOVE Students
ATTACH;FMTTYPE=image/jpeg:https://myloh.church/wp-content/uploads/2024/11/Web-Compressed-5.jpg
ORGANIZER;CN="LOH Church":MAILTO:office@myloh.church
END:VEVENT
BEGIN:VEVENT
DTSTART;TZID=UTC:20250413T083000
DTEND;TZID=UTC:20250413T093000
DTSTAMP:20260425T190919
CREATED:20250226T233016Z
LAST-MODIFIED:20250226T233016Z
UID:10000688-1744533000-1744536600@myloh.church
SUMMARY:Testimonies of LIGHT
DESCRIPTION:Ladies of LIGHT – join us Sunday mornings for word of hope from women of faith! \n  \n 
URL:https://myloh.church/event/testimonies-of-light/2025-04-13/
LOCATION:Lighthouse of Hope (LOH Church)\, 11507 Moss Ave.\, Cumberland\, MD\, 21502\, United States
CATEGORIES:Ladies of LIGHT
ATTACH;FMTTYPE=image/jpeg:https://myloh.church/wp-content/uploads/2025/02/ladies-testimonies.jpg
ORGANIZER;CN="LOH Church":MAILTO:office@myloh.church
END:VEVENT
BEGIN:VEVENT
DTSTART;TZID=UTC:20250409T180000
DTEND;TZID=UTC:20250409T200000
DTSTAMP:20260425T190919
CREATED:20250208T144945Z
LAST-MODIFIED:20250208T145043Z
UID:10000635-1744221600-1744228800@myloh.church
SUMMARY:Growth Track
DESCRIPTION:LOH Growth Track guides you to discover your redemptive purpose and live the life God created for you. Over 4 Wednesday\, Growth Track will work to equip you to 1) connect to the church\, 2) discover the strengths of your purposeful design\, 3) develop your God-given gifts to make a difference in the lives of others and 4) outline the next steps in your journey of faith. \nYou must pre-register for this course. To register\, please visit myLOH.church/GROW
URL:https://myloh.church/event/growth-track/2025-04-09/
LOCATION:Lighthouse of Hope (LOH Church)\, 11507 Moss Ave.\, Cumberland\, MD\, 21502\, United States
ATTACH;FMTTYPE=image/jpeg:https://myloh.church/wp-content/uploads/2025/02/Growth-Track-Slides-1-4.jpg
ORGANIZER;CN="LOH Church":MAILTO:office@myloh.church
END:VEVENT
BEGIN:VEVENT
DTSTART;TZID=UTC:20250406T180000
DTEND;TZID=UTC:20250406T200000
DTSTAMP:20260425T190919
CREATED:20241119T190330Z
LAST-MODIFIED:20250123T171729Z
UID:10000321-1743962400-1743969600@myloh.church
SUMMARY:MOVE Students
DESCRIPTION:MOVE Home is for middle and high school students curious about faith and eager to discover how a relationship with Jesus could change their lives\, their schools and city. \nOn Sunday afternoons\, students meet up with their friends for live worship\, practical teaching\, and small group conversation guided by adult leaders who care about them.
URL:https://myloh.church/event/move-students-8/2025-04-06/
LOCATION:Lighthouse of Hope (LOH Church)\, 11507 Moss Ave.\, Cumberland\, MD\, 21502\, United States
CATEGORIES:MOVE Students
ATTACH;FMTTYPE=image/jpeg:https://myloh.church/wp-content/uploads/2024/11/Web-Compressed-5.jpg
ORGANIZER;CN="LOH Church":MAILTO:office@myloh.church
END:VEVENT
BEGIN:VEVENT
DTSTART;TZID=UTC:20250406T083000
DTEND;TZID=UTC:20250406T093000
DTSTAMP:20260425T190919
CREATED:20250226T233016Z
LAST-MODIFIED:20250226T233016Z
UID:10000687-1743928200-1743931800@myloh.church
SUMMARY:Testimonies of LIGHT
DESCRIPTION:Ladies of LIGHT – join us Sunday mornings for word of hope from women of faith! \n  \n 
URL:https://myloh.church/event/testimonies-of-light/2025-04-06/
LOCATION:Lighthouse of Hope (LOH Church)\, 11507 Moss Ave.\, Cumberland\, MD\, 21502\, United States
CATEGORIES:Ladies of LIGHT
ATTACH;FMTTYPE=image/jpeg:https://myloh.church/wp-content/uploads/2025/02/ladies-testimonies.jpg
ORGANIZER;CN="LOH Church":MAILTO:office@myloh.church
END:VEVENT
BEGIN:VEVENT
DTSTART;TZID=UTC:20250402T180000
DTEND;TZID=UTC:20250402T200000
DTSTAMP:20260425T190919
CREATED:20250208T144945Z
LAST-MODIFIED:20250208T145043Z
UID:10000634-1743616800-1743624000@myloh.church
SUMMARY:Growth Track
DESCRIPTION:LOH Growth Track guides you to discover your redemptive purpose and live the life God created for you. Over 4 Wednesday\, Growth Track will work to equip you to 1) connect to the church\, 2) discover the strengths of your purposeful design\, 3) develop your God-given gifts to make a difference in the lives of others and 4) outline the next steps in your journey of faith. \nYou must pre-register for this course. To register\, please visit myLOH.church/GROW
URL:https://myloh.church/event/growth-track/2025-04-02/
LOCATION:Lighthouse of Hope (LOH Church)\, 11507 Moss Ave.\, Cumberland\, MD\, 21502\, United States
ATTACH;FMTTYPE=image/jpeg:https://myloh.church/wp-content/uploads/2025/02/Growth-Track-Slides-1-4.jpg
ORGANIZER;CN="LOH Church":MAILTO:office@myloh.church
END:VEVENT
BEGIN:VEVENT
DTSTART;TZID=UTC:20250330T180000
DTEND;TZID=UTC:20250330T200000
DTSTAMP:20260425T190919
CREATED:20241119T190330Z
LAST-MODIFIED:20250123T171729Z
UID:10000320-1743357600-1743364800@myloh.church
SUMMARY:MOVE Students
DESCRIPTION:MOVE Home is for middle and high school students curious about faith and eager to discover how a relationship with Jesus could change their lives\, their schools and city. \nOn Sunday afternoons\, students meet up with their friends for live worship\, practical teaching\, and small group conversation guided by adult leaders who care about them.
URL:https://myloh.church/event/move-students-8/2025-03-30/
LOCATION:Lighthouse of Hope (LOH Church)\, 11507 Moss Ave.\, Cumberland\, MD\, 21502\, United States
CATEGORIES:MOVE Students
ATTACH;FMTTYPE=image/jpeg:https://myloh.church/wp-content/uploads/2024/11/Web-Compressed-5.jpg
ORGANIZER;CN="LOH Church":MAILTO:office@myloh.church
END:VEVENT
BEGIN:VEVENT
DTSTART;TZID=UTC:20250327T180000
DTEND;TZID=UTC:20250327T200000
DTSTAMP:20260425T190919
CREATED:20250226T234836Z
LAST-MODIFIED:20250226T234836Z
UID:10000744-1743098400-1743105600@myloh.church
SUMMARY:Ladies Spring Craft Night
DESCRIPTION:Join the Ladies of LIGHT for a fun night of craft creations\, hosted by Rose Street Creation! Donation of $25 to the host for the craft.
URL:https://myloh.church/event/ladies-spring-craft-night/
LOCATION:249 Virginia Ave.\, Cumberland\, MD\, 249 Virginia Avenue\, Cumberland\, MD\, 21502\, United States
CATEGORIES:Ladies of LIGHT
ATTACH;FMTTYPE=image/jpeg:https://myloh.church/wp-content/uploads/2025/02/ladies-spring-craft-2025-scaled.jpg
ORGANIZER;CN="LOH Church":MAILTO:office@myloh.church
END:VEVENT
BEGIN:VEVENT
DTSTART;TZID=UTC:20250326T180000
DTEND;TZID=UTC:20250326T200000
DTSTAMP:20260425T190919
CREATED:20250208T144945Z
LAST-MODIFIED:20250208T145043Z
UID:10000633-1743012000-1743019200@myloh.church
SUMMARY:Growth Track
DESCRIPTION:LOH Growth Track guides you to discover your redemptive purpose and live the life God created for you. Over 4 Wednesday\, Growth Track will work to equip you to 1) connect to the church\, 2) discover the strengths of your purposeful design\, 3) develop your God-given gifts to make a difference in the lives of others and 4) outline the next steps in your journey of faith. \nYou must pre-register for this course. To register\, please visit myLOH.church/GROW
URL:https://myloh.church/event/growth-track/2025-03-26/
LOCATION:Lighthouse of Hope (LOH Church)\, 11507 Moss Ave.\, Cumberland\, MD\, 21502\, United States
ATTACH;FMTTYPE=image/jpeg:https://myloh.church/wp-content/uploads/2025/02/Growth-Track-Slides-1-4.jpg
ORGANIZER;CN="LOH Church":MAILTO:office@myloh.church
END:VEVENT
BEGIN:VEVENT
DTSTART;TZID=UTC:20250323T180000
DTEND;TZID=UTC:20250323T200000
DTSTAMP:20260425T190919
CREATED:20241119T190330Z
LAST-MODIFIED:20250123T171729Z
UID:10000319-1742752800-1742760000@myloh.church
SUMMARY:MOVE Students
DESCRIPTION:MOVE Home is for middle and high school students curious about faith and eager to discover how a relationship with Jesus could change their lives\, their schools and city. \nOn Sunday afternoons\, students meet up with their friends for live worship\, practical teaching\, and small group conversation guided by adult leaders who care about them.
URL:https://myloh.church/event/move-students-8/2025-03-23/
LOCATION:Lighthouse of Hope (LOH Church)\, 11507 Moss Ave.\, Cumberland\, MD\, 21502\, United States
CATEGORIES:MOVE Students
ATTACH;FMTTYPE=image/jpeg:https://myloh.church/wp-content/uploads/2024/11/Web-Compressed-5.jpg
ORGANIZER;CN="LOH Church":MAILTO:office@myloh.church
END:VEVENT
BEGIN:VEVENT
DTSTART;TZID=UTC:20250319T180000
DTEND;TZID=UTC:20250319T200000
DTSTAMP:20260425T190919
CREATED:20250208T144945Z
LAST-MODIFIED:20250208T145043Z
UID:10000632-1742407200-1742414400@myloh.church
SUMMARY:Growth Track
DESCRIPTION:LOH Growth Track guides you to discover your redemptive purpose and live the life God created for you. Over 4 Wednesday\, Growth Track will work to equip you to 1) connect to the church\, 2) discover the strengths of your purposeful design\, 3) develop your God-given gifts to make a difference in the lives of others and 4) outline the next steps in your journey of faith. \nYou must pre-register for this course. To register\, please visit myLOH.church/GROW
URL:https://myloh.church/event/growth-track/2025-03-19/
LOCATION:Lighthouse of Hope (LOH Church)\, 11507 Moss Ave.\, Cumberland\, MD\, 21502\, United States
ATTACH;FMTTYPE=image/jpeg:https://myloh.church/wp-content/uploads/2025/02/Growth-Track-Slides-1-4.jpg
ORGANIZER;CN="LOH Church":MAILTO:office@myloh.church
END:VEVENT
BEGIN:VEVENT
DTSTART;TZID=UTC:20250316T180000
DTEND;TZID=UTC:20250316T200000
DTSTAMP:20260425T190919
CREATED:20241119T190330Z
LAST-MODIFIED:20250123T171729Z
UID:10000318-1742148000-1742155200@myloh.church
SUMMARY:MOVE Students
DESCRIPTION:MOVE Home is for middle and high school students curious about faith and eager to discover how a relationship with Jesus could change their lives\, their schools and city. \nOn Sunday afternoons\, students meet up with their friends for live worship\, practical teaching\, and small group conversation guided by adult leaders who care about them.
URL:https://myloh.church/event/move-students-8/2025-03-16/
LOCATION:Lighthouse of Hope (LOH Church)\, 11507 Moss Ave.\, Cumberland\, MD\, 21502\, United States
CATEGORIES:MOVE Students
ATTACH;FMTTYPE=image/jpeg:https://myloh.church/wp-content/uploads/2024/11/Web-Compressed-5.jpg
ORGANIZER;CN="LOH Church":MAILTO:office@myloh.church
END:VEVENT
BEGIN:VEVENT
DTSTART;TZID=UTC:20250312T180000
DTEND;TZID=UTC:20250312T200000
DTSTAMP:20260425T190919
CREATED:20250208T144945Z
LAST-MODIFIED:20250208T145043Z
UID:10000631-1741802400-1741809600@myloh.church
SUMMARY:Growth Track
DESCRIPTION:LOH Growth Track guides you to discover your redemptive purpose and live the life God created for you. Over 4 Wednesday\, Growth Track will work to equip you to 1) connect to the church\, 2) discover the strengths of your purposeful design\, 3) develop your God-given gifts to make a difference in the lives of others and 4) outline the next steps in your journey of faith. \nYou must pre-register for this course. To register\, please visit myLOH.church/GROW
URL:https://myloh.church/event/growth-track/2025-03-12/
LOCATION:Lighthouse of Hope (LOH Church)\, 11507 Moss Ave.\, Cumberland\, MD\, 21502\, United States
ATTACH;FMTTYPE=image/jpeg:https://myloh.church/wp-content/uploads/2025/02/Growth-Track-Slides-1-4.jpg
ORGANIZER;CN="LOH Church":MAILTO:office@myloh.church
END:VEVENT
BEGIN:VEVENT
DTSTART;TZID=UTC:20250309T180000
DTEND;TZID=UTC:20250309T200000
DTSTAMP:20260425T190919
CREATED:20241119T190330Z
LAST-MODIFIED:20250123T171729Z
UID:10000317-1741543200-1741550400@myloh.church
SUMMARY:MOVE Students
DESCRIPTION:MOVE Home is for middle and high school students curious about faith and eager to discover how a relationship with Jesus could change their lives\, their schools and city. \nOn Sunday afternoons\, students meet up with their friends for live worship\, practical teaching\, and small group conversation guided by adult leaders who care about them.
URL:https://myloh.church/event/move-students-8/2025-03-09/
LOCATION:Lighthouse of Hope (LOH Church)\, 11507 Moss Ave.\, Cumberland\, MD\, 21502\, United States
CATEGORIES:MOVE Students
ATTACH;FMTTYPE=image/jpeg:https://myloh.church/wp-content/uploads/2024/11/Web-Compressed-5.jpg
ORGANIZER;CN="LOH Church":MAILTO:office@myloh.church
END:VEVENT
BEGIN:VEVENT
DTSTART;TZID=UTC:20250305T180000
DTEND;TZID=UTC:20250305T200000
DTSTAMP:20260425T190919
CREATED:20250208T144945Z
LAST-MODIFIED:20250208T145043Z
UID:10000630-1741197600-1741204800@myloh.church
SUMMARY:Growth Track
DESCRIPTION:LOH Growth Track guides you to discover your redemptive purpose and live the life God created for you. Over 4 Wednesday\, Growth Track will work to equip you to 1) connect to the church\, 2) discover the strengths of your purposeful design\, 3) develop your God-given gifts to make a difference in the lives of others and 4) outline the next steps in your journey of faith. \nYou must pre-register for this course. To register\, please visit myLOH.church/GROW
URL:https://myloh.church/event/growth-track/2025-03-05/
LOCATION:Lighthouse of Hope (LOH Church)\, 11507 Moss Ave.\, Cumberland\, MD\, 21502\, United States
ATTACH;FMTTYPE=image/jpeg:https://myloh.church/wp-content/uploads/2025/02/Growth-Track-Slides-1-4.jpg
ORGANIZER;CN="LOH Church":MAILTO:office@myloh.church
END:VEVENT
BEGIN:VEVENT
DTSTART;TZID=UTC:20250302T180000
DTEND;TZID=UTC:20250302T200000
DTSTAMP:20260425T190919
CREATED:20241119T190330Z
LAST-MODIFIED:20250123T171729Z
UID:10000316-1740938400-1740945600@myloh.church
SUMMARY:MOVE Students
DESCRIPTION:MOVE Home is for middle and high school students curious about faith and eager to discover how a relationship with Jesus could change their lives\, their schools and city. \nOn Sunday afternoons\, students meet up with their friends for live worship\, practical teaching\, and small group conversation guided by adult leaders who care about them.
URL:https://myloh.church/event/move-students-8/2025-03-02/
LOCATION:Lighthouse of Hope (LOH Church)\, 11507 Moss Ave.\, Cumberland\, MD\, 21502\, United States
CATEGORIES:MOVE Students
ATTACH;FMTTYPE=image/jpeg:https://myloh.church/wp-content/uploads/2024/11/Web-Compressed-5.jpg
ORGANIZER;CN="LOH Church":MAILTO:office@myloh.church
END:VEVENT
BEGIN:VEVENT
DTSTART;TZID=UTC:20250228T170000
DTEND;TZID=UTC:20250228T210000
DTSTAMP:20260425T190919
CREATED:20250123T172431Z
LAST-MODIFIED:20250211T151408Z
UID:10000629-1740762000-1740776400@myloh.church
SUMMARY:LOH XO Marriage Conference
DESCRIPTION:Join us for our annual LOH XO Marriage Conference – hosted at the Villa! Registration fee is $50 per couple. Dinner\, dessert\, and study materials provided.
URL:https://myloh.church/event/loh-xo-marriage-conference/
LOCATION:The Villa\, 14701 Smouses Mill Rd NE\, Cumberland\, MD\, 21502\, United States
CATEGORIES:Brotherhood of Hope,Ladies of LIGHT
ATTACH;FMTTYPE=image/jpeg:https://myloh.church/wp-content/uploads/2025/01/Your-paragraph-text.jpg
ORGANIZER;CN="LOH Church":MAILTO:office@myloh.church
END:VEVENT
BEGIN:VEVENT
DTSTART;TZID=UTC:20250226T183000
DTEND;TZID=UTC:20250226T203000
DTSTAMP:20260425T190919
CREATED:20250123T172155Z
LAST-MODIFIED:20250208T145249Z
UID:10000576-1740594600-1740601800@myloh.church
SUMMARY:Vertical Marriage Workshop
DESCRIPTION:5 week marriage workshop leading up to our annual LOH marriage conference!
URL:https://myloh.church/event/vertical-marriage-workshop/2025-02-26/
LOCATION:Lighthouse of Hope (LOH Church)\, 11507 Moss Ave.\, Cumberland\, MD\, 21502\, United States
CATEGORIES:Ladies of LIGHT
ATTACH;FMTTYPE=image/jpeg:https://myloh.church/wp-content/uploads/2025/01/Marriage-Workshop-Flyers-.jpg
ORGANIZER;CN="LOH Church":MAILTO:office@myloh.church
END:VEVENT
BEGIN:VEVENT
DTSTART;TZID=UTC:20250223T180000
DTEND;TZID=UTC:20250223T200000
DTSTAMP:20260425T190919
CREATED:20241119T190330Z
LAST-MODIFIED:20250123T171729Z
UID:10000315-1740333600-1740340800@myloh.church
SUMMARY:MOVE Students
DESCRIPTION:MOVE Home is for middle and high school students curious about faith and eager to discover how a relationship with Jesus could change their lives\, their schools and city. \nOn Sunday afternoons\, students meet up with their friends for live worship\, practical teaching\, and small group conversation guided by adult leaders who care about them.
URL:https://myloh.church/event/move-students-8/2025-02-23/
LOCATION:Lighthouse of Hope (LOH Church)\, 11507 Moss Ave.\, Cumberland\, MD\, 21502\, United States
CATEGORIES:MOVE Students
ATTACH;FMTTYPE=image/jpeg:https://myloh.church/wp-content/uploads/2024/11/Web-Compressed-5.jpg
ORGANIZER;CN="LOH Church":MAILTO:office@myloh.church
END:VEVENT
BEGIN:VEVENT
DTSTART;TZID=UTC:20250219T183000
DTEND;TZID=UTC:20250219T203000
DTSTAMP:20260425T190919
CREATED:20250123T172155Z
LAST-MODIFIED:20250208T145249Z
UID:10000575-1739989800-1739997000@myloh.church
SUMMARY:Vertical Marriage Workshop
DESCRIPTION:5 week marriage workshop leading up to our annual LOH marriage conference!
URL:https://myloh.church/event/vertical-marriage-workshop/2025-02-19/
LOCATION:Lighthouse of Hope (LOH Church)\, 11507 Moss Ave.\, Cumberland\, MD\, 21502\, United States
CATEGORIES:Ladies of LIGHT
ATTACH;FMTTYPE=image/jpeg:https://myloh.church/wp-content/uploads/2025/01/Marriage-Workshop-Flyers-.jpg
ORGANIZER;CN="LOH Church":MAILTO:office@myloh.church
END:VEVENT
BEGIN:VEVENT
DTSTART;TZID=UTC:20250216T180000
DTEND;TZID=UTC:20250216T200000
DTSTAMP:20260425T190919
CREATED:20241119T190330Z
LAST-MODIFIED:20250123T171729Z
UID:10000314-1739728800-1739736000@myloh.church
SUMMARY:MOVE Students
DESCRIPTION:MOVE Home is for middle and high school students curious about faith and eager to discover how a relationship with Jesus could change their lives\, their schools and city. \nOn Sunday afternoons\, students meet up with their friends for live worship\, practical teaching\, and small group conversation guided by adult leaders who care about them.
URL:https://myloh.church/event/move-students-8/2025-02-16/
LOCATION:Lighthouse of Hope (LOH Church)\, 11507 Moss Ave.\, Cumberland\, MD\, 21502\, United States
CATEGORIES:MOVE Students
ATTACH;FMTTYPE=image/jpeg:https://myloh.church/wp-content/uploads/2024/11/Web-Compressed-5.jpg
ORGANIZER;CN="LOH Church":MAILTO:office@myloh.church
END:VEVENT
BEGIN:VEVENT
DTSTART;TZID=UTC:20250212T183000
DTEND;TZID=UTC:20250212T203000
DTSTAMP:20260425T190919
CREATED:20250123T172155Z
LAST-MODIFIED:20250208T145249Z
UID:10000574-1739385000-1739392200@myloh.church
SUMMARY:Vertical Marriage Workshop
DESCRIPTION:5 week marriage workshop leading up to our annual LOH marriage conference!
URL:https://myloh.church/event/vertical-marriage-workshop/2025-02-12/
LOCATION:Lighthouse of Hope (LOH Church)\, 11507 Moss Ave.\, Cumberland\, MD\, 21502\, United States
CATEGORIES:Ladies of LIGHT
ATTACH;FMTTYPE=image/jpeg:https://myloh.church/wp-content/uploads/2025/01/Marriage-Workshop-Flyers-.jpg
ORGANIZER;CN="LOH Church":MAILTO:office@myloh.church
END:VEVENT
BEGIN:VEVENT
DTSTART;TZID=UTC:20250209T180000
DTEND;TZID=UTC:20250209T200000
DTSTAMP:20260425T190919
CREATED:20241119T190330Z
LAST-MODIFIED:20250123T171729Z
UID:10000313-1739124000-1739131200@myloh.church
SUMMARY:MOVE Students
DESCRIPTION:MOVE Home is for middle and high school students curious about faith and eager to discover how a relationship with Jesus could change their lives\, their schools and city. \nOn Sunday afternoons\, students meet up with their friends for live worship\, practical teaching\, and small group conversation guided by adult leaders who care about them.
URL:https://myloh.church/event/move-students-8/2025-02-09/
LOCATION:Lighthouse of Hope (LOH Church)\, 11507 Moss Ave.\, Cumberland\, MD\, 21502\, United States
CATEGORIES:MOVE Students
ATTACH;FMTTYPE=image/jpeg:https://myloh.church/wp-content/uploads/2024/11/Web-Compressed-5.jpg
ORGANIZER;CN="LOH Church":MAILTO:office@myloh.church
END:VEVENT
BEGIN:VEVENT
DTSTART;TZID=UTC:20250205T183000
DTEND;TZID=UTC:20250205T203000
DTSTAMP:20260425T190919
CREATED:20250123T172155Z
LAST-MODIFIED:20250208T145249Z
UID:10000573-1738780200-1738787400@myloh.church
SUMMARY:Vertical Marriage Workshop
DESCRIPTION:5 week marriage workshop leading up to our annual LOH marriage conference!
URL:https://myloh.church/event/vertical-marriage-workshop/2025-02-05/
LOCATION:Lighthouse of Hope (LOH Church)\, 11507 Moss Ave.\, Cumberland\, MD\, 21502\, United States
CATEGORIES:Ladies of LIGHT
ATTACH;FMTTYPE=image/jpeg:https://myloh.church/wp-content/uploads/2025/01/Marriage-Workshop-Flyers-.jpg
ORGANIZER;CN="LOH Church":MAILTO:office@myloh.church
END:VEVENT
BEGIN:VEVENT
DTSTART;TZID=UTC:20250202T180000
DTEND;TZID=UTC:20250202T200000
DTSTAMP:20260425T190919
CREATED:20241119T190330Z
LAST-MODIFIED:20250123T171729Z
UID:10000312-1738519200-1738526400@myloh.church
SUMMARY:MOVE Students
DESCRIPTION:MOVE Home is for middle and high school students curious about faith and eager to discover how a relationship with Jesus could change their lives\, their schools and city. \nOn Sunday afternoons\, students meet up with their friends for live worship\, practical teaching\, and small group conversation guided by adult leaders who care about them.
URL:https://myloh.church/event/move-students-8/2025-02-02/
LOCATION:Lighthouse of Hope (LOH Church)\, 11507 Moss Ave.\, Cumberland\, MD\, 21502\, United States
CATEGORIES:MOVE Students
ATTACH;FMTTYPE=image/jpeg:https://myloh.church/wp-content/uploads/2024/11/Web-Compressed-5.jpg
ORGANIZER;CN="LOH Church":MAILTO:office@myloh.church
END:VEVENT
END:VCALENDAR