BEGIN:VCALENDAR
VERSION:2.0
PRODID:-//Lighthouse of Hope Church - ECPv6.15.20//NONSGML v1.0//EN
CALSCALE:GREGORIAN
METHOD:PUBLISH
X-ORIGINAL-URL:https://myloh.church
X-WR-CALDESC:Events for Lighthouse of Hope Church
REFRESH-INTERVAL;VALUE=DURATION:PT1H
X-Robots-Tag:noindex
X-PUBLISHED-TTL:PT1H
BEGIN:VTIMEZONE
TZID:America/New_York
BEGIN:DAYLIGHT
TZOFFSETFROM:-0500
TZOFFSETTO:-0400
TZNAME:EDT
DTSTART:20230312T070000
END:DAYLIGHT
BEGIN:STANDARD
TZOFFSETFROM:-0400
TZOFFSETTO:-0500
TZNAME:EST
DTSTART:20231105T060000
END:STANDARD
BEGIN:DAYLIGHT
TZOFFSETFROM:-0500
TZOFFSETTO:-0400
TZNAME:EDT
DTSTART:20240310T070000
END:DAYLIGHT
BEGIN:STANDARD
TZOFFSETFROM:-0400
TZOFFSETTO:-0500
TZNAME:EST
DTSTART:20241103T060000
END:STANDARD
BEGIN:DAYLIGHT
TZOFFSETFROM:-0500
TZOFFSETTO:-0400
TZNAME:EDT
DTSTART:20250309T070000
END:DAYLIGHT
BEGIN:STANDARD
TZOFFSETFROM:-0400
TZOFFSETTO:-0500
TZNAME:EST
DTSTART:20251102T060000
END:STANDARD
BEGIN:DAYLIGHT
TZOFFSETFROM:-0500
TZOFFSETTO:-0400
TZNAME:EDT
DTSTART:20260308T070000
END:DAYLIGHT
BEGIN:STANDARD
TZOFFSETFROM:-0400
TZOFFSETTO:-0500
TZNAME:EST
DTSTART:20261101T060000
END:STANDARD
END:VTIMEZONE
BEGIN:VEVENT
DTSTART;TZID=America/New_York:20251024T170000
DTEND;TZID=America/New_York:20251024T200000
DTSTAMP:20260425T121153
CREATED:20251005T135729Z
LAST-MODIFIED:20251005T140240Z
UID:10001510-1761325200-1761336000@myloh.church
SUMMARY:Fall Family Night
DESCRIPTION:FALL FAMILY NIGHT\n\nOctober 24  • 5-8 PM\n@ Brookedale Farm\n\n\n\n\nSave the date and invite your friends to Fall Family Night at Brookedale Farm on October 25! The party starts at 5 PM. Admission is free if you RSVP by Sunday 10.19!
URL:https://myloh.church/event/fall-family-night-2/
LOCATION:Brookedale Farm\, 369 Georges Run Road\, Fort Ashby\, WV\, 26726\, United States
ATTACH;FMTTYPE=image/jpeg:https://myloh.church/wp-content/uploads/2025/10/1.jpg
ORGANIZER;CN="LOH Church":MAILTO:office@myloh.church
END:VEVENT
BEGIN:VEVENT
DTSTART;TZID=America/New_York:20241025T170000
DTEND;TZID=America/New_York:20241025T210000
DTSTAMP:20260425T121153
CREATED:20241001T171815Z
LAST-MODIFIED:20241001T175130Z
UID:10000005-1729875600-1729890000@myloh.church
SUMMARY:Fall Family Night
DESCRIPTION:FALL FAMILY NIGHT\n\nOctober 25  • 5 PM\n@ Brookedale Farm\n\n\n\n\nSave the date and invite your friends to Fall Family Night at Brookedale Farm on October 25! The party starts at 5 PM. Admission is free if you RSVP by Sunday 10.20. \n\nRSVP
URL:https://myloh.church/event/fall-family-night/
LOCATION:Brookedale Farm\, 369 Georges Run Road\, Fort Ashby\, WV\, 26726\, United States
ATTACH;FMTTYPE=image/png:https://myloh.church/wp-content/uploads/2024/10/fall-family-night.png
ORGANIZER;CN="LOH Church":MAILTO:office@myloh.church
END:VEVENT
END:VCALENDAR