BEGIN:VCALENDAR
VERSION:2.0
PRODID:-//Lighthouse of Hope Church - ECPv6.15.20//NONSGML v1.0//EN
CALSCALE:GREGORIAN
METHOD:PUBLISH
X-WR-CALNAME:Lighthouse of Hope Church
X-ORIGINAL-URL:https://myloh.church
X-WR-CALDESC:Events for Lighthouse of Hope Church
REFRESH-INTERVAL;VALUE=DURATION:PT1H
X-Robots-Tag:noindex
X-PUBLISHED-TTL:PT1H
BEGIN:VTIMEZONE
TZID:UTC
BEGIN:STANDARD
TZOFFSETFROM:+0000
TZOFFSETTO:+0000
TZNAME:UTC
DTSTART:20230101T000000
END:STANDARD
END:VTIMEZONE
BEGIN:VEVENT
DTSTART;TZID=UTC:20260220T170000
DTEND;TZID=UTC:20260220T210000
DTSTAMP:20260425T125647
CREATED:20260125T132534Z
LAST-MODIFIED:20260125T132534Z
UID:10001520-1771606800-1771621200@myloh.church
SUMMARY:LOH 2026 Marriage Conference
DESCRIPTION:Join us for our annual LOH Marriage Conference – hosted at the Villa! Registration fee is $40 per couple. Dinner\, dessert\, and study materials provided.
URL:https://myloh.church/event/loh-2026-marriage-conference/
LOCATION:The Villa\, 14701 Smouses Mill Rd NE\, Cumberland\, MD\, 21502\, United States
CATEGORIES:Brotherhood of Hope,Ladies of LIGHT
ATTACH;FMTTYPE=image/jpeg:https://myloh.church/wp-content/uploads/2026/01/marriage-26-save-the-date.jpg
ORGANIZER;CN="LOH Church":MAILTO:office@myloh.church
END:VEVENT
BEGIN:VEVENT
DTSTART;TZID=UTC:20250228T170000
DTEND;TZID=UTC:20250228T210000
DTSTAMP:20260425T125647
CREATED:20250123T172431Z
LAST-MODIFIED:20250211T151408Z
UID:10000629-1740762000-1740776400@myloh.church
SUMMARY:LOH XO Marriage Conference
DESCRIPTION:Join us for our annual LOH XO Marriage Conference – hosted at the Villa! Registration fee is $50 per couple. Dinner\, dessert\, and study materials provided.
URL:https://myloh.church/event/loh-xo-marriage-conference/
LOCATION:The Villa\, 14701 Smouses Mill Rd NE\, Cumberland\, MD\, 21502\, United States
CATEGORIES:Brotherhood of Hope,Ladies of LIGHT
ATTACH;FMTTYPE=image/jpeg:https://myloh.church/wp-content/uploads/2025/01/Your-paragraph-text.jpg
ORGANIZER;CN="LOH Church":MAILTO:office@myloh.church
END:VEVENT
BEGIN:VEVENT
DTSTART;TZID=UTC:20241121T180000
DTEND;TZID=UTC:20241121T203000
DTSTAMP:20260425T125647
CREATED:20241112T201312Z
LAST-MODIFIED:20241119T185629Z
UID:10000026-1732212000-1732221000@myloh.church
SUMMARY:Ladies of LIGHT Friendsgiving
DESCRIPTION:The Ladies of LIGHT annual Friendsgiving is Thursday – November 21st – hosted by our friends at the Villa. The party starts at 6 PM with great food\, games\, and a testimony from our very own Joyanna Ellsworth.
URL:https://myloh.church/event/ladies-of-light-friendsgiving/
LOCATION:The Villa\, 14701 Smouses Mill Rd NE\, Cumberland\, MD\, 21502\, United States
CATEGORIES:Ladies of LIGHT
ATTACH;FMTTYPE=image/jpeg:https://myloh.church/wp-content/uploads/2024/11/Web-Compressed-4.jpg
END:VEVENT
END:VCALENDAR